BEGIN:VCALENDAR
VERSION:2.0
PRODID:-//UVP TECHNICOM - ECPv6.15.20//NONSGML v1.0//EN
CALSCALE:GREGORIAN
METHOD:PUBLISH
X-WR-CALNAME:UVP TECHNICOM
X-ORIGINAL-URL:https://uvptechnicom.sk
X-WR-CALDESC:Events for UVP TECHNICOM
REFRESH-INTERVAL;VALUE=DURATION:PT1H
X-Robots-Tag:noindex
X-PUBLISHED-TTL:PT1H
BEGIN:VTIMEZONE
TZID:Europe/Bratislava
BEGIN:DAYLIGHT
TZOFFSETFROM:+0100
TZOFFSETTO:+0200
TZNAME:CEST
DTSTART:20230326T010000
END:DAYLIGHT
BEGIN:STANDARD
TZOFFSETFROM:+0200
TZOFFSETTO:+0100
TZNAME:CET
DTSTART:20231029T010000
END:STANDARD
BEGIN:DAYLIGHT
TZOFFSETFROM:+0100
TZOFFSETTO:+0200
TZNAME:CEST
DTSTART:20240331T010000
END:DAYLIGHT
BEGIN:STANDARD
TZOFFSETFROM:+0200
TZOFFSETTO:+0100
TZNAME:CET
DTSTART:20241027T010000
END:STANDARD
BEGIN:DAYLIGHT
TZOFFSETFROM:+0100
TZOFFSETTO:+0200
TZNAME:CEST
DTSTART:20250330T010000
END:DAYLIGHT
BEGIN:STANDARD
TZOFFSETFROM:+0200
TZOFFSETTO:+0100
TZNAME:CET
DTSTART:20251026T010000
END:STANDARD
END:VTIMEZONE
BEGIN:VEVENT
DTSTART;VALUE=DATE:20241202
DTEND;VALUE=DATE:20241221
DTSTAMP:20260422T214105
CREATED:20240617T080122Z
LAST-MODIFIED:20240617T080437Z
UID:31194-1733097600-1734739199@uvptechnicom.sk
SUMMARY:VIRTUAL BROKERAGE EVENT @ INNOVATION VILLAGE 2024
DESCRIPTION:Pozývame vás na virtuálne kooperačné podujatie VIRTUAL BROKERAGE EVENT @ INNOVATION VILLAGE 2024 so zameraním na udržateľné a inteligentné technológie a riešenia pre dosiahnutie “dvojitej” zelenej a digitálnej transformácie. \n\nDátum konania: 2.– 20. december 2024Miesto konania: Taliansko/on-linePrihláška: Registration | VIRTUAL BROKERAGE EVENT @ INNOVATION VILLAGE 2024 (b2match.com)Web stránka podujatia: Home | VIRTUAL BROKERAGE EVENT @ INNOVATION VILLAGE 2024 (b2match.com) \n\nZameranie podujatia: \n• Kultúrne dedičstvo\, Digitálne vzdelávanie\, Kreatívny priemysel\, Sociálne inovácie\, Cestovný ruch;• Letecký a kozmický priemysel\, Logistika\, Udržateľná mobilita\, Inteligentné mestá;• Životné prostredie\, Modrý rast\, Udržateľná výstavba\, Energia;• IKT\, Internet vecí\, Robotika\, Inteligentné technológie;• Udržateľné poľnohospodárstvo\, Agritech;• Digitálna výroba\, Pokročilé materiály\, Nové materiály;• Biotechnológie\, Ľudské zdravie\, Digitálne technológie a aplikácie pre šport. \nPodujatie je určené pre súkromné ​​spoločnosti\, MSP\, Start-upy\, Spin-offy\, výskumné centrá\, univerzity\, zainteresované strany so záujmom nájsť nových obchodných či technologických partnerov\, so záujmom rozšíriť svoje podnikanie do zahraničia\, prezentovať svoje nové nápady a projekty a pod. \nÚčasť na podujatí je bezplatná\, ale registrácia a aktivácia profilu sú povinné. Preto pri vypĺňaní prihlášky si v časti „Settings“ v rámci položky „Support office“ vyberte TUKE ako vašu podpornú inštitúciu. Následne vašu prihlášku skontrolujeme a obratom potvrdíme v registračnom systéme podujatia. Nezabudnite na vyplnenie tzv. Marketplace. Ďakujeme. \n\nKontakt: Enterprise Europe Network pri UVP TECHNICOM\, e-mail: een@uvptechnicom.sk
URL:https://uvptechnicom.sk/event/virtual-brokerage-event-innovation-village-2024/
CATEGORIES:EEN podujatia,Kooperačné podujatia, veľtrhy, výstavy
ATTACH;FMTTYPE=image/jpeg:https://uvptechnicom.sk/wp-content/uploads/2024/06/innoVillage.jpg
END:VEVENT
BEGIN:VEVENT
DTSTART;VALUE=DATE:20241203
DTEND;VALUE=DATE:20241205
DTSTAMP:20260422T214105
CREATED:20241031T091430Z
LAST-MODIFIED:20241031T091517Z
UID:31910-1733184000-1733356799@uvptechnicom.sk
SUMMARY:B2B počas CONAMA GREEN 2024
DESCRIPTION:Enterprise Europe Network vás pozýva na bilaterálne stretnutia Green B2B: Environmental Professional Meetings. Táto iniciatíva\, ktorú organizujú Fundación madri+d a Conama Foundation\, s podporou siete Enterprise Europe Network\, si kladie za cieľ podporiť spoluprácu medzi subjektmi s cieľom vybudovať odolnejšiu spoločnosť a dosiahnuť Ciele udržateľného rozvoja a Zelenú dohodu. \nCieľom tohto podujatia je tiež podporiť nové projekty a spoluprácu medzi vládami\, spoločnosťami\, výskumnými inštitúciami a ďalšími európskymi environmentálnymi organizáciami prostredníctvom bilaterálnych stretnutí s cieľom dosiahnuť spolupráce a dohody. \nDátum konania: 3.12. – 4.12.2024Miesto konania: Madrid\, Španielsko + onlineRegistrácia: https://conama-2024.b2match.io/Web stránka podujatia: https://conama-2024.b2match.io/ \nTémy podujatia: \n\nEnergia\, efektívnosť a zmena klímy\nMobilita\nObnova miest\nRozvoj vidieka\nBiodiverzita\nVoda\nKvalita životného prostredia\nOdpady\nEkonomika a spoločnosť\n\nCieľová skupina: \n\nOdborníci a podnikatelia\nSpoločnosti: malé a stredné podniky\, start-upy\, podniky so strednou kapitalizáciou\, veľké podniky\nVýskumné a vývojové inštitúcie/výskumné centrá\nUniverzity\nVlády/miestne a regionálne orgány\nZdruženia\n\nOrganizácia podujatia: \n\n3. – 4.12.2024 – onsite stretnutia v čase 9:00 – 14:30hod.\n3. – 4.12.2024 – online stretnutia v čase 9:00 – 18:30hod.\n\nBezplatná účasť na bilaterálnych stretnutiach s návštevníckym preukazom na CONAMA 2024: \n\nÚčasť na bilaterálnych stretnutiach je bezplatná a účastníkom bude poskytnutá návštevnícka vstupenka na kongres (bez potreby osobitnej registrácie na CONAMA 2024).\nVstupenka pre návštevníka umožňuje vstup na výstavnú plochu\, nezahŕňa však vstup na odborné zasadnutia.\nViac informácií o možnostiach registrácie na https://www.conama.org/2024/participar/#tipos-inscripciones.\n\nKontakt: Enterprise Europe Network pri UVP TECHNICOM\, email: een@uvptechnicom.sk
URL:https://uvptechnicom.sk/event/b2b-pocas-conama-green-2024/
CATEGORIES:EEN podujatia,Kooperačné podujatia, veľtrhy, výstavy
ATTACH;FMTTYPE=image/png:https://uvptechnicom.sk/wp-content/uploads/2024/10/conama_2024.png
END:VEVENT
BEGIN:VEVENT
DTSTART;TZID=Europe/Bratislava:20241203T073000
DTEND;TZID=Europe/Bratislava:20241203T110000
DTSTAMP:20260422T214105
CREATED:20241128T142816Z
LAST-MODIFIED:20241128T142850Z
UID:32067-1733211000-1733223600@uvptechnicom.sk
SUMMARY:Mikulášska kvapka krvi
DESCRIPTION:
URL:https://uvptechnicom.sk/event/mikulasska-kvapka-krvi-24/
LOCATION:UVP TECHNICOM\, Boženy Němcovej 5\, Košice\, Slovakia (Slovak Republic)
CATEGORIES:UVP a TUKE
ATTACH;FMTTYPE=image/jpeg:https://uvptechnicom.sk/wp-content/uploads/2024/11/MKK-na-TUKE-2024.jpg
END:VEVENT
BEGIN:VEVENT
DTSTART;TZID=Europe/Bratislava:20241209T100000
DTEND;TZID=Europe/Bratislava:20241209T100000
DTSTAMP:20260422T214105
CREATED:20241118T094750Z
LAST-MODIFIED:20241118T094839Z
UID:31974-1733738400-1733738400@uvptechnicom.sk
SUMMARY:Súťaž startupov
DESCRIPTION:
URL:https://uvptechnicom.sk/event/sutaz-startupov/
LOCATION:UVP TECHNICOM\, Boženy Němcovej 5\, Košice\, Slovakia (Slovak Republic)
CATEGORIES:UVP a TUKE
ATTACH;FMTTYPE=image/jpeg:https://uvptechnicom.sk/wp-content/uploads/2024/11/CT0A6629-1-scaled-1.jpg
END:VEVENT
BEGIN:VEVENT
DTSTART;VALUE=DATE:20241210
DTEND;VALUE=DATE:20241211
DTSTAMP:20260422T214105
CREATED:20241008T105628Z
LAST-MODIFIED:20241008T105844Z
UID:31770-1733788800-1733875199@uvptechnicom.sk
SUMMARY:FIDAL 2024 Call 2: Field Trials Beyond 5G
DESCRIPTION:
URL:https://uvptechnicom.sk/event/fidal-2024-call-2-field-trials-beyond-5g/
CATEGORIES:Kaskádové výzvy
END:VEVENT
BEGIN:VEVENT
DTSTART;VALUE=DATE:20241210
DTEND;VALUE=DATE:20241211
DTSTAMP:20260422T214105
CREATED:20241008T110832Z
LAST-MODIFIED:20241008T110832Z
UID:31814-1733788800-1733875199@uvptechnicom.sk
SUMMARY:Interreg Central Europe - Call for Peripheral and Lagging Areas
DESCRIPTION:
URL:https://uvptechnicom.sk/event/interreg-central-europe-call-for-peripheral-and-lagging-areas/
CATEGORIES:Interreg
END:VEVENT
BEGIN:VEVENT
DTSTART;TZID=Europe/Bratislava:20241210T130000
DTEND;TZID=Europe/Bratislava:20241210T140000
DTSTAMP:20260422T214105
CREATED:20241204T164357Z
LAST-MODIFIED:20241204T164507Z
UID:32081-1733835600-1733839200@uvptechnicom.sk
SUMMARY:Ulysseus Seed Fund Call for Teachers 2025 - POZVÁNKA NA INFORMAČNÝ SEMINÁR
DESCRIPTION:Máte záujem o medzinárodnú spoluprácu s učiteľom z inej partnerskej univerzity Ulysseus?\nChceli by ste podnietiť inovácie a pilotovať inovatívnu vzdelávaciu aktivitu?\nChceli by ste svojim študentom poskytnúť skutočne medzinárodný a obohacujúci zážitok bez toho\, aby museli opustiť triedu?\n\n\nVýzva\nEurópska univerzita Ulysseus prináša príležitosť zapojiť sa do druhej výzvy na financovanie počiatočnej fázy projektov inovatívnej a kolaboratívnej výučby Ulysseus Seed Fund Call for Teachers 2025. \nVýzva podporuje rozvoj kvality vzdelávacieho procesu na partnerských univerzitách formou vytvárania inovatívnych a kolaboratívnych spôsobov výučby vo forme aplikácie výučbovej metodológie COIL. Výzva je aktuálne otvorená s termínom uzávierky 31. januára 2025 a podporené budú aktivity s realizáciou do marca 2026. \nTáto príležitosť je určená pre vyučujúcich na TUKE a ďalších partnerských univerzitách aliancie Ulysseus\, ktorí majú záujem inovovať a internacionalizovať výučbu svojich predmetov. Integrácia COIL elementu ponúka pedagógom príležitosť zvyšovať kvalitu a inkluzívnosť vyučovaných predmetov\, pričom podporuje vytváranie zmysluplných vzdelávacích príležitostí pre študentov z rôznorodého kultúrneho prostredia. \nVýzva zároveň prirodzene nadväzuje na ciele prebiehajúceho projektu TUKE s názvom INTEREST\, ktorý je zameraný na posilnenie pripravenosti pedagógov našej univerzity na zvyšovanie miery internacionalizácie študentov počas ich štúdia na TUKE. Projekt zároveň podporuje vytvorenie interného systému služieb\, ktorých cieľom je predchádzanie konfliktným situáciám vyplývajúcim z kultúrnych rozdielov. \n\nInformačný seminár\nPre záujemcov o získanie finančnej podpory v rámci výzvy organizujeme online informačný seminár: \n\nutorok\, 10. december 2024 o 13:00 hod.\nSeminár bude v slovenčine a v trvaní cca 1 hod.\nRegistrácia na tomto linku.\nLinka na pripojenie bude poslaná registrovaným účastníkom.\n\n\nĎalšie informácie o výzve\n\neu/calls/seed-fund-call-for-teachers/ (oficiálna verzia výzvy)\nhttps://erasmus.tuke.sk/ulysseus-grantove-vyzvy/ (slovenská informácia o výzve)\n\n\nKontakt\nIng. Natália Vašková\, PhD.Ulysseus Mobility OfficerÚsek zahraničných vecí a mobilityRektorát TUKEulysseus.ucitelia@tuke.sk
URL:https://uvptechnicom.sk/event/ulysseus-seed-fund-call-for-teachers-2025-pozvanka-na-informacny-seminar/
LOCATION:Online
CATEGORIES:Ulysseus,UVP a TUKE
ATTACH;FMTTYPE=image/jpeg:https://uvptechnicom.sk/wp-content/uploads/2024/12/ele.jpg
END:VEVENT
BEGIN:VEVENT
DTSTART;VALUE=DATE:20241212
DTEND;VALUE=DATE:20241213
DTSTAMP:20260422T214105
CREATED:20241008T105624Z
LAST-MODIFIED:20241008T105815Z
UID:31766-1733961600-1734047999@uvptechnicom.sk
SUMMARY:EIT HEI Initiative: Call for Proposals 2024
DESCRIPTION:
URL:https://uvptechnicom.sk/event/eit-hei-initiative-call-for-proposals-2024/
CATEGORIES:Kaskádové výzvy
END:VEVENT
BEGIN:VEVENT
DTSTART;VALUE=DATE:20241216
DTEND;VALUE=DATE:20241217
DTSTAMP:20260422T214105
CREATED:20241008T105620Z
LAST-MODIFIED:20241008T105751Z
UID:31763-1734307200-1734393599@uvptechnicom.sk
SUMMARY:AI REDGIO 5.0: Open call for innovative experiments
DESCRIPTION:
URL:https://uvptechnicom.sk/event/ai-redgio-5-0-open-call-for-innovative-experiments/
CATEGORIES:Kaskádové výzvy
END:VEVENT
BEGIN:VEVENT
DTSTART;VALUE=DATE:20241220
DTEND;VALUE=DATE:20241221
DTSTAMP:20260422T214105
CREATED:20241008T105626Z
LAST-MODIFIED:20241008T105836Z
UID:31769-1734652800-1734739199@uvptechnicom.sk
SUMMARY:RESIST: Training Open Call
DESCRIPTION:
URL:https://uvptechnicom.sk/event/resist-training-open-call/
CATEGORIES:Kaskádové výzvy
END:VEVENT
BEGIN:VEVENT
DTSTART;VALUE=DATE:20241220
DTEND;VALUE=DATE:20241221
DTSTAMP:20260422T214105
CREATED:20241008T110847Z
LAST-MODIFIED:20241008T110926Z
UID:31815-1734652800-1734739199@uvptechnicom.sk
SUMMARY:Call for proposals – Interreg HUSK-2401
DESCRIPTION:
URL:https://uvptechnicom.sk/event/call-for-proposals-interreg-husk-2401/
CATEGORIES:Interreg
END:VEVENT
BEGIN:VEVENT
DTSTART;VALUE=DATE:20241223
DTEND;VALUE=DATE:20241224
DTSTAMP:20260422T214105
CREATED:20241008T105623Z
LAST-MODIFIED:20241008T105809Z
UID:31765-1734912000-1734998399@uvptechnicom.sk
SUMMARY:6G-BRICKS Open Call 2
DESCRIPTION:
URL:https://uvptechnicom.sk/event/6g-bricks-open-call-2/
CATEGORIES:Kaskádové výzvy
END:VEVENT
BEGIN:VEVENT
DTSTART;VALUE=DATE:20241227
DTEND;VALUE=DATE:20241228
DTSTAMP:20260422T214105
CREATED:20241008T105619Z
LAST-MODIFIED:20241008T105747Z
UID:31762-1735257600-1735343999@uvptechnicom.sk
SUMMARY:XR2LEARN Open Call 2
DESCRIPTION:
URL:https://uvptechnicom.sk/event/xr2learn-open-call-2/
CATEGORIES:Kaskádové výzvy
END:VEVENT
BEGIN:VEVENT
DTSTART;VALUE=DATE:20241231
DTEND;VALUE=DATE:20250101
DTSTAMP:20260422T214105
CREATED:20241008T105626Z
LAST-MODIFIED:20241008T105828Z
UID:31767-1735603200-1735689599@uvptechnicom.sk
SUMMARY:GEMSTONE EUROCLUSTER 2024 Call Train
DESCRIPTION:
URL:https://uvptechnicom.sk/event/gemstone-eurocluster-2024-call-train/
CATEGORIES:Kaskádové výzvy
END:VEVENT
BEGIN:VEVENT
DTSTART;VALUE=DATE:20241231
DTEND;VALUE=DATE:20250101
DTSTAMP:20260422T214105
CREATED:20241008T105626Z
LAST-MODIFIED:20241008T105828Z
UID:31768-1735603200-1735689599@uvptechnicom.sk
SUMMARY:GEMSTONE EUROCLUSTER 2024: Explore
DESCRIPTION:
URL:https://uvptechnicom.sk/event/gemstone-eurocluster-2024-explore/
CATEGORIES:Kaskádové výzvy
END:VEVENT
END:VCALENDAR