BEGIN:VCALENDAR
VERSION:2.0
PRODID:-//UVP TECHNICOM - ECPv6.15.20//NONSGML v1.0//EN
CALSCALE:GREGORIAN
METHOD:PUBLISH
X-ORIGINAL-URL:https://uvptechnicom.sk
X-WR-CALDESC:Events for UVP TECHNICOM
REFRESH-INTERVAL;VALUE=DURATION:PT1H
X-Robots-Tag:noindex
X-PUBLISHED-TTL:PT1H
BEGIN:VTIMEZONE
TZID:Europe/Bratislava
BEGIN:DAYLIGHT
TZOFFSETFROM:+0100
TZOFFSETTO:+0200
TZNAME:CEST
DTSTART:20230326T010000
END:DAYLIGHT
BEGIN:STANDARD
TZOFFSETFROM:+0200
TZOFFSETTO:+0100
TZNAME:CET
DTSTART:20231029T010000
END:STANDARD
BEGIN:DAYLIGHT
TZOFFSETFROM:+0100
TZOFFSETTO:+0200
TZNAME:CEST
DTSTART:20240331T010000
END:DAYLIGHT
BEGIN:STANDARD
TZOFFSETFROM:+0200
TZOFFSETTO:+0100
TZNAME:CET
DTSTART:20241027T010000
END:STANDARD
BEGIN:DAYLIGHT
TZOFFSETFROM:+0100
TZOFFSETTO:+0200
TZNAME:CEST
DTSTART:20250330T010000
END:DAYLIGHT
BEGIN:STANDARD
TZOFFSETFROM:+0200
TZOFFSETTO:+0100
TZNAME:CET
DTSTART:20251026T010000
END:STANDARD
END:VTIMEZONE
BEGIN:VEVENT
DTSTART;VALUE=DATE:20240401
DTEND;VALUE=DATE:20240601
DTSTAMP:20260423T085832
CREATED:20240214T111154Z
LAST-MODIFIED:20240214T111309Z
UID:30315-1711929600-1717199999@uvptechnicom.sk
SUMMARY:Smart & Technical Textiles
DESCRIPTION:Pri príležitosti popredného medzinárodného veľtrhu technických textílií a netkaných textílií TechTextil\, organizuje sieť Enterprise Europe Network medzinárodné sprostredkovateľské podujatie s názvom Smart & Technical Textiles. Prihlášky do 30. apríla 2024. \n\nDátum konania: 1.4. – 31.5.2024Miesto konania: Frankfurt\, Nemecko + onlineRegistrácia: https://smart-techtextiles24.b2match.io/signupWeb stránka podujatia: https://smart-techtextiles24.b2match.io/home \n\nPodujatie je určené spoločnostiam\, výskumným inštitúciám a všetkým zainteresovaným stranám\, ktoré majú záujem o spoluprácu na spoločných projektoch\, naviazať technickú spoluprácu alebo nové obchodné kontakty s partnermi z Európy a celého sveta. \nZáujemcovia sa môžu na toto bezplatné podujatie zaregistrovať so svojím profilom na online platforme podujatia do konca apríla 2024 a vybrať si zaujímavých účastníkov na bilaterálne\, vopred dohodnuté stretnutia. Upozorňujeme\, že podmienkou validovania profilu je vyplnenie aspoň 1 položky v časti Marketplace. \n\nOrganizácia podujatia:\n1.4. – 31.5.2024 – online stretnutia \n\n– 26.4.2024 – osobné stretnutia v mieste podujatia\n\n  \nOdborné prednášky počas veľtrhu:\n\napríl 2024 – Výskum a vývoj v textilnom priemysle – možnosti financovania a projektové príležitosti\napríl 2024 – Smart textílie v lekárstve a zdravotníctve\napríl 2024 – Umelá inteligencia a digitalizácia v aplikáciách smart textílií\n\n\nZaregistrujte sa na podujatie\, vytvorte si profil a pri jeho vypĺňaní si v časti „Settings“ v rámci položky „Support office“ vyberte TUKE ako vašu podpornú inštitúciu. Následne vašu prihlášku skontrolujeme a potvrdíme v registračnom systéme podujatia. Ďakujeme. \n  \nKontakt: Enterprise Europe Network pri UVP TECHNICOM\, e-mail: een@uvptechnicom.sk
URL:https://uvptechnicom.sk/event/smart-technical-textiles/
CATEGORIES:EEN podujatia,Kooperačné podujatia, veľtrhy, výstavy
ATTACH;FMTTYPE=image/jpeg:https://uvptechnicom.sk/wp-content/uploads/2024/02/Smart-Technical-Textiles.jpg
END:VEVENT
BEGIN:VEVENT
DTSTART;VALUE=DATE:20240508
DTEND;VALUE=DATE:20240510
DTSTAMP:20260423T085832
CREATED:20240408T135052Z
LAST-MODIFIED:20240408T135146Z
UID:30764-1715126400-1715299199@uvptechnicom.sk
SUMMARY:Kooperačné stretnutia počas DRONExpo 2024
DESCRIPTION:V rámci DRONExpo 2024 organizuje Enterprise Europe Network MADRID medzinárodné sprostredkovateľské podujatie zamerané na podporu spolupráce v oblasti dronov a ich aplikácií. Prihlášky do 8. mája 2024. \nDátum konania: 8.5. – 9.5.2024Miesto konania: Madrid\, Španielsko + onlineRegistrácia: https://dronexpo-2024.b2match.io/signupWeb stránka podujatia: https://dronexpo-2024.b2match.io/ \nVeľtrh DRONExpo sa koná súbežne s veľtrhom TECNOSEC\, venovaným technológiám pre policajné a bezpečnostné zariadenia a systémy\, ktorý sa dokonale dopĺňa a predstavuje agilnú reakciu na rastúci a neustále sa vyvíjajúci trh\, pričom sústreďuje formáty a riešenia pre rôzne kapacity zúčastnených zástupcov. \nTémy podujatia: \n\nDrony a antidrony;\nKybernetická bezpečnosť;\nUmelá inteligencia a metaverse ;\nInternet vecí;\nBlockchain;\nBiometria;\nSenzory;\nSpektrálna analýza\, snímanie obrazu\, analýza a spravodajstvo\, 3D modelovanie\, logistika a správa vozového parku;\nRobotika;\nNanotechnológie;\nBezpečnosť a obrana;\nForenzné vedy a kybernetická kriminalistika;\nDoprava a premávka;\nPoľnohospodárstvo;\nZdravotnícke služby;\nMapovanie;\nDohľad.\n\nPre koho je podujatie určené? \n\nStart-upy a spin-offy;\nMalé a stredné podniky;\nVeľké spoločnosti;\nUniverzity;\nVýskumné centrá;\nOrgány\, koncoví užívatelia riešení bezpilotných lietadiel;\nIné organizácie\, ktoré hľadajú obchodných\, technologických alebo výskumných partnerov z Európy a mimo nej.\n\nÚčasť na kooperačnom podujatí je bezplatná. \nZaregistrujte sa na podujatie\, vytvorte si profil a pri jeho vypĺňaní si v časti „Settings“ v rámci položky „Support office“ vyberte TUKE ako vašu podpornú inštitúciu. V profile je dôležité vyplniť tzv. Marketplace. Následne vašu prihlášku skontrolujeme a radi potvrdíme v registračnom systéme podujatia. \nÚčastníci kooperačného podujatia majú bezplatný prístup na veľtrhy DRONExpo a Tecnosec. Zaregistrujte sa\, prosím\, pomocou nasledujúceho registračného odkazu: https://www.tecnosec.es/registro-visitantes/. \nKontakt: Enterprise Europe Network pri UVP TECHNICOM\, e-mail: een@uvptechnicom.sk
URL:https://uvptechnicom.sk/event/kooperacne-stretnutia-pocas-dronexpo-2024/
CATEGORIES:EEN podujatia,Kooperačné podujatia, veľtrhy, výstavy
ATTACH;FMTTYPE=image/jpeg:https://uvptechnicom.sk/wp-content/uploads/2024/04/Dronexpo-2024.jpg
END:VEVENT
BEGIN:VEVENT
DTSTART;TZID=Europe/Bratislava:20240509T150000
DTEND;TZID=Europe/Bratislava:20240509T150000
DTSTAMP:20260423T085832
CREATED:20240402T101738Z
LAST-MODIFIED:20240502T100859Z
UID:30696-1715266800-1715266800@uvptechnicom.sk
SUMMARY:BOOTCAMP 4: Zdroje financií pre startupy a príprava pre získanie investície od investorov
DESCRIPTION:V rámci tohto bootcampu nahliadneme do sveta financií pod vedením skúsených expertov z Row & Slide. Získate prehľad o zdrojoch financovania vrátane bootstrappingu\, crowdfundingu\, angel investorov a venture kapitálu. V druhej časti sa budeme venovať na prípravu startupu na získanie financií od investorov a dostanete tipy\, čo robiť a čo nerobiť!
URL:https://uvptechnicom.sk/event/bootcamp-4-zdroje-financii-pre-startupy-a-priprava-pre-ziskanie-investicie-od-investorov/
LOCATION:UVP TECHNICOM\, Boženy Němcovej 5\, Košice\, Slovakia (Slovak Republic)
CATEGORIES:UVP a TUKE
ATTACH;FMTTYPE=image/jpeg:https://uvptechnicom.sk/wp-content/uploads/2024/04/office-594119_1280.jpg
END:VEVENT
BEGIN:VEVENT
DTSTART;VALUE=DATE:20240510
DTEND;VALUE=DATE:20240511
DTSTAMP:20260423T085832
CREATED:20240328T184922Z
LAST-MODIFIED:20240328T184922Z
UID:30664-1715299200-1715385599@uvptechnicom.sk
SUMMARY:3nd round of Calls for Paired Teams\, Open ideas and Challenges - NGI Enrichers
DESCRIPTION:
URL:https://uvptechnicom.sk/event/3nd-round-of-calls-for-paired-teams-open-ideas-and-challenges-ngi-enrichers/
CATEGORIES:Kaskádové výzvy
END:VEVENT
BEGIN:VEVENT
DTSTART;VALUE=DATE:20240514
DTEND;VALUE=DATE:20240515
DTSTAMP:20260423T085832
CREATED:20240501T093319Z
LAST-MODIFIED:20240501T093405Z
UID:30926-1715644800-1715731199@uvptechnicom.sk
SUMMARY:Na čo nesmieme zabudnúť pri budovaní svojej značky
DESCRIPTION:Každá začínajúca firma\, ktorá si buduje svoju identitu prostredníctvom názvu\, loga\, dizajnu alebo iných prvkov corporate identity by nemala zabúdať na ich ochranu. \nEnterprise Europe Network\, Technická univerzita v Košiciach\, Startup Centrum TUKE v spolupráci s Centrom vedecko-technických informácií SR vás pozýva na webinár s názvom Na čo nesmieme zabudnúť pri budovaní svojej značky. \nKedy: 14.5.2024 o 14:00-15:30hod. \nKde: online \nCieľová skupina: malé a stredné podniky\, start-upy \nTémy podujatia: \n\nČo možno registrovať ako ochrannú známku\nČo je duševné vlastníctvo a ako ho možno chrániť\nOchranné známky a ich význam\nČo získate registráciou ochrannej známky\nDobré rady k ochranným známkam pre značku v praxi\nČo možno chrániť dizajnom\nPráva majiteľa zapísaného dizajnu\nDizajny\, logá\, názvy a označenia ako autorské diela\nStratégia ochrany na národnej a medzinárodnej úrovni\n\nÚčasť na webinári je bezplatná\, ale registrácia povinná. Zaregistrujte sa TU\, najneskôr do 14.5.2024\, 13:00hod. Ďakujeme. \nWebinár povedie Barbara Tóthová\, ktorá je odbornou pracovníčkou oddelenia ochrany a komercializácie duševného vlastníctva v Centre vedecko-technických informácií SR. Venuje sa poskytovaniu expertných služieb zameraných na podporu a realizáciu transferu univerzitných technológií do praxe a ďalších činností v oblasti ochrany a komerčného zhodnocovania duševného vlastníctva. \nBarbara vyštudovala molekulárnu biológiu na Prírodovedeckej fakulte UK v BA. Doktorandské štúdium absolvovala na Ústave lekárskej biochémie Jesseniovej lekárskej fakulty UK v Martine\, kde neskôr v rámci Martinského centra pre biomedicínu pôsobila ako vedecko-výskumný pracovník laboratória bunkových kultúr. Od roku 2020 pracuje v odbore transferu technológií Centra vedecko-technických informácií SR. Je absolventkou vzdelávacieho programu Duševné vlastníctvo na Úrade priemyselného vlastníctva SR\, ktorý navštevovala v rokoch 2020 – 2022. \nV prípade akýchkoľvek otázok nás kontaktujte na een@uvptechnicom.sk
URL:https://uvptechnicom.sk/event/na-co-nesmieme-zabudnut-pri-budovani-svojej-znacky-2/
CATEGORIES:EEN podujatia,Semináre, workshopy, tréningy
ATTACH;FMTTYPE=image/png:https://uvptechnicom.sk/wp-content/uploads/2024/05/na_co_nesmiete_zabudnut_pri_budovani_svojej_znacky_1_003.png
END:VEVENT
BEGIN:VEVENT
DTSTART;TZID=Europe/Bratislava:20240514T140000
DTEND;TZID=Europe/Bratislava:20240514T153000
DTSTAMP:20260423T085832
CREATED:20240402T102020Z
LAST-MODIFIED:20240513T133428Z
UID:30697-1715695200-1715700600@uvptechnicom.sk
SUMMARY:Na čo nesmiete zabudnúť pri budovaní svojej značky?
DESCRIPTION:Link na pripojenie\n			\n			\n				\n				\n				\n				\n			\n				\n				\n				\n				\n				\n				\n				\n				\n				\n				\n				Každá začínajúca firma\, ktorá si buduje svoju identitu prostredníctvom názvu\, loga\, dizajnu alebo iných prvkov corporate identity by nemala zabúdať na ich ochranu. Na podujatí sa dozviete\,  ako to robiť čo najefektívnejšie. \nObsah podujatia: \n\nČo možno registrovať ako ochrannú známku\nČo je duševné vlastníctvo a ako ho možno chrániť\nOchranné známky a ich význam\nČo získate registráciou ochrannej známky\nDobré rady k ochranným známkam pre značku v praxi\nČo možno chrániť dizajnom\nPráva majiteľa zapísaného dizajnu\nDizajny\, logá\, názvy a označenia ako autorské diela\nStratégia ochrany na národnej a medzinárodnej úrovni\n\nWebinár povedie Barbara Tóthová\, ktorá je odbornou pracovníčkou oddelenia ochrany a komercializácie duševného vlastníctva v Centre vedecko-technických informácií SR. Venuje sa poskytovaniu expertných služieb zameraných na podporu a realizáciu transferu univerzitných technológií do praxe a ďalších činností v oblasti ochrany a komerčného zhodnocovania duševného vlastníctva. \nBarbara vyštudovala molekulárnu biológiu na Prírodovedeckej fakulte UK v BA. Doktorandské štúdium absolvovala na Ústave lekárskej biochémie Jesseniovej lekárskej fakulty UK v Martine\, kde neskôr v rámci Martinského centra pre biomedicínu pôsobila ako vedecko-výskumný pracovník laboratória bunkových kultúr. Od roku 2020 pracuje v odbore transferu technológií Centra vedecko-technických informácií SR. Je absolventkou vzdelávacieho programu Duševné vlastníctvo na Úrade priemyselného vlastníctva SR\, ktorý navštevovala v rokoch 2020 – 2022.
URL:https://uvptechnicom.sk/event/na-co-nesmiete-zabudnut-pri-budovani-svojej-znacky-0524/
LOCATION:Online
CATEGORIES:UVP a TUKE
ATTACH;FMTTYPE=image/jpeg:https://uvptechnicom.sk/wp-content/uploads/2024/04/idea-3310390_1280.jpg
END:VEVENT
BEGIN:VEVENT
DTSTART;VALUE=DATE:20240515
DTEND;VALUE=DATE:20240516
DTSTAMP:20260423T085832
CREATED:20240328T184901Z
LAST-MODIFIED:20240328T184901Z
UID:30663-1715731200-1715817599@uvptechnicom.sk
SUMMARY:NGI Sargasso 3rd Open Call
DESCRIPTION:
URL:https://uvptechnicom.sk/event/ngi-sargasso-3rd-open-call/
CATEGORIES:Kaskádové výzvy
END:VEVENT
BEGIN:VEVENT
DTSTART;VALUE=DATE:20240515
DTEND;VALUE=DATE:20240516
DTSTAMP:20260423T085832
CREATED:20240328T184943Z
LAST-MODIFIED:20240328T184943Z
UID:30665-1715731200-1715817599@uvptechnicom.sk
SUMMARY:Open Call for End-Users (Call for Art-Driven Experiments – 1st stage)
DESCRIPTION:
URL:https://uvptechnicom.sk/event/open-call-for-end-users-call-for-art-driven-experiments-1st-stage/
CATEGORIES:Kaskádové výzvy
END:VEVENT
BEGIN:VEVENT
DTSTART;VALUE=DATE:20240521
DTEND;VALUE=DATE:20240531
DTSTAMP:20260423T085832
CREATED:20240327T140602Z
LAST-MODIFIED:20240327T140737Z
UID:30615-1716249600-1717113599@uvptechnicom.sk
SUMMARY:Kooperačné podujatie IOT Solutions World Congress
DESCRIPTION:Zúčastnite sa kooperačného podujatia\, ktoré vám poskytne príležitosť stretnúť sa s potenciálnymi partnermi zameranými na technológie Industry 4.0. Prihlášky do 14.5.2024. \n\nDátum konania: 21.5. – 30.5.2024Miesto konania: Barcelona\, Španielsko + onlineRegistrácia: https://iot2024-accio.b2match.io/signupWeb stránka podujatia: https://iot2024-accio.b2match.io/ \n\nKooperačné podujatie bude súčasťou kongresu IOTSWC Congress\, kde sa budú zhromažďovať riešenia internetu vecí aplikované na priemysel: výrobu\, zdravotníctvo\, energetiku\, dopravu a mnohé ďalšie! \n\nNa podujatí máte možnosť stretnúť sa s medzinárodnými a miestnymi odbornými poskytovateľmi technológií\, ktorí môžu podporiť vašu digitálnu transformáciu\, ako aj s medzinárodnými a miestnymi osvojiteľmi technológií. \n\nTematické zameranie: \n\nRiešenia IoT\n5G pripojenie\nUmelá inteligencia (AI)\nRozšírená realita a virtuálna realita\nAnalýza veľkých dát\nCloud computing\nRiešenia kybernetickej bezpečnosti\nDigitálne dvojča\nEdge computing\nKvantová výpočtová technika\nTechnológie obnoviteľných zdrojov energie\nAutomatizácia robotických procesov\n\n\nOrganizácia podujatia: \n\n21-23.5.2024 – onsite stretnutia\n28-30.5.2024 – online stretnutia\n\n\nPosledný deň kooperačného podujatia bude celý venovaný polovodičovému priemyslu\, budete mať príležitosť stretnúť sa s katalánskymi poskytovateľmi\, ktorí budú prítomní na stánku: Catalonia Semiconductors. \nTech stretnutia\, ktoré budú prebiehať 22.5.2024\, vám umožnia stretnúť sa s partnermi DIH4CAT (European Digital Innovation Hub)\, ako aj s členmi TECNIO\, ktorí sú akreditovanými katalánskymi dodávateľmi technológií. \n  \nÚčasť na B2B je bezplatná. \nZaregistrujte sa na podujatie\, vytvorte si profil a pri jeho vypĺňaní si v časti „Settings“ v rámci položky „Support office“ vyberte TUKE ako vašu podpornú inštitúciu. V profile je dôležité vyplniť tzv. Marketplace. Následne vašu prihlášku skontrolujeme a radi potvrdíme v registračnom systéme podujatia. Ďakujeme. \n\nKontakt: Enterprise Europe Network pri UVP TECHNICOM\, e-mail: een@uvptechnicom.sk
URL:https://uvptechnicom.sk/event/kooperacne-podujatie-iot-solutions-world-congress/
CATEGORIES:EEN podujatia,Kooperačné podujatia, veľtrhy, výstavy
ATTACH;FMTTYPE=image/png:https://uvptechnicom.sk/wp-content/uploads/2024/03/Kooperacne-podujatie-IOT-Solutions-World-Congress.png
END:VEVENT
BEGIN:VEVENT
DTSTART;TZID=Europe/Bratislava:20240521T094500
DTEND;TZID=Europe/Bratislava:20240521T141500
DTSTAMP:20260423T085832
CREATED:20240516T074356Z
LAST-MODIFIED:20240516T074530Z
UID:31002-1716284700-1716300900@uvptechnicom.sk
SUMMARY:Séria COMPASS workshopov
DESCRIPTION:Unlocking Excellence: Navigating Best Practices in Research and Innovation   \n\nV máji vrcholí realizácia satelitného projektu COMPASS\, ktorý je vlajkovou iniciatívou našej Európskej univerzity Ulysseus v oblasti výskumu a inovácií. Pri tejto príležitosti organizujeme v utorok 21. mája sériu mini-workshopov na aktuálne témy projektu: formovanie ERA hub-ov\, medzinárodná spolupráca vo výskume\, participatívna tvorba platforiem otvorenej vedy\, zapájanie komunity a témy rodovej rovnosti vo výskume a inováciách. \nSéria\, vo forme šiestich 45-minútových workshopov\, bude prebiehať online\, so začiatkom o 09:45 a plánovaným ukončením o 14:15. TUKE v rámci podujatia organizuje workshop prezentujúci prístupy\, akým spôsobom dokážeme v rámci Európskej univerzity Ulysseus prispieť k téme formovania a transformácie modelov ERA hub-ov. Workshop so začiatkom o 10:00 bude viesť Radoslav Delina. \nBližšie informácie o podujatí\, program a registračný formulár: https://ulysseus.eu/events/compass-workshops/ \n\n\nO projekte Compass \nSatelitný projekt COMPASS je vlajkovou loďou Európskej univerzity Ulysseus v oblasti výskumu a inovácií. Cieľom projektu je podporiť etablovanie Ulyssea ako modelu excelentnosti pre transformáciu výskumu a inovácií v súlade so zdieľanou\, integrovanou a dlhodobou spoločnou stratégiou našej Európskej univerzity\, čím sa posilnia synergie medzi Európskym výskumným priestorom a Európskym vzdelávacím priestorom. COMPASS podporuje rozvoj stratégií a konkrétnych akčných plánov a posilňuje svoju spoločnú dlhodobú víziu výskumu a inovácií s cieľom dosiahnuť systémový\, štrukturálny a udržateľný vplyv na všetkých úrovniach zapojených inštitúcií. \n			\n				\n				\n				\n				\n				\n			\n				\n				\n				\n				\n				Viac informácií: ulysseus.eu/compass
URL:https://uvptechnicom.sk/event/seria-compass-workshopov/
LOCATION:Online
CATEGORIES:Odporúčame účasť,Ulysseus
ATTACH;FMTTYPE=image/jpeg:https://uvptechnicom.sk/wp-content/uploads/2024/05/COMPASS-Workshops.jpg
END:VEVENT
BEGIN:VEVENT
DTSTART;VALUE=DATE:20240522
DTEND;VALUE=DATE:20240523
DTSTAMP:20260423T085832
CREATED:20240128T113933Z
LAST-MODIFIED:20240128T114408Z
UID:30168-1716336000-1716422399@uvptechnicom.sk
SUMMARY:Innovative Health Initiative Call 7: HORIZON-JU-IHI-2024-07-02-singe-stage
DESCRIPTION:
URL:https://uvptechnicom.sk/event/innovative-health-initiative-call-7-horizon-ju-ihi-2024-07-02-singe-stage/
CATEGORIES:Horizont Európa
END:VEVENT
BEGIN:VEVENT
DTSTART;TZID=Europe/Bratislava:20240522T140000
DTEND;TZID=Europe/Bratislava:20240522T170000
DTSTAMP:20260423T085832
CREATED:20240520T145631Z
LAST-MODIFIED:20240520T145631Z
UID:31026-1716386400-1716397200@uvptechnicom.sk
SUMMARY:Ako zlepšiť mitigáciu a adaptáciu na klimatickú zmenu v meste
DESCRIPTION:
URL:https://uvptechnicom.sk/event/ako-zlepsit-mitigaciu-a-adaptaciu-na-klimaticku-zmenu-v-meste/
LOCATION:UVP TECHNICOM\, Boženy Němcovej 5\, Košice\, Slovakia (Slovak Republic)
CATEGORIES:UVP a TUKE
ATTACH;FMTTYPE=image/jpeg:https://uvptechnicom.sk/wp-content/uploads/2024/05/1920x1080px.jpg
END:VEVENT
BEGIN:VEVENT
DTSTART;VALUE=DATE:20240527
DTEND;VALUE=DATE:20240530
DTSTAMP:20260423T085832
CREATED:20240310T115033Z
LAST-MODIFIED:20240310T115118Z
UID:30520-1716768000-1717027199@uvptechnicom.sk
SUMMARY:VIII Solar Energy Business Mixer | B2B stretnutia
DESCRIPTION:Nepremeškajte príležitosť porozprávať sa priamo s budúcim obchodným partnerom! Kooperačné podujatie v rámci VIII Solar Energy Business Mixer je určené pre všetky subjekty z fotovoltického priemyslu v každej fáze dodávateľského reťazca. Prihlášky do 29. mája 2024. \nDátum konania: 27. – 29. 5. 2024Miesto konania: Varšava\, Poľsko + on-linePrihláška: https://viii-solar-energy-business-mixer.b2match.io/signupWeb stránka podujatia: https://viii-solar-energy-business-mixer.b2match.io/ \nKooperačné podujatie bude prebiehať v hybridnej forme. Stretnutia na mieste sa budú konať počas kongresu PV 2024\, ktorý organizuje Poľská fotovoltická asociácia (DoubleTree by Hilton Hotel & Conference Center Warsaw\, Skalnicowa 21\, 04-797 Varšava). Online stretnutia sú naplánované na nasledujúce dva dni. \nB2B stretnutia sú venované podnikateľom a organizáciám pôsobiacim v oblasti fotovoltiky. Spoločnosti vytvárajúce dodávateľský reťazec\, t. j. výrobcovia komponentov\, servisné spoločnosti\, konzultanti\, stavebníctvo\, predaj energie a služby\, Fabs & Equipments\, Material & Components\, Silicon & Cells\, Modules\, Systems\, BOS spoločnosti sú obzvlášť vítané. \n\nOrganizácia podujatia: \n\n27. mája 2024 – onsite stretnutia\n28. mája 2024 – online stretnutia\n29. mája 2024 – online stretnutia\n\n\nÚčasť na podujatí je bezplatná\, ale registrácia povinná. \n  \nPri vypĺňaní prihlášky si v časti „Settings“ v rámci položky „Support office“ vyberte TUKE ako vašu podpornú inštitúciu. Nezabudnite na vyplnenie tzv. Marketplace. Následne vašu prihlášku skontrolujeme a potvrdíme v registračnom systéme podujatia. Ďakujeme. \nKontakt: Enterprise Europe Network pri UVP TECHNICOM\, e-mail: een@uvptechnicom.sk
URL:https://uvptechnicom.sk/event/viii-solar-energy-business-mixer-b2b-stretnutia/
CATEGORIES:EEN podujatia,Kooperačné podujatia, veľtrhy, výstavy
ATTACH;FMTTYPE=image/jpeg:https://uvptechnicom.sk/wp-content/uploads/2024/03/VIII-Solar-Energy-Business-Mixer-B2B-stretnutia.jpg
END:VEVENT
BEGIN:VEVENT
DTSTART;VALUE=DATE:20240528
DTEND;VALUE=DATE:20240530
DTSTAMP:20260423T085832
CREATED:20240507T072846Z
LAST-MODIFIED:20240507T073000Z
UID:30952-1716854400-1717027199@uvptechnicom.sk
SUMMARY:Medzinárodné kooperačné podujatie Speed-Match 2024 (virtuálne)
DESCRIPTION:Partneri siete Enterprise Europe Network vás pozývajú na medzinárodné kooperačné podujatie Speed Match 2024 zamerané na letecký\, železničný a automobilový priemysel. Prihlášky do 29. mája 2024. \n\nDátum konania: 28.– 29.5.2024Miesto konania: onlineRegistrácia: https://speed-match-2024-international-networking.b2match.io/signupWeb stránka podujatia: https://speed-match-2024-international-networking.b2match.io/ \n\nKooperačné podujatie poskytne veľkým spoločnostiam\, malým a stredným podnikom\, komorám\, klastrom\, investorom\, verejným inštitúciám a združeniam jedinečnú príležitosť nadviazať obchodné a technologické partnerstvá prostredníctvom vopred naplánovaných 20-minútových bilaterálnych stretnutí. \n\nTematické zameranie: \n\nLetecký priemysel – výroba častí motorov\, konštrukčných častí\, tvárnenie plechov\, výroba nástrojov a prípravkov\, presné sústruženie\, káblové zväzky\, špeciálne procesy\, povrchová úprava\, montáž\, integrácia atď.\nŽelezničný priemysel – výroba lokomotív\, výroba vagónov a komponentov\, výroba kabín\, podvozkov\, dieselových motorov\, brzdových systémov\, signalizačných riešení\, energetických systémov a kabeláže\, presné odlievanie\, presné obrábanie\, montáž\, lakovanie\, povrchová úprava atď.\nAutomobilový dodávateľský priemysel – výroba nákladných vozidiel\, ľahkých úžitkových vozidiel\, pohonných jednotiek\, motorov a ich častí\, karosérií hriadeľov\, hasičských vozidiel\, záchranárskych vozidiel\, zdvíhacích zariadení pre autá\, systémov na zamykanie dverí vozidiel\, prívesov\, vaničiek\, sedadlových systémov\, ráfikov\, kabín operátorov\, podvozkov\, nápravových hriadeľov\, zadných prevodových hriadeľov a automobilových dielov atď.\n\n\nÚčasť na podujatí je bezplatná.  \n\nZaregistrujte sa na podujatie\, vytvorte si profil a pri jeho vypĺňaní si v časti „Settings“ v rámci položky „Support office“ vyberte TUKE ako vašu podpornú inštitúciu. V profile je dôležité vyplniť tzv. Marketplace. Podmienkou pre aktiváciu profilu je vyplnenie aspoň jednej položky v Marketplace. Následne vašu prihlášku skontrolujeme a radi potvrdíme v registračnom systéme podujatia. \n\nKontakt: Enterprise Europe Network pri UVP TECHNICOM\, e-mail: een@uvptechnicom.sk
URL:https://uvptechnicom.sk/event/medzinarodne-kooperacne-podujatie-speed-match-2024-virtualne/
CATEGORIES:EEN podujatia,Kooperačné podujatia, veľtrhy, výstavy
ATTACH;FMTTYPE=image/jpeg:https://uvptechnicom.sk/wp-content/uploads/2024/05/Speed-match.jpg
END:VEVENT
BEGIN:VEVENT
DTSTART;VALUE=DATE:20240529
DTEND;VALUE=DATE:20240530
DTSTAMP:20260423T085832
CREATED:20240310T115839Z
LAST-MODIFIED:20240310T120316Z
UID:30537-1716940800-1717027199@uvptechnicom.sk
SUMMARY:Cloud\, data and artificial intelligence (DIGITAL-2024-CLOUD-DATA-AI-06)
DESCRIPTION:
URL:https://uvptechnicom.sk/event/cloud-data-and-artificial-intelligence-digital-2024-cloud-data-ai-06/
CATEGORIES:Program Digitálna Európa
END:VEVENT
BEGIN:VEVENT
DTSTART;VALUE=DATE:20240529
DTEND;VALUE=DATE:20240530
DTSTAMP:20260423T085832
CREATED:20240310T115917Z
LAST-MODIFIED:20240310T115932Z
UID:30539-1716940800-1717027199@uvptechnicom.sk
SUMMARY:Advanced Digital Skills (DIGITAL-2024-ADVANCED-DIGITAL-06)
DESCRIPTION:
URL:https://uvptechnicom.sk/event/advanced-digital-skills-digital-2024-advanced-digital-06/
CATEGORIES:Program Digitálna Európa
END:VEVENT
BEGIN:VEVENT
DTSTART;VALUE=DATE:20240529
DTEND;VALUE=DATE:20240530
DTSTAMP:20260423T085832
CREATED:20240310T115643Z
LAST-MODIFIED:20240310T120135Z
UID:30533-1716940800-1717027199@uvptechnicom.sk
SUMMARY:Cloud\, data and artificial intelligence (DIGITAL-2024-AI-06)
DESCRIPTION:
URL:https://uvptechnicom.sk/event/cloud-data-and-artificial-intelligence-digital-2024-ai-06/
CATEGORIES:Program Digitálna Európa
END:VEVENT
BEGIN:VEVENT
DTSTART;VALUE=DATE:20240529
DTEND;VALUE=DATE:20240530
DTSTAMP:20260423T085832
CREATED:20240310T115714Z
LAST-MODIFIED:20240310T115714Z
UID:30534-1716940800-1717027199@uvptechnicom.sk
SUMMARY:Cloud\, data and artificial intelligence (DIGITAL-2024-CLOUD-AI-06)
DESCRIPTION:
URL:https://uvptechnicom.sk/event/cloud-data-and-artificial-intelligence-digital-2024-cloud-ai-06/
CATEGORIES:Program Digitálna Európa
END:VEVENT
BEGIN:VEVENT
DTSTART;VALUE=DATE:20240529
DTEND;VALUE=DATE:20240530
DTSTAMP:20260423T085832
CREATED:20240310T115826Z
LAST-MODIFIED:20240310T115826Z
UID:30536-1716940800-1717027199@uvptechnicom.sk
SUMMARY:Cloud\, data and artificial intelligence (DIGITAL-2024-CLOUD-DATA-06)
DESCRIPTION:
URL:https://uvptechnicom.sk/event/cloud-data-and-artificial-intelligence-digital-2024-cloud-data-06/
CATEGORIES:Program Digitálna Európa
END:VEVENT
BEGIN:VEVENT
DTSTART;VALUE=DATE:20240529
DTEND;VALUE=DATE:20240530
DTSTAMP:20260423T085832
CREATED:20240310T115947Z
LAST-MODIFIED:20240310T115947Z
UID:30540-1716940800-1717027199@uvptechnicom.sk
SUMMARY:Advanced Digital Skills (DIGITAL-2024-ADVANCED-SKILLS-06)
DESCRIPTION:
URL:https://uvptechnicom.sk/event/advanced-digital-skills-digital-2024-advanced-skills-06/
CATEGORIES:Program Digitálna Európa
END:VEVENT
BEGIN:VEVENT
DTSTART;VALUE=DATE:20240530
DTEND;VALUE=DATE:20240531
DTSTAMP:20260423T085832
CREATED:20240328T185029Z
LAST-MODIFIED:20240328T185029Z
UID:30667-1717027200-1717113599@uvptechnicom.sk
SUMMARY:INDUSAC OPEN CALL FOR STUDENTS AND RESEARCHERS
DESCRIPTION:
URL:https://uvptechnicom.sk/event/indusac-open-call-for-students-and-researchers/
CATEGORIES:Kaskádové výzvy
END:VEVENT
BEGIN:VEVENT
DTSTART;VALUE=DATE:20240531
DTEND;VALUE=DATE:20240601
DTSTAMP:20260423T085832
CREATED:20240328T184826Z
LAST-MODIFIED:20240328T184826Z
UID:30661-1717113600-1717199999@uvptechnicom.sk
SUMMARY:MASTER: 1st Open Call
DESCRIPTION:
URL:https://uvptechnicom.sk/event/master-1st-open-call/
CATEGORIES:Kaskádové výzvy
END:VEVENT
END:VCALENDAR