BEGIN:VCALENDAR
VERSION:2.0
PRODID:-//UVP TECHNICOM - ECPv6.15.20//NONSGML v1.0//EN
CALSCALE:GREGORIAN
METHOD:PUBLISH
X-WR-CALNAME:UVP TECHNICOM
X-ORIGINAL-URL:https://uvptechnicom.sk
X-WR-CALDESC:Events for UVP TECHNICOM
REFRESH-INTERVAL;VALUE=DURATION:PT1H
X-Robots-Tag:noindex
X-PUBLISHED-TTL:PT1H
BEGIN:VTIMEZONE
TZID:Europe/Bratislava
BEGIN:DAYLIGHT
TZOFFSETFROM:+0100
TZOFFSETTO:+0200
TZNAME:CEST
DTSTART:20230326T010000
END:DAYLIGHT
BEGIN:STANDARD
TZOFFSETFROM:+0200
TZOFFSETTO:+0100
TZNAME:CET
DTSTART:20231029T010000
END:STANDARD
BEGIN:DAYLIGHT
TZOFFSETFROM:+0100
TZOFFSETTO:+0200
TZNAME:CEST
DTSTART:20240331T010000
END:DAYLIGHT
BEGIN:STANDARD
TZOFFSETFROM:+0200
TZOFFSETTO:+0100
TZNAME:CET
DTSTART:20241027T010000
END:STANDARD
BEGIN:DAYLIGHT
TZOFFSETFROM:+0100
TZOFFSETTO:+0200
TZNAME:CEST
DTSTART:20250330T010000
END:DAYLIGHT
BEGIN:STANDARD
TZOFFSETFROM:+0200
TZOFFSETTO:+0100
TZNAME:CET
DTSTART:20251026T010000
END:STANDARD
END:VTIMEZONE
BEGIN:VEVENT
DTSTART;VALUE=DATE:20240112
DTEND;VALUE=DATE:20240315
DTSTAMP:20260423T120018
CREATED:20240123T121702Z
LAST-MODIFIED:20240123T121823Z
UID:30129-1705017600-1710460799@uvptechnicom.sk
SUMMARY:Matchmakingová online platforma k 6. výzve programu Eurostars
DESCRIPTION:Predstavujeme vám matchmakingovú online platformu k 6. výzve programu Eurostars zriadenej na podporu pri predkladaní návrhov na spoločné projekty výskumu a vývoja. \nPlatnosť: 12.1.2024 – 14.3.2024 \nRegistrácia: https://eurostars-6th-call-matchmaking.b2match.io/signup \nWeb: https://eurostars-6th-call-matchmaking.b2match.io/ \nTáto platforma poskytuje online priestor na vyhľadávanie a publikovanie projektových príležitostí. Zaregistrujte sa\, vytvorte profil a dohodnite si stretnutia so zaregistrovanými účastníkmi. Až do 14.marca 2024 máte možnosť prostredníctvom tohto online priestoru diskutovať o potenciálnej spolupráci s ostatnými zaregistrovanými. \nTematické zameranie (v rámci 6. výzvy programu Eurostars): \n\nEnergetika\, energetická účinnosť a skladovanie energie;\nPoľnohospodárstvo: potraviny/krmivá;\nDoprava a mobilita;\nVýroba;\nPokročilé technológie.\n\nÚčasť na tejto platforme je bezplatná. \nAko postupovať pri registrácií\, ako vytvoriť profil a realizovať stretnutia sa dozviete TU. Medzinárodné usmernenia ako aj usmernenia pre jednotlivé krajiny nájdete na tomto odkaze. \nZaregistrujte sa na platformu\, vytvorte si profil a pri jeho vypĺňaní si v časti „Settings“ v rámci položky „Support office“ vyberte TUKE ako vašu podpornú inštitúciu. V profile je dôležité vyplniť tzv. Marketplace\, pričom podmienkou je vyplnenie aspoň 1 položky. Následne vašu prihlášku skontrolujeme a radi v registračnom systéme potvrdíme. Ďakujeme. \nKontakt: Enterprise Europe Network pri UVP TECHNICOM\, e-mail: een@uvptechnicom.sk
URL:https://uvptechnicom.sk/event/matchmakingova-online-platforma-k-6-vyzve-programu-eurostars/
CATEGORIES:EEN podujatia,Kooperačné podujatia, veľtrhy, výstavy
ATTACH;FMTTYPE=image/jpeg:https://uvptechnicom.sk/wp-content/uploads/2024/01/eurostars.jpg
END:VEVENT
BEGIN:VEVENT
DTSTART;VALUE=DATE:20240301
DTEND;VALUE=DATE:20240302
DTSTAMP:20260423T120018
CREATED:20240112T081356Z
LAST-MODIFIED:20240112T081441Z
UID:30048-1709251200-1709337599@uvptechnicom.sk
SUMMARY:NGI Search 4th Open Call
DESCRIPTION:
URL:https://uvptechnicom.sk/event/ngi-search-4th-open-call/
CATEGORIES:Kaskádové výzvy
END:VEVENT
BEGIN:VEVENT
DTSTART;VALUE=DATE:20240304
DTEND;VALUE=DATE:20240305
DTSTAMP:20260423T120018
CREATED:20240112T081344Z
LAST-MODIFIED:20240112T081432Z
UID:30047-1709510400-1709596799@uvptechnicom.sk
SUMMARY:X2.0 5th Open Call
DESCRIPTION:
URL:https://uvptechnicom.sk/event/x2-0-5th-open-call/
CATEGORIES:Kaskádové výzvy
END:VEVENT
BEGIN:VEVENT
DTSTART;VALUE=DATE:20240305
DTEND;VALUE=DATE:20240306
DTSTAMP:20260423T120018
CREATED:20231221T002550Z
LAST-MODIFIED:20231221T002640Z
UID:29950-1709596800-1709683199@uvptechnicom.sk
SUMMARY:Kooperačné podujatie počas JEC World 2024
DESCRIPTION:Partneri Enterprise Europe Network vás pozývajú na kooperačné podujatie\, ktoré sa uskutoční v rámci veľtrhu JEC World 2024\, so zameraním na oblasť kompozitov. Registrácia je otvorená do 15. marca 2024. \nDátum konania: 5.3. – 15.3.2024Miesto konania: Paríž\, Francúzsko + onlineRegistrácia: https://een-matchmaking-jec-world-2024.b2match.io/signupWeb stránka podujatia: https://een-matchmaking-jec-world-2024.b2match.io/ \nKooperačné podujatie vám prináša príležitosť stretnúť nákupcov\, dodávateľov\, výskumníkov\, start-upy\, klastre a iné organizácie z viacerých európskych krajín na jednom mieste. Nadviažte nové kontakty a začnite rokovať o budúcich kontraktoch! \nTohtoročné témy podujatia: \n\nVlákna\nKompozitný materiál\nPlasty\nPolyméry\nUhlík\nSklo\nTextílie\n\nOrganizácia kooperačného podujatia: \n\n5.-7. marca 2024 – osobné stretnutia\n12.-.15. marca 2024 – online stretnutia\n\nÚčasť na kooperačnom podujatí je bezplatná\, ale registrácia povinná. \nZaregistrujte sa na podujatie\, vytvorte si profil a pri jeho vypĺňaní si v časti „Settings“ v rámci položky „Support office“ vyberte TUKE ako vašu podpornú inštitúciu. V profile je dôležité vyplniť časť „Marketplace“. Následne vašu prihlášku obratom radi potvrdíme v registračnom systéme podujatia. Ďakujeme. \nTo\, ako postupovať v prípade záujmu o online stretnutia sa dozviete TU. \nKontakt: Enterprise Europe Network pri UVP TECHNICOM\, e-mail: een@uvptechnicom.sk
URL:https://uvptechnicom.sk/event/kooperacne-podujatie-pocas-jec-world-2024/
CATEGORIES:EEN podujatia,Kooperačné podujatia, veľtrhy, výstavy
ATTACH;FMTTYPE=image/png:https://uvptechnicom.sk/wp-content/uploads/2023/12/jec.png
END:VEVENT
BEGIN:VEVENT
DTSTART;VALUE=DATE:20240305
DTEND;VALUE=DATE:20240306
DTSTAMP:20260423T120018
CREATED:20240228T083205Z
LAST-MODIFIED:20240228T115537Z
UID:30422-1709596800-1709683199@uvptechnicom.sk
SUMMARY:Výzva na BIP mobilitu pre študentov (Sevilla\, Španielsko)
DESCRIPTION:Úsek zahraničných vzťahov a mobility TUKE vypisuje výzvu na predkladanie prihlášok pre študentov\, záujemcov o Erasmus+ krátkodobý študijný pobyt (tzv. Blended Intensive Program\, t.j. kombinácia fyzickej a online mobility) v akademickom roku 2023/2024 organizovaný partnerskou inštitúciou Universidad de Sevilla v Sevilli (Španielsko) v termíne: 20.-24. máj 2024 pod názvom BIP Program in Energy: Generation\, Storage and Management. \nMaximálny počet účastníkov za TUKE: 6 \nPrihlášky je možné odovzdávať fakultným koordinátorom do 5.3.2024. \n\nViac informácií je možné nájsť na webovej stránke erasmus.tuke.sk.
URL:https://uvptechnicom.sk/event/vyzva-na-bip-mobilitu-pre-studentov-sevilla-spanielsko/
LOCATION:Sevilla\, Sevilla\, Spain
CATEGORIES:Ulysseus,UVP a TUKE
ATTACH;FMTTYPE=image/jpeg:https://uvptechnicom.sk/wp-content/uploads/2024/02/Sevilla.jpg
END:VEVENT
BEGIN:VEVENT
DTSTART;VALUE=DATE:20240305
DTEND;VALUE=DATE:20240306
DTSTAMP:20260423T120018
CREATED:20240228T083207Z
LAST-MODIFIED:20240228T115537Z
UID:30421-1709596800-1709683199@uvptechnicom.sk
SUMMARY:Výzva na BIP mobilitu pre študentov (Nice\, Francúzsko)
DESCRIPTION:Úsek zahraničných vzťahov a mobility TUKE vypisuje výzvu na predkladanie prihlášok pre študentov\, záujemcov o Erasmus+ krátkodobý študijný pobyt (tzv. Blended Intensive Program\, t.j. kombinácia fyzickej a online mobility) v akademickom roku 2023/2024 organizovaný partnerskou inštitúciou Université Côte d‚Azur v Nice (Francúzsko) v termíne: 10.-14.jún 2024 pod názvom Ulysseus Entre Camp. \n Podujatie sa v rámci aliancie Ulysseus organizuje už tretíkrát\, TUKE sa podieľa na organizácii (aj) tohto ročníka. \nMaximálny počet účastníkov za TUKE: 6 \nPrihlášky je možné odovzdávať fakultným koordinátorom do 5.3.2024. \nViac informácií je možné nájsť na webovej stránke erasmus.tuke.sk.
URL:https://uvptechnicom.sk/event/vyzva-na-bip-mobilitu-pre-studentov-nice-francuzsko/
LOCATION:Nice\, Nice\, France
CATEGORIES:Ulysseus,UVP a TUKE
ATTACH;FMTTYPE=image/webp:https://uvptechnicom.sk/wp-content/uploads/2024/02/Nice.webp
END:VEVENT
BEGIN:VEVENT
DTSTART;TZID=Europe/Bratislava:20240305T150000
DTEND;TZID=Europe/Bratislava:20240305T190000
DTSTAMP:20260423T120018
CREATED:20240304T143037Z
LAST-MODIFIED:20240304T150007Z
UID:30467-1709650800-1709665200@uvptechnicom.sk
SUMMARY:Bootcamp 01
DESCRIPTION:Biznis model (Obchodný model) popisuje dôvody a spôsoby toho\, ako firma vytvára\, dodáva a zachytáva hodnotu. Východiskom je spoločný koncept obchodného modelu\, ktorému každý rozumie: taký\, ktorý uľahčuje popis a diskusiu\, aby sme začínali od rovnakého bodu a hovorili o tej istej veci. Výzvou je\, že koncept musí byť jednoduchý\, relevantný a intuitívne zrozumiteľný. Ukážeme si spôsob\, ako jednoducho uchopiť a zmapovať biznis model spoločnosti\, z akých základných kameňov sa skladá a v rámci praktickej časti spracujeme individuálne prvotný návrh biznis modelu účastníkov. \nREGISTRÁCIA
URL:https://uvptechnicom.sk/event/bootcamp-01/
LOCATION:UVP TECHNICOM\, Boženy Němcovej 5\, Košice\, Slovakia (Slovak Republic)
CATEGORIES:UVP a TUKE
ATTACH;FMTTYPE=image/jpeg:https://uvptechnicom.sk/wp-content/uploads/2024/03/unnamed-1-scaled.jpg
END:VEVENT
BEGIN:VEVENT
DTSTART;VALUE=DATE:20240308
DTEND;VALUE=DATE:20240309
DTSTAMP:20260423T120018
CREATED:20231208T080952Z
LAST-MODIFIED:20231208T081046Z
UID:29896-1709856000-1709942399@uvptechnicom.sk
SUMMARY:CIRCULAR-RENEWABLEB2B@FGEXPO+RESTECH
DESCRIPTION:Pozývame vás na multisektorové podujatie 2v1\, ktoré ponúka dve výstavy a jedno kooperačné podujatie\, so zameraním na obehové hospodárstvo a obnoviteľnú energiu. \nPri príležitosti 2. ročníka výstavného a kongresového podujatia Forward Green (FG Expo) a 1. ročníka výstavy Renewable EnergyTech (RESTech) Federácia priemyselných odvetví Grécka (SBE)\, člen siete Enterprise Europe Network – Hellas\, v spolupráci s TIF HELEXPO S.A. spoluorganizujú v gréckom Solúne kooperačné podujatie. Prihlášky do 7. marca 2024. \nDátum konania: 8.-9.3.22024Miesto konania: Solún\, GréckoRegistrácia: https://circular-renewableb2b.b2match.io/signupWeb stránka podujatia: https://circular-renewableb2b.b2match.io/home \nCieľom kooperačného podujatia je prispieť k implementácii novej podnikateľskej mentality\, založenej na obehovom hospodárstve\, zelenej energii a transformácii obchodných modelov s cieľom zachovať prírodné zdroje a smerovať k udržateľnému rozvoju. Tento environmentálny prístup k hospodárstvu sa týka viacerých procesov\, ktoré si vyžadujú obehové plánovanie. Začína sa efektívnym zberom\, využívaním\, zhodnocovaním a opätovným používaním surovín\, ako aj využívaním obnoviteľných zdrojov energie a vedie až k výrobe\, distribúcii\, spotrebe a recyklácii spotrebovaných výrobkov. V životnom prostredí tak končí menej odpadu a cenné prírodné zdroje sa využívajú hospodárne a zachovávajú sa. \nZameranie podujatia: \n\nrecyklácia;\nefektívne využitie surovín;\nudržateľné stavebné materiály;\ntechnológie obehového hospodárstva;\nudržateľné recyklovateľné obaly;\nobnoviteľné zdroje energie / zelená energia;\nskladovanie energie / úspora energie;\nvodík a zelené plyny;\naplikácie pre inteligentné riadenie energie.\n\nPre koho je podujatie určené? \n\nstart-upy\, malé a stredné podniky\, veľké podniky;\nprofesijné organizácie a zainteresované strany;\nvládne agentúry;\nmiestne a regionálne orgány.\n\nZaregistrujte sa na podujatie\, vytvorte si profil a pri jeho vypĺňaní si v časti „Settings“ v rámci položky „Support office“ vyberte TUKE ako vašu podpornú inštitúciu. Nezabudnite na vyplnenie tzv. Marketplace\, podmienkou je vyplnenie aspoň 1 Marketplace Opportunity. Následne vašu prihlášku obratom radi potvrdíme v registračnom systéme podujatia. Ďakujeme. \nVšetci účastníci s naplánovanými stretnutiami budú mať voľný vstup na výstavy FORWARD GREEN a Renewable EnergyTech. Bezplatná vstupenka s QR kódom pre vstup na veľtrh vám bude zaslaná e-mailom. \nKontakt: Enterprise Europe Network pri UVP TECHNICOM\, e-mail: een@uvptechnicom.sk
URL:https://uvptechnicom.sk/event/circular-renewableb2bfgexporestech/
CATEGORIES:EEN podujatia,Kooperačné podujatia, veľtrhy, výstavy
ATTACH;FMTTYPE=image/png:https://uvptechnicom.sk/wp-content/uploads/2023/12/circular-renewableb2bfgexporestech.png
END:VEVENT
BEGIN:VEVENT
DTSTART;VALUE=DATE:20240311
DTEND;VALUE=DATE:20240312
DTSTAMP:20260423T120018
CREATED:20240128T113656Z
LAST-MODIFIED:20240128T113721Z
UID:30159-1710115200-1710201599@uvptechnicom.sk
SUMMARY:IMPETUS 2nd Call Prize
DESCRIPTION:
URL:https://uvptechnicom.sk/event/impetus-2nd-call-prize/
CATEGORIES:Horizont Európa
END:VEVENT
BEGIN:VEVENT
DTSTART;VALUE=DATE:20240311
DTEND;VALUE=DATE:20240312
DTSTAMP:20260423T120018
CREATED:20240212T083603Z
LAST-MODIFIED:20240212T083603Z
UID:30265-1710115200-1710201599@uvptechnicom.sk
SUMMARY:Impetus 2nd Call
DESCRIPTION:
URL:https://uvptechnicom.sk/event/impetus-2nd-call/
CATEGORIES:Kaskádové výzvy
END:VEVENT
BEGIN:VEVENT
DTSTART;VALUE=DATE:20240314
DTEND;VALUE=DATE:20240315
DTSTAMP:20260423T120018
CREATED:20240128T113750Z
LAST-MODIFIED:20240128T113750Z
UID:30162-1710374400-1710460799@uvptechnicom.sk
SUMMARY:IMPETUS 2nd Call Accelerator
DESCRIPTION:
URL:https://uvptechnicom.sk/event/impetus-2nd-call-accelerator/
CATEGORIES:Horizont Európa
END:VEVENT
BEGIN:VEVENT
DTSTART;VALUE=DATE:20240314
DTEND;VALUE=DATE:20240316
DTSTAMP:20260423T120018
CREATED:20240214T110901Z
LAST-MODIFIED:20240221T215229Z
UID:30310-1710374400-1710547199@uvptechnicom.sk
SUMMARY:MBM TOURISM PRAGUE 2024
DESCRIPTION:Pozývame vás na kooperačné podujatie MBM TOURISM PRAGUE 2024\, ktoré sa uskutoční počas veľtrhu Holiday World & Regional World v Prahe so zameraním na oblasť turizmu. Prihlášky do 3. marca 2024. \nDátum konania: 14. – 15. 3. 2024Miesto konania: Praha\, Česká republika + on-linePrihláška: https://mbm-tourism-prague-2024.b2match.io/signupWeb stránka podujatia: https://mbm-tourism-prague-2024.b2match.io/ \n  \nSektorové zameranie podujatia:\n\nCestovné kancelárie a cestovné agentúry\nUbytovanie a stravovanie\nKúpele\, relaxačné a wellness strediská\, zdravotná turistika\nDoprava a udržateľná mobilita\nDigitálne riešenia pre cestovný ruch\nPodporné služby pre cestovný ruch\nNové trendy\, projektové partnerstvo\nKultúrne dedičstvo\, rekonštrukcie a obnovy\nZainteresované strany pôsobiace v odvetviach cestovného ruchu a kultúrneho dedičstva\n\n  \nOrganizácia podujatia:\n\n14. marca 2024 – online stretnutia\n15. marca 2024 – osobné stretnutia v mieste podujatia\n\n  \nPrečo sa zúčastniť:\n\nVyužite možnosť nájsť nových partnerov na spoluprácu/podnikanie/projekt;\nPríležitosť rozšíriť sieť doterajších partnerov;\nVymieňajte skúsenosti\, nápady pre podnikanie s inými aktérmi cestovného ruchu;\nUskutočnite až 15 stretnutí v priebehu 1 dňa.\n\n  \nÚčasť na podujatí je bezplatná\, ale registrácia a aktivácia profilu sú povinné. \n  \nPri vypĺňaní prihlášky si v časti „Settings“ v rámci položky „Support office“ vyberte TUKE ako vašu podpornú inštitúciu. Nezabudnite na vyplnenie tzv. Marketplace. Následne vašu prihlášku skontrolujeme a potvrdíme v registračnom systéme podujatia. Ďakujeme. \n  \nKontakt: Enterprise Europe Network pri UVP TECHNICOM\, e-mail: een@uvptechnicom.sk
URL:https://uvptechnicom.sk/event/mbm-tourism-prague-2024/
CATEGORIES:EEN podujatia,Kooperačné podujatia, veľtrhy, výstavy
ATTACH;FMTTYPE=image/jpeg:https://uvptechnicom.sk/wp-content/uploads/2024/02/Tourism.jpg
END:VEVENT
BEGIN:VEVENT
DTSTART;VALUE=DATE:20240314
DTEND;VALUE=DATE:20240323
DTSTAMP:20260423T120018
CREATED:20231212T092309Z
LAST-MODIFIED:20231212T092355Z
UID:29917-1710374400-1711151999@uvptechnicom.sk
SUMMARY:Kooperačné podujatie v rámci IPEC 2024
DESCRIPTION:Partneri Enterprise Europe Network pozývajú všetkých zainteresovaných na kooperačné podujatie\, ktoré bude súčasťou konferencie IPEC 2024 so zameraním na tému Katalyzácia zmien: Transformácia priemyslu prostredníctvom umelej inteligencie a obehového hospodárstva. Prihlášky do 22. marca 2024. \nDátum konania: 14.3. – 22.3.22024Miesto konania: onlineRegistrácia: https://ipec-2024.b2match.io/signupWeb stránka podujatia: https://ipec-2024.b2match.io/ \nUž po deviatykrát sa uskutoční medzinárodná konferencia na tému Digitalizácia a udržateľnosť s odkazom na ciele udržateľného rozvoja OSN\, ako sú napr. kvalitné vzdelávanie (SDG 4)\, priemysel\, inovácie a infraštruktúra (SDG 9)\, zodpovedná spotreba a výroba (SDG 12). Nadchádzajúce podujatie sa uskutoční 13. marca 2024 v online formáte. Cieľom IPEC 2024 je podporiť vytváranie sietí a výmenu poznatkov medzi spoločnosťami z Bavorska a medzinárodnými spoločnosťami\, start-upmi a výskumnými inštitúciami. \nÚčasť je bezplatná\, konferencia bude vysielaná prostredníctvom GoToWebinára (13. marca). Vzhľadom na medzinárodné zameranie podujatia bude jazykom konferencie angličtina. \nZameranie konferencie: \n\nStratégie obehového hospodárstva;\nMetriky obehového hospodárstva a vykazovanie;\nEfektívnosť využívania zdrojov na základe umelej inteligencie;\nAnalýza údajov pre udržateľnosť;\nUdržateľné výrobné technológie;\nOptimalizácia dodávateľského reťazca;\nCirkulárne obchodné modely;\nCirkulárny dizajn a inovácie;\nPolitické a regulačné rámce;\n… a mnoho ďalších.\n\nKonferencia (13. marca 2024) \n\n15 – 20 min. vystúpenia z rôznych krajín\, ktoré sa zaoberajú rôznymi aspektmi energie\, dodávateľských reťazcov a výroby zameranej na človeka;\nPitch Session so 6-8 prezentáciami (cca 5 min. a 5 slajdov) na predstavenie nových nápadov.\nCelý program konferencie dostupný TU.\n\nKooperačné podujatie bude prebiehať online formou 14. až 22. marca 2024. \nZaregistrujte sa na podujatie\, vytvorte si profil a pri jeho vypĺňaní si v časti „Settings“ v rámci položky „Support office“ vyberte TUKE ako vašu podpornú inštitúciu. Nezabudnite na vyplnenie tzv. Marketplace. Následne vašu prihlášku obratom radi potvrdíme v registračnom systéme podujatia. Ďakujeme. Bližšie inštrukcie ako uskutočniť online stretnutie nájdete TU. \nKontakt: Enterprise Europe Network pri UVP TECHNICOM\, e-mail: een@uvptechnicom.sk
URL:https://uvptechnicom.sk/event/kooperacne-podujatie-v-ramci-ipec-2024/
LOCATION:Online
CATEGORIES:EEN podujatia,Kooperačné podujatia, veľtrhy, výstavy
ATTACH;FMTTYPE=image/png:https://uvptechnicom.sk/wp-content/uploads/2023/12/ipec_2024.png
END:VEVENT
BEGIN:VEVENT
DTSTART;VALUE=DATE:20240315
DTEND;VALUE=DATE:20240316
DTSTAMP:20260423T120018
CREATED:20240212T083953Z
LAST-MODIFIED:20240212T083953Z
UID:30279-1710460800-1710547199@uvptechnicom.sk
SUMMARY:Výzva na predkladanie žiadostí o poskytnutie prostriedkov mechanizmu na podporu obnovy a odolnosti zameraná na podporu vývoja inovatívnych riešení v oblasti dekarbonizácie
DESCRIPTION:
URL:https://uvptechnicom.sk/event/vyzva-na-predkladanie-ziadosti-o-poskytnutie-prostriedkov-mechanizmu-na-podporu-obnovy-a-odolnosti-zamerana-na-podporu-vyvoja-inovativnych-rieseni-v-oblasti-dekarbonizacie/
CATEGORIES:Plán obnovy
END:VEVENT
BEGIN:VEVENT
DTSTART;VALUE=DATE:20240315
DTEND;VALUE=DATE:20240316
DTSTAMP:20260423T120018
CREATED:20240212T084010Z
LAST-MODIFIED:20240212T084114Z
UID:30280-1710460800-1710547199@uvptechnicom.sk
SUMMARY:Podpora vývoja inovatívnych digitálnych riešení
DESCRIPTION:
URL:https://uvptechnicom.sk/event/podpora-vyvoja-inovativnych-digitalnych-rieseni/
CATEGORIES:Plán obnovy
END:VEVENT
BEGIN:VEVENT
DTSTART;VALUE=DATE:20240317
DTEND;VALUE=DATE:20240318
DTSTAMP:20260423T120018
CREATED:20240212T083131Z
LAST-MODIFIED:20240212T083244Z
UID:30262-1710633600-1710719999@uvptechnicom.sk
SUMMARY:EIT Health Digivitality
DESCRIPTION:
URL:https://uvptechnicom.sk/event/eit-health-digivitality/
CATEGORIES:Kaskádové výzvy
END:VEVENT
BEGIN:VEVENT
DTSTART;VALUE=DATE:20240319
DTEND;VALUE=DATE:20240320
DTSTAMP:20260423T120018
CREATED:20240111T115619Z
LAST-MODIFIED:20240111T203725Z
UID:30009-1710806400-1710892799@uvptechnicom.sk
SUMMARY:Open Source for Cloud/Edge to support European Digital Autonomy (RIA)
DESCRIPTION:
URL:https://uvptechnicom.sk/event/open-source-for-cloud-edge-to-support-european-digital-autonomy-ria/
CATEGORIES:Horizont Európa
END:VEVENT
BEGIN:VEVENT
DTSTART;VALUE=DATE:20240319
DTEND;VALUE=DATE:20240320
DTSTAMP:20260423T120018
CREATED:20240111T115707Z
LAST-MODIFIED:20240111T204300Z
UID:30010-1710806400-1710892799@uvptechnicom.sk
SUMMARY:Platform Building\, standardisation and Up-scaling of the ‘Cloud-Edge-IoT’ Solutions
DESCRIPTION:
URL:https://uvptechnicom.sk/event/platform-building-standardisation-and-up-scaling-of-the-cloud-edge-iot-solutions-horizontal-activities-csa/
CATEGORIES:Horizont Európa
ATTACH;FMTTYPE=image/jpeg:https://uvptechnicom.sk/wp-content/uploads/2019/10/uvp_up.jpg
END:VEVENT
BEGIN:VEVENT
DTSTART;VALUE=DATE:20240319
DTEND;VALUE=DATE:20240320
DTSTAMP:20260423T120018
CREATED:20240111T115724Z
LAST-MODIFIED:20240111T203727Z
UID:30011-1710806400-1710892799@uvptechnicom.sk
SUMMARY:Piloting emerging Smart IoT Platforms and decentralized intelligence (IA)
DESCRIPTION:
URL:https://uvptechnicom.sk/event/piloting-emerging-smart-iot-platforms-and-decentralized-intelligence-ia/
CATEGORIES:Horizont Európa
ATTACH;FMTTYPE=image/jpeg:https://uvptechnicom.sk/wp-content/uploads/2019/10/uvp_up.jpg
END:VEVENT
BEGIN:VEVENT
DTSTART;VALUE=DATE:20240319
DTEND;VALUE=DATE:20240320
DTSTAMP:20260423T120018
CREATED:20240111T203546Z
LAST-MODIFIED:20240111T203730Z
UID:30034-1710806400-1710892799@uvptechnicom.sk
SUMMARY:Public recognition scheme for Open Source (CSA)
DESCRIPTION:
URL:https://uvptechnicom.sk/event/public-recognition-scheme-for-open-source-csa/
CATEGORIES:Horizont Európa
END:VEVENT
BEGIN:VEVENT
DTSTART;TZID=Europe/Bratislava:20240319T150000
DTEND;TZID=Europe/Bratislava:20240319T190000
DTSTAMP:20260423T120018
CREATED:20240304T144428Z
LAST-MODIFIED:20240304T150433Z
UID:30485-1710860400-1710874800@uvptechnicom.sk
SUMMARY:Bootcamp 02
DESCRIPTION:Akýkoľvek podnikateľský nápad nemá žiadnu hodnotu\, pokiaľ neprináša konkrétne benefity relevantné pre jednotlivé skupiny cieľových zákazníkov. Ako takú hodnotovú ponuku zostaviť\, ako ju správne zladiť s problémami\, výzvami a očakávaniami vašich zákazníkov? Aj na tieto otázky nám pomôže nájsť odpoveď jednoduchý framework Customer Value Proposition (CVP)\, vďaka ktorému do hĺbky porozumiete vašim zákazníckym skupinám\, načrtnete si ich najčastejšie obavy a očakávania a pripravíte im ponuku\, ktorú neodmietnu. \nREGISTRÁCIA
URL:https://uvptechnicom.sk/event/bootcamp-02/
LOCATION:UVP TECHNICOM\, Boženy Němcovej 5\, Košice\, Slovakia (Slovak Republic)
CATEGORIES:UVP a TUKE
ATTACH;FMTTYPE=image/jpeg:https://uvptechnicom.sk/wp-content/uploads/2024/03/business-concept-dark-grey-table-flat-lay-finger-showing-wooden-cube-with-icon-scaled.jpg
END:VEVENT
BEGIN:VEVENT
DTSTART;VALUE=DATE:20240321
DTEND;VALUE=DATE:20240322
DTSTAMP:20260423T120018
CREATED:20240310T115757Z
LAST-MODIFIED:20240310T115757Z
UID:30535-1710979200-1711065599@uvptechnicom.sk
SUMMARY:Advanced Digital Skills (DIGITAL-2023-SKILLS-05)
DESCRIPTION:
URL:https://uvptechnicom.sk/event/advanced-digital-skills-digital-2023-skills-05/
CATEGORIES:Program Digitálna Európa
END:VEVENT
BEGIN:VEVENT
DTSTART;VALUE=DATE:20240322
DTEND;VALUE=DATE:20240323
DTSTAMP:20260423T120018
CREATED:20240212T083601Z
LAST-MODIFIED:20240212T083601Z
UID:30263-1711065600-1711151999@uvptechnicom.sk
SUMMARY:6G Bricks Open Call
DESCRIPTION:
URL:https://uvptechnicom.sk/event/6g-bricks-open-call/
CATEGORIES:Kaskádové výzvy
END:VEVENT
BEGIN:VEVENT
DTSTART;VALUE=DATE:20240322
DTEND;VALUE=DATE:20240323
DTSTAMP:20260423T120018
CREATED:20240223T075957Z
LAST-MODIFIED:20240223T075957Z
UID:30372-1711065600-1711151999@uvptechnicom.sk
SUMMARY:Cezhraničné cyklistické prepojenie a spolupráca
DESCRIPTION:Pozývame vás na B2B podujatie so zameraním na cyklistický priemysel organizované počas veľtrhu cyklistiky FOR BIKES v Prahe. Prihlášky do 15. marca 2024. \nDátum konania: 22.3.2024\nMiesto konania: Praha\, Česká republika\nRegistrácia: https://bit.ly/for-bikes-2024\nWeb stránka podujatia FOR BIKES: https://forbikes.cz/en/ \nPodujatie je tematicky venované spoločnostiam\, zainteresovaným stranám a inštitúciám v cyklistickom priemysle: \n\nVýrobcovia/distribútori bicyklov a e-bicyklov\, štandardizovaných aj na mieru;\nVýrobcovia príslušenstva k (elektro) bicyklom;\nVýrobcovia/distribútori cyklistického oblečenia a doplnkov;\nOrganizátori alternatívneho spôsobu dopravy v intraviláne;\nCargo – cyklistika;\nSpoločnosti\, ktoré poskytujú služby súvisiace s cyklistikou\, napr. smart IT riešenia\, spoločnosti pomáhajúce podporovať a bezpečne organizovať cyklistickú dopravu v mestách atď.\n\nPre účasť na B2B podujatí sa zaregistrujte na https://bit.ly/for-bikes-2024 (podujatie nebude organizované prostredníctvom platformy b2match.io) alebo kontaktujte nás na een@uvptechnicom.sk alebo hlavného organizátora podujatia\, Evu Hrubešovú na eva.hrubesova@crr.cz.
URL:https://uvptechnicom.sk/event/cezhranicne-cyklisticke-prepojenie-a-spolupraca/
CATEGORIES:EEN podujatia,Kooperačné podujatia, veľtrhy, výstavy
ATTACH;FMTTYPE=image/jpeg:https://uvptechnicom.sk/wp-content/uploads/2024/02/nikolay-kovalenko-5uE95aJ9OQ0-unsplash-scaled.jpg
END:VEVENT
BEGIN:VEVENT
DTSTART;VALUE=DATE:20240326
DTEND;VALUE=DATE:20240327
DTSTAMP:20260423T120018
CREATED:20240310T115855Z
LAST-MODIFIED:20240310T115905Z
UID:30538-1711411200-1711497599@uvptechnicom.sk
SUMMARY:Deployment Actions in the area of Cybersecurity (DIGITAL-ECCC-2024-DEPLOY-CYBER-06)
DESCRIPTION:
URL:https://uvptechnicom.sk/event/deployment-actions-in-the-area-of-cybersecurity-digital-eccc-2024-deploy-cyber-06/
CATEGORIES:Program Digitálna Európa
END:VEVENT
BEGIN:VEVENT
DTSTART;VALUE=DATE:20240326
DTEND;VALUE=DATE:20240330
DTSTAMP:20260423T120018
CREATED:20240117T155654Z
LAST-MODIFIED:20240117T155729Z
UID:30077-1711411200-1711756799@uvptechnicom.sk
SUMMARY:TEKTiTE 2024: Digital Economy
DESCRIPTION:Partneri siete Enterprise Europe Network vás pozývajú na kooperačné podujatie TEKTiTE 2024: Digital Economy\, ktorého zámerom je sprostredkovanie inovácií a spájanie záujemcov o technológie\, dodávateľov technológií\, sprostredkovateľov technológií a investorov s cieľom vytvárať technologické a obchodné príležitosti. Prihlášky do 26. marca 2024. \n  \nDátum konania: 26.-29.3.2024Miesto konania: onlineRegistrácia: http://digital.tektite.kr/member/member_email.phpWeb stránka podujatia: http://digital.tektite.kr/ \n\nPočas TEKTiTE môžete získať prístup na trh otvorených inovácií\, ktorý spája globálne korporácie\, startupy\, univerzity\, výskumné ústavy\, sprostredkovateľov a investorov. \n\nZameranie podujatia:\n\nDigitálna zdravotná starostlivosť\nEduTech\nInteligentná výroba\nInteligentná domácnosť/mesto\n\n\nOrganizácia podujatia:\nPodujatie sa uskutoční online formou v dňoch od 26. do 29. marca 2024 prostredníctvom b2match platformy. \nÚčasť na podujatí je bezplatná! \n\nZaregistrujte sa na podujatie\, vytvorte profil a pri jeho vypĺňaní si v časti „Settings“ v rámci položky „Support office“ vyberte TUKE ako vašu podpornú inštitúciu. Nezabudnite na vyplnenie tzv. Marketplace. Následne vašu prihlášku skontrolujeme a radi potvrdíme v registračnom systéme podujatia. Ďakujeme. \n  \nKontakt: Enterprise Europe Network pri UVP TECHNICOM\, e-mail: een@uvptechnicom.sk
URL:https://uvptechnicom.sk/event/tektite-2024-digital-economy/
CATEGORIES:EEN podujatia,Kooperačné podujatia, veľtrhy, výstavy
ATTACH;FMTTYPE=image/jpeg:https://uvptechnicom.sk/wp-content/uploads/2024/01/tektite_digital_economy_cover.jpg
END:VEVENT
END:VCALENDAR