BEGIN:VCALENDAR
VERSION:2.0
PRODID:-//UVP TECHNICOM - ECPv6.15.20//NONSGML v1.0//EN
CALSCALE:GREGORIAN
METHOD:PUBLISH
X-ORIGINAL-URL:https://uvptechnicom.sk
X-WR-CALDESC:Events for UVP TECHNICOM
REFRESH-INTERVAL;VALUE=DURATION:PT1H
X-Robots-Tag:noindex
X-PUBLISHED-TTL:PT1H
BEGIN:VTIMEZONE
TZID:Europe/Bratislava
BEGIN:DAYLIGHT
TZOFFSETFROM:+0100
TZOFFSETTO:+0200
TZNAME:CEST
DTSTART:20230326T010000
END:DAYLIGHT
BEGIN:STANDARD
TZOFFSETFROM:+0200
TZOFFSETTO:+0100
TZNAME:CET
DTSTART:20231029T010000
END:STANDARD
BEGIN:DAYLIGHT
TZOFFSETFROM:+0100
TZOFFSETTO:+0200
TZNAME:CEST
DTSTART:20240331T010000
END:DAYLIGHT
BEGIN:STANDARD
TZOFFSETFROM:+0200
TZOFFSETTO:+0100
TZNAME:CET
DTSTART:20241027T010000
END:STANDARD
BEGIN:DAYLIGHT
TZOFFSETFROM:+0100
TZOFFSETTO:+0200
TZNAME:CEST
DTSTART:20250330T010000
END:DAYLIGHT
BEGIN:STANDARD
TZOFFSETFROM:+0200
TZOFFSETTO:+0100
TZNAME:CET
DTSTART:20251026T010000
END:STANDARD
END:VTIMEZONE
BEGIN:VEVENT
DTSTART;TZID=Europe/Bratislava:20240110T140000
DTEND;TZID=Europe/Bratislava:20240110T200000
DTSTAMP:20260423T144559
CREATED:20230818T181034Z
LAST-MODIFIED:20240103T113821Z
UID:29029-1704895200-1704916800@uvptechnicom.sk
SUMMARY:Komunikácia (UVP Bootcamp)
DESCRIPTION:
URL:https://uvptechnicom.sk/event/komunikacia-uvp-bootcamp/
LOCATION:UVP TECHNICOM\, Boženy Němcovej 5\, Košice\, Slovakia (Slovak Republic)
CATEGORIES:UVP a TUKE
ATTACH;FMTTYPE=image/jpeg:https://uvptechnicom.sk/wp-content/uploads/2021/02/earth-2254769_1920-1.jpg
END:VEVENT
BEGIN:VEVENT
DTSTART;VALUE=DATE:20240112
DTEND;VALUE=DATE:20240315
DTSTAMP:20260423T144559
CREATED:20240123T121702Z
LAST-MODIFIED:20240123T121823Z
UID:30129-1705017600-1710460799@uvptechnicom.sk
SUMMARY:Matchmakingová online platforma k 6. výzve programu Eurostars
DESCRIPTION:Predstavujeme vám matchmakingovú online platformu k 6. výzve programu Eurostars zriadenej na podporu pri predkladaní návrhov na spoločné projekty výskumu a vývoja. \nPlatnosť: 12.1.2024 – 14.3.2024 \nRegistrácia: https://eurostars-6th-call-matchmaking.b2match.io/signup \nWeb: https://eurostars-6th-call-matchmaking.b2match.io/ \nTáto platforma poskytuje online priestor na vyhľadávanie a publikovanie projektových príležitostí. Zaregistrujte sa\, vytvorte profil a dohodnite si stretnutia so zaregistrovanými účastníkmi. Až do 14.marca 2024 máte možnosť prostredníctvom tohto online priestoru diskutovať o potenciálnej spolupráci s ostatnými zaregistrovanými. \nTematické zameranie (v rámci 6. výzvy programu Eurostars): \n\nEnergetika\, energetická účinnosť a skladovanie energie;\nPoľnohospodárstvo: potraviny/krmivá;\nDoprava a mobilita;\nVýroba;\nPokročilé technológie.\n\nÚčasť na tejto platforme je bezplatná. \nAko postupovať pri registrácií\, ako vytvoriť profil a realizovať stretnutia sa dozviete TU. Medzinárodné usmernenia ako aj usmernenia pre jednotlivé krajiny nájdete na tomto odkaze. \nZaregistrujte sa na platformu\, vytvorte si profil a pri jeho vypĺňaní si v časti „Settings“ v rámci položky „Support office“ vyberte TUKE ako vašu podpornú inštitúciu. V profile je dôležité vyplniť tzv. Marketplace\, pričom podmienkou je vyplnenie aspoň 1 položky. Následne vašu prihlášku skontrolujeme a radi v registračnom systéme potvrdíme. Ďakujeme. \nKontakt: Enterprise Europe Network pri UVP TECHNICOM\, e-mail: een@uvptechnicom.sk
URL:https://uvptechnicom.sk/event/matchmakingova-online-platforma-k-6-vyzve-programu-eurostars/
CATEGORIES:EEN podujatia,Kooperačné podujatia, veľtrhy, výstavy
ATTACH;FMTTYPE=image/jpeg:https://uvptechnicom.sk/wp-content/uploads/2024/01/eurostars.jpg
END:VEVENT
BEGIN:VEVENT
DTSTART;VALUE=DATE:20240118
DTEND;VALUE=DATE:20240119
DTSTAMP:20260423T144559
CREATED:20231212T204218Z
LAST-MODIFIED:20240112T163858Z
UID:29935-1705536000-1705622399@uvptechnicom.sk
SUMMARY:Kooperačné podujatie „AI zameraná na človeka pre zrýchlenú digitálnu transformáciu“
DESCRIPTION:Partneri siete Enterprise Europe Network v spolupráci s sustAIn.brussels a CLAIRE vás pozývajú na kooperačné podujatie Human Centric AI for accelerated digital transformation\, na ktorom sa stretnú spoločnosti\, európske digitálne inovačné centrá a výskumné centrá z mnohých európskych krajín. Registrácia je otvorená do 17. januára 2024. \nDátum konania: 18.1. – 19.1.2024Miesto konania: Brusel\, Belgicko + onlineRegistrácia: https://humancentric-ai.b2match.io/signupWeb stránka podujatia: https://humancentric-ai.b2match.io/ \nCieľom kooperačného podujatia Human Centric AI for accelerated digital transformation je vytvoriť príležitosť pre nadviazanie nových kontaktov prostredníctvom B2B stretnutí podporujúcich potreby a riešenia pre rozvoj projektov súvisiacich s AI (umelá inteligencia). \nPre koho je podujatie určené? \n\nPoskytovatelia riešení AI;\nSubjekty\, ktoré hľadajú technologických a výskumno-vývojových partnerov špecializovaných na AI;\nEurópske výskumné centrá;\nSubjekty\, ktoré sa chcú uchádzať o možnosti financovania EÚ\, najmä v rámci programu Horizont Európa;\nSpoločnosti\, ktoré sa chcú dozvedieť viac o možnostiach AI alebo prijať riešenia AI;\nEurópske digitálne inovačné centrá: pokročilá podpora digitalizácie. Toto je tiež inkubačná príležitosť v sieti EDIH.\n\nPrečo sa podujatia zúčastniť? \n\nVyužite príležitosť na vytváranie sietí – spojte sa s obchodnými\, technologickými a výskumno-vývojovými potenciálnymi partnermi.\nStretnite sa s odborníkmi na umelú inteligenciu\, ktorí sú rovnako zanietení pre využívanie umelej inteligencie v prospech spoločnosti.\nZískajte cenné informácie o najnovších trendoch\, prelomových poznatkoch a príležitostiach v ekosystéme „“AI for Good“.\nPreskúmajte inovatívne riešenia\, produkty a služby umelej inteligencie\, ktoré môžu viesť k pozitívnym zmenám v oblastiach\, ako je zdravotná starostlivosť\, vzdelávanie\, mobilita\, udržateľnosť a ďalšie.\nObjavte potenciálnych partnerov\, spolupracovníkov a investorov\, ktorí budú mať záujem s vami spolupracovať na projektoch „AI for Good“.\n\nOrganizácia kooperačného podujatia: \n\n18.1.2024 – online a onsite stretnutia\n19.1.2024 – online stretnutia\n\nÚčasť na podujatí je bezplatná\, ale registrácia povinná. \nZaregistrujte sa na podujatie\, vytvorte si profil a pri jeho vypĺňaní si v časti „Settings“ v rámci položky „Support office“ vyberte TUKE ako vašu podpornú inštitúciu. V profile je dôležité vyplniť tieto informácie. Následne vašu prihlášku obratom radi potvrdíme v registračnom systéme podujatia. Ďakujeme. \nTo\, ako postupovať v prípade záujmu o online stretnutia sa dozviete TU. \nKontakt: Enterprise Europe Network pri UVP TECHNICOM\, e-mail: een@uvptechnicom.sk
URL:https://uvptechnicom.sk/event/kooperacne-podujatie-ai-zamerana-na-cloveka-pre-zrychlenu-digitalnu-transformaciu/
CATEGORIES:EEN podujatia,Kooperačné podujatia, veľtrhy, výstavy
ATTACH;FMTTYPE=image/png:https://uvptechnicom.sk/wp-content/uploads/2023/12/kooperacne_podujatie_ai_zamerana_na_cloveka_pre_zrychlenu_digitalnu_transformaciu.png
END:VEVENT
BEGIN:VEVENT
DTSTART;VALUE=DATE:20240118
DTEND;VALUE=DATE:20240120
DTSTAMP:20260423T144559
CREATED:20231206T160342Z
LAST-MODIFIED:20231206T160527Z
UID:29891-1705536000-1705708799@uvptechnicom.sk
SUMMARY:CIMIx - Creative Industries meet Industry 2024 | The Crossover Edition
DESCRIPTION:Enterprise Europe Network v spolupráci s hlavnými organizátormi Aussenwirtschaft Austria / Advantage Austria\, rakúska agentúra pre internacionalizáciu a inovácie\, Film and Music Austria\, a celý rad vládnych  a priemyselných partnerov si vás dovoľujú pozvať na kooperačné podujatie so zameraním na kreatívny priemysel\, CIMIx – Creative Industries meet Industry 2024 | The Crossover Edition #CIMIx2024. Prihlášky do 18. januára 2024. \nDátum konania: 18.-19.1.2024Osobné stretnutia: 18.1.2024Virtuálne stretnutia: 18.-19.1.2024Miesto konania: Viedeň\, Rakúsko + onlineRegistrácia: https://cimix2024.b2match.io/signupWeb stránka podujatia: https:/cimix2024.b2match.io/home \nNadchádzajúci ročník\, ktorý nadviaže na úspešný debut formátu CIMIx v januári 2023\, bude naďalej zdôrazňovať relevantné aktuálne témy a spájať spoločnosti z kreatívneho priemyslu. Cieľom podujatia CIMIx | The Crossover Edition je nadviazať spojenia medzi filmovým\, zvukovým a herným priemyslom\, pričom sa bude klásť dôraz na spoluprácu v oblasti produkčných a distribučných formátov spolu so skúmaním medzisektorových otázok\, ako je umelá inteligencia\, udeľovanie licencií a export. \nOkrem toho\, účastníci veľtrhu CIMIx budú mať 19. januára exkluzívnu možnosť prezrieť si významné produkčné priestory vo Viedni\, pričom si budú môcť vybrať medzi novými štúdiami HQ7 alebo charakteristickou scénou Synchron Stage Vienna. K tomu je potrebná samostatná registrácia. \nPre koho je toto podujatie určené?\nNa podujatí sa stretnú rakúski a medzinárodní profesionáli z filmového\, zvukového a herného priemyslu\, nákupcovia\, predajcovia\, producenti\, developeri\, držitelia licencií\, distribútori\, financujúce inštitúcie\,  filmové komisie\, médiá kreatívneho priemyslu ako aj poskytovatelia technických služieb a nových technológií (virtuálna realita\, VFX\, animácie atď.). Cieľom kooperačného podujatia je prostredníctvom naplánovaných stretnutí\, vytváranie dôležitých sietí a partnerstiev. \nHlavné témy podujatia sú uvedené na tomto odkaze. \nUpozorňujeme\, že osobná účasť je spoplatnená (viac informácií TU). Účasť online formou je bezplatná. \nZaregistrujte sa na podujatie\, vytvorte si profil a pri jeho vypĺňaní si v časti „Settings“ v rámci položky „Support office“ vyberte TUKE ako vašu podpornú inštitúciu. Nezabudnite na vyplnenie tzv. Marketplace. Následne vašu prihlášku obratom radi potvrdíme v registračnom systéme podujatia. Ďakujeme. \nKontakt: Enterprise Europe Network pri UVP TECHNICOM\, e-mail: een@uvptechnicom.sk
URL:https://uvptechnicom.sk/event/cimix-creative-industries-meet-industry-2024-the-crossover-edition/
CATEGORIES:EEN podujatia,Kooperačné podujatia, veľtrhy, výstavy
ATTACH;FMTTYPE=image/jpeg:https://uvptechnicom.sk/wp-content/uploads/2023/12/CIMIx.jpg
END:VEVENT
BEGIN:VEVENT
DTSTART;TZID=Europe/Bratislava:20240118T090000
DTEND;TZID=Europe/Bratislava:20240118T110000
DTSTAMP:20260423T144559
CREATED:20240105T090932Z
LAST-MODIFIED:20240105T091016Z
UID:29956-1705568400-1705575600@uvptechnicom.sk
SUMMARY:DIGITALLY YOURS
DESCRIPTION:Pozývame vás na oficiálny kick-off event projektu EDIH CASSOVIUM\, vďaka ktorému vám priblížime pomoc\, ktorú budeme poskytovať podnikom a organizáciám.Toto jedinečné podujatie je určené predovšetkým záujemcom o služby v oblasti digitálnej transformácie podnikov a organizácií na východnom Slovensku. \nPrečo by ste nemali chýbať na tomto podujatí? \n– Dozviete sa\, ako môžu malé a stredné podniky (MSP) a verejné organizácie vyťažiť z EDIH-u čo najviac.– Predstavíme vám EDIH CASSOVIUM – kto sme\, čo robíme\, a prečo sú naše služby určené práve vám.– Osobne spoznáte náš tím s možnosťou dohodnúť si individuálne konzultácie. \nTešíme sa na všetky firmy a organizácie\, ktoré chcú spoznať našu prácu\, vypočuť si viac o digitálnej transformácii a stať sa sprievodcom pre digitálnu transformáciu východného Slovenska. \n📅 Dátum a čas: 18. január 2024\, 9:00 – 11:00 hod📍 Miesto: UVP Technicom\, Němcovej 5\, Košice \n📌 Registrácia účastníkov: https://forms.gle/7o3GKP8idsiY6PdG9 \nProjekt EDIH CASSOVIUM je podporený z programu Digitálna Európa a Plánu obnovy a odolnosti SR. \nPODUJATIE JE ZDARMA!
URL:https://uvptechnicom.sk/event/digitally-yours/
LOCATION:UVP TECHNICOM\, Boženy Němcovej 5\, Košice\, Slovakia (Slovak Republic)
CATEGORIES:UVP a TUKE
ATTACH;FMTTYPE=image/jpeg:https://uvptechnicom.sk/wp-content/uploads/2024/01/totoot-fb.jpg
END:VEVENT
BEGIN:VEVENT
DTSTART;TZID=Europe/Bratislava:20240118T090000
DTEND;TZID=Europe/Bratislava:20240118T110000
DTSTAMP:20260423T144559
CREATED:20240105T091241Z
LAST-MODIFIED:20240105T091329Z
UID:29963-1705568400-1705575600@uvptechnicom.sk
SUMMARY:Digitally yours
DESCRIPTION:Tím EDIH Cassovium pozýva MSP a verejné organizácie na oficiálny kick-off event projektu EDIH CASSOVIUM\, na ktorom získajú informácie o pomoci\, ktorú bude EDIH poskytovať podnikom a organizáciám. \nToto jedinečné podujatie je určené predovšetkým záujemcom o služby v oblasti digitálnej transformácie podnikov a organizácií na východnom Slovensku. \n\nPrečo by ste nemali chýbať na tomto podujatí? \n\nDozviete sa\, ako môžu malé a stredné podniky (MSP) a verejné organizácie vyťažiť z EDIH-u čo najviac.\nPredstavíme vám EDIH CASSOVIUM – kto sme\, čo robíme a prečo sú naše služby určené práve vám.\nOsobne spoznáte náš tím s možnosťou dohodnúť si individuálne konzultácie.\n\n\nTím EDIH Cassovium sa teší na všetky firmy a organizácie\, ktoré chcú spoznať ich prácu\, vypočuť si viac o digitálnej transformácii a stať sa sprievodcom pre digitálnu transformáciu východného Slovenska. \n\n📅 Dátum a čas: 18. január 2024\, 9:00 – 11:00 hod \n📍 Miesto: UVP Technicom\, Němcovej 5\, Košice \n\n📌 Registrácia účastníkov: Registračný formulár \n\nProjekt EDIH CASSOVIUM je podporený z programu Digitálna Európa a Plánu obnovy a odolnosti SR. \n\nVstup na podujatie je bezplatný. \n Zdroj: edihcassovium.sk
URL:https://uvptechnicom.sk/event/digitally-yours-2/
CATEGORIES:EEN podujatia,Semináre, workshopy, tréningy
ATTACH;FMTTYPE=image/jpeg:https://uvptechnicom.sk/wp-content/uploads/2024/01/totoot-fb.jpg
END:VEVENT
BEGIN:VEVENT
DTSTART;TZID=Europe/Bratislava:20240119T080000
DTEND;TZID=Europe/Bratislava:20240119T130000
DTSTAMP:20260423T144559
CREATED:20240107T152525Z
LAST-MODIFIED:20240108T132748Z
UID:29975-1705651200-1705669200@uvptechnicom.sk
SUMMARY:Prezentácia študentských prác
DESCRIPTION:Pomaturitné vzdelávanie na Košickej akadémii softvérového vývoja zahŕňa prezentácie projektov študentov pred zástupcami 5 partnerov z oblasti IT.
URL:https://uvptechnicom.sk/event/prezentacia-studentskych-prac/
LOCATION:UVP TECHNICOM\, Boženy Němcovej 5\, Košice\, Slovakia (Slovak Republic)
CATEGORIES:UVP a TUKE
ATTACH;FMTTYPE=image/jpeg:https://uvptechnicom.sk/wp-content/uploads/2023/02/conference-3248255_1920.jpg
END:VEVENT
BEGIN:VEVENT
DTSTART;TZID=Europe/Bratislava:20240129T100000
DTEND;TZID=Europe/Bratislava:20240129T140000
DTSTAMP:20260423T144559
CREATED:20240124T131111Z
LAST-MODIFIED:20240124T132008Z
UID:30137-1706522400-1706536800@uvptechnicom.sk
SUMMARY:Prehodnotenie startupov
DESCRIPTION:Šesťmesačný Akceleračný program do ktorého bol Váš startup zaradený\, bude ukončený záverečným prehodnotením progresu Vášho startupu pred odbornou porotou\, ktorá FINÁLNE navrhne formu ďalšej spolupráce Vášho startupu s UVP TECHNICOM.
URL:https://uvptechnicom.sk/event/prehodnotenie-startupov-startup-centra-tuke/
LOCATION:UVP TECHNICOM\, Boženy Němcovej 5\, Košice\, Slovakia (Slovak Republic)
CATEGORIES:UVP a TUKE
ATTACH;FMTTYPE=image/jpeg:https://uvptechnicom.sk/wp-content/uploads/2024/01/CT0A6638-1-sc.jpg
END:VEVENT
END:VCALENDAR