BEGIN:VCALENDAR
VERSION:2.0
PRODID:-//UVP TECHNICOM - ECPv6.15.20//NONSGML v1.0//EN
CALSCALE:GREGORIAN
METHOD:PUBLISH
X-WR-CALNAME:UVP TECHNICOM
X-ORIGINAL-URL:https://uvptechnicom.sk
X-WR-CALDESC:Events for UVP TECHNICOM
REFRESH-INTERVAL;VALUE=DURATION:PT1H
X-Robots-Tag:noindex
X-PUBLISHED-TTL:PT1H
BEGIN:VTIMEZONE
TZID:Europe/Bratislava
BEGIN:DAYLIGHT
TZOFFSETFROM:+0100
TZOFFSETTO:+0200
TZNAME:CEST
DTSTART:20220327T010000
END:DAYLIGHT
BEGIN:STANDARD
TZOFFSETFROM:+0200
TZOFFSETTO:+0100
TZNAME:CET
DTSTART:20221030T010000
END:STANDARD
BEGIN:DAYLIGHT
TZOFFSETFROM:+0100
TZOFFSETTO:+0200
TZNAME:CEST
DTSTART:20230326T010000
END:DAYLIGHT
BEGIN:STANDARD
TZOFFSETFROM:+0200
TZOFFSETTO:+0100
TZNAME:CET
DTSTART:20231029T010000
END:STANDARD
BEGIN:DAYLIGHT
TZOFFSETFROM:+0100
TZOFFSETTO:+0200
TZNAME:CEST
DTSTART:20240331T010000
END:DAYLIGHT
BEGIN:STANDARD
TZOFFSETFROM:+0200
TZOFFSETTO:+0100
TZNAME:CET
DTSTART:20241027T010000
END:STANDARD
END:VTIMEZONE
BEGIN:VEVENT
DTSTART;VALUE=DATE:20230602
DTEND;VALUE=DATE:20230904
DTSTAMP:20260424T001806
CREATED:20230607T133826Z
LAST-MODIFIED:20230607T133902Z
UID:28468-1685664000-1693785599@uvptechnicom.sk
SUMMARY:Pozývame Vás na B2B podujatie CLUSTER Health – Horizon Europe Brokerage Event 2024
DESCRIPTION:Európska sieť  HNN3.0 spolu s Európskou komisiou\, sieťou Enterprise Europe Network a NCP WideraNet organizujú ďalšie sprostredkovateľské podujatie programu Horizon Európa\, týkajúce sa výziev na predkladanie návrhov v oblasti zdravia v rámci Klastra 1 na rok 2024. Výzvy na rok 2024 sú už otvorené – pôjde o druhé kolo výziev CL1 v programovacom období 2023 – 2024. \n\nDátum konania: 2.6.2023 – 3.9.2023Miesto konania:  on-lineRegistrácia: do 3.9.2023 cez https://cluster-health-horizon-europe-brokerage2024.b2match.io/signupWeb stránka podujatia: https://cluster-health-horizon-europe-brokerage2024.b2match.io/ \n  \nDôležité: Vzhľadom k tomu\, že účasť na podujatí bola predĺžená do 3 septembra 2023\, niektoré termíny uvedené na stránke nie sú platné. Registrácia na B2B podujatie je však stále otvorená\, rovnako ako aj možnosť rezervovať a realizovať stretnutia\, až do 3.septembra 2023.  \n\nÚčastníci B2B podujatia majú možnosť získať  všetky potrebné informácie o nadchádzajúcich výzvach programu Horizont Európa oblasti Cluster Health ako aj stretnúť sa s potenciálnymi partnermi z Európy i mimo nej. \n\nÚčasť na podujatí je bezplatná\, ale registrácia a aktivácia profilu sú povinné. \nPri vypĺňaní prihlášky si v časti „Settings“ v rámci položky „Support office“ vyberte TUKE ako Vašu podpornú inštitúciu. Následne Vašu prihlášku obratom radi potvrdíme v registračnom systéme podujatia. Ďakujeme. \nKontakt: Enterprise Europe Network pri UVP TECHNICOM\, email: een@uvptechnicom.sk
URL:https://uvptechnicom.sk/event/pozyvame-vas-na-b2b-podujatie-cluster-health-horizon-europe-brokerage-event-2024/
CATEGORIES:EEN podujatia,Kooperačné podujatia, veľtrhy, výstavy
ATTACH;FMTTYPE=image/jpeg:https://uvptechnicom.sk/wp-content/uploads/2023/06/CLUSTER-Helath-Horizon-Europe-Brokerage-Event-2024.jpg
END:VEVENT
BEGIN:VEVENT
DTSTART;TZID=Europe/Bratislava:20230809T100000
DTEND;TZID=Europe/Bratislava:20230809T120000
DTSTAMP:20260424T001806
CREATED:20230712T083647Z
LAST-MODIFIED:20230712T095637Z
UID:28760-1691575200-1691582400@uvptechnicom.sk
SUMMARY:Malaysian Architecture: Historical Timeline
DESCRIPTION: 
URL:https://uvptechnicom.sk/event/malaysian-architecture-historical-timeline/
LOCATION:UVP TECHNICOM\, Boženy Němcovej 5\, Košice\, Slovakia (Slovak Republic)
CATEGORIES:UVP a TUKE
ATTACH;FMTTYPE=image/jpeg:https://uvptechnicom.sk/wp-content/uploads/2023/07/Malaysian-Architecture2.jpg
END:VEVENT
BEGIN:VEVENT
DTSTART;VALUE=DATE:20230824
DTEND;VALUE=DATE:20230825
DTSTAMP:20260424T001806
CREATED:20230720T074315Z
LAST-MODIFIED:20230720T074437Z
UID:28872-1692835200-1692921599@uvptechnicom.sk
SUMMARY:Co-Matching 2023
DESCRIPTION:Enterprise Europe Network vás pozýva na kooperačné podujatie Co-Matching 2023 “Vaša brána ku globálnym príležitostiam”\, ktoré sa uskutoční hybridnou formou. Prihlášky do 21.8.2023. \n\nDátum konania: 24.8.2023Miesto konania: Turecko/ onlinePrihláška: https://co-matching2023.b2match.io/signupWeb stránka podujatia: https://co-matching2023.b2match.io/ \n\nAj tento rok vám prinášame príležitosť hostiť turecké spoločnosti a spojiť sa s nimi pohodlne z vašej kancelárie alebo domova. Naši tureckí partneri starostlivo vybrali spoločnosti z regiónu Kocaeli\, ktoré pôsobia vo vašom odvetví. Všetko\, čo potrebujete je spoľahlivé internetové pripojenie\, váš notebook a šálka osviežujúcej kávy. \n\nZameranie podujatia: \n\nstroje a zariadenia;\nkov a spracovanie kovov;\nplasty a guma;\nelektrina a elektronika;\nautomobilový priemysel a pododvetvie automobilového priemyslu;\nchemické výrobky;\nlesnícke výrobky a nábytok;\nstavebníctvo a stavebné materiály;\npotravinársky priemysel;\nenergetika;\ncestovný ruch;\nnehnuteľnosti;\nspotrebné tovary dlhodobej spotreby.\n\n\nÚčasť na podujatí je bezplatná\, ale registrácia a aktivácia profilu sú povinné. Preto pri vypĺňaní prihlášky si v časti „Settings“ v rámci položky „Support office“ vyberte TUKE ako Vašu podpornú inštitúciu. Následne Vašu prihlášku obratom radi potvrdíme v registračnom systéme podujatia. Nezabudnite na vyplnenie tzv. Marketplace. Ďakujeme. \n\nTáto aktivita je financovaná Európskou komisiou a v rámci tejto aktivity sa vyžaduje spätná väzba o vašej účasti. Preto vás žiadame\, aby ste vášmu „Support office“ oznámili všetky nadviazané spolupráce\, ktoré uzavriete s inými účastníkmi kooperačného podujatia (aj mimo tejto platformy). Tieto informácie budú považované za dôverné. \n\nKontakt: Enterprise Europe Network pri UVP TECHNICOM\, email: een@uvptechnicom.sk
URL:https://uvptechnicom.sk/event/co-matching-2023/
CATEGORIES:EEN podujatia,Kooperačné podujatia, veľtrhy, výstavy
ATTACH;FMTTYPE=image/jpeg:https://uvptechnicom.sk/wp-content/uploads/2023/07/Co-Matching-2023.jpg
END:VEVENT
BEGIN:VEVENT
DTSTART;VALUE=DATE:20230830
DTEND;VALUE=DATE:20230901
DTSTAMP:20260424T001806
CREATED:20230720T074313Z
LAST-MODIFIED:20230720T074431Z
UID:28871-1693353600-1693526399@uvptechnicom.sk
SUMMARY:Kooperačné podujatie Meet4Business AGRA 2023
DESCRIPTION:Enterprise Europe Network vás pozýva na kooperačné podujatie Meet4Business AGRA 2023  so zameraním na inovatívne riešenia pre poľnohospodárstvo. Podujatie sa bude konať hybridnou formou. Prihlášky do 24.8.2023. \n\nDátum konania: 30.-31.8.2023Miesto konania: Gornja Radgona\, Slovinsko/onlineRegistrácia otvorená do: 24.8.2023Prihláška: https://meet4business-agra-2023.b2match.io/signupWeb stránka podujatia: https://meet4business-agra-2023.b2match.io/Web stránka veľtrhu: https://www.sejem-agra.si/en/ \n\nNajväčšie poľnohospodárske kooperačné podujatie v Slovinsku\, organizované v rámci 61. ročníka Medzinárodného veľtrhu poľnohospodárstva a potravinárstva\, prináša jedinečnú príležitosť stretnúť sa s potenciálnymi partnermi s inovatívnymi riešeniami & technológiami\, ktoré prinášajú revolúciu v podnikaní. \n\nOrganizácia podujatia: \n\naugusta 2023\, 12.30-17.00 osobné B2B stretnutia v Gornja Radgona\naugusta 2023\, 10.00-12.00 prednášky (v slovinskom jazyku)\, osobne v Gornja Radgona\naugusta 2023\, 10.00-17.00 virtuálne B2B stretnutia\n\n\nZameranie podujatia: \n\nagri-food trade (stretnutia s nákupcami);\nvýroba a spracovanie potravinárskych výrobkov;\nvýroba a spracovanie ekologických potravín a nápojov;\npotravinová a energetická sebestačnosť;\npotravinová bezpečnosť;\nzdravie pôdy a regeneračné poľnohospodárstvo;\ndigitalizácia\, robotika a umelá inteligencia v poľnohospodársko-potravinárskom sektore.\n\n  \nPre koho je podujatie určené: \n\nspoločnosti so záujmom o poľnohospodárstvo;\nspoločnosti\, ktoré hľadajú partnerov a nové spolupráce;\ndigitalizačné tímy a začínajúce podniky hľadajúce nových zákazníkov a partnerov;\nodborníci v oblasti poľnohospodárstva;\nakademici;\norganizácie plánujúce projekty s cieľom rozvoja a inovovania v príslušných oblastiach.\n\n\nÚčasť na kooperačnom podujatí je bezplatná. Zaregistrujte sa na b2match platforme podujatia\, vytvorte profil vašej spoločnosti\, nezabudnite na vyplnenie „Marketplace“ a vyberte TUKE ako Vašu podpornú inštitúciu v časti „Settings“ v rámci položky „Support office“. Ďakujeme. Po vašej registrácii vám bude profil aktivovaný. Následne si môžete prezerať profily zaregistrovaných účastníkov a žiadať ich o stretnutia. \n\nTáto aktivita je financovaná Európskou komisiou a v rámci tejto aktivity sa vyžaduje spätná väzba o vašej účasti. Preto vás žiadame\, aby ste vášmu „Support office“ oznámili všetky nadviazané spolupráce\, ktoré uzavriete s inými účastníkmi kooperačného podujatia (aj mimo tejto platformy). Tieto informácie budú považované za dôverné. \n\nKontakt: Enterprise Europe Network pri UVP TECHNICOM\, e-mail: een@uvptechnicom.sk
URL:https://uvptechnicom.sk/event/kooperacne-podujatie-meet4business-agra-2023/
CATEGORIES:EEN podujatia,Kooperačné podujatia, veľtrhy, výstavy
ATTACH;FMTTYPE=image/png:https://uvptechnicom.sk/wp-content/uploads/2023/07/Kooperacne-podujatie-Meet4Business-AGRA-2023.png
END:VEVENT
END:VCALENDAR