BEGIN:VCALENDAR
VERSION:2.0
PRODID:-//UVP TECHNICOM - ECPv6.15.20//NONSGML v1.0//EN
CALSCALE:GREGORIAN
METHOD:PUBLISH
X-ORIGINAL-URL:https://uvptechnicom.sk
X-WR-CALDESC:Events for UVP TECHNICOM
REFRESH-INTERVAL;VALUE=DURATION:PT1H
X-Robots-Tag:noindex
X-PUBLISHED-TTL:PT1H
BEGIN:VTIMEZONE
TZID:Europe/Bratislava
BEGIN:DAYLIGHT
TZOFFSETFROM:+0100
TZOFFSETTO:+0200
TZNAME:CEST
DTSTART:20230326T010000
END:DAYLIGHT
BEGIN:STANDARD
TZOFFSETFROM:+0200
TZOFFSETTO:+0100
TZNAME:CET
DTSTART:20231029T010000
END:STANDARD
BEGIN:DAYLIGHT
TZOFFSETFROM:+0100
TZOFFSETTO:+0200
TZNAME:CEST
DTSTART:20240331T010000
END:DAYLIGHT
BEGIN:STANDARD
TZOFFSETFROM:+0200
TZOFFSETTO:+0100
TZNAME:CET
DTSTART:20241027T010000
END:STANDARD
BEGIN:DAYLIGHT
TZOFFSETFROM:+0100
TZOFFSETTO:+0200
TZNAME:CEST
DTSTART:20250330T010000
END:DAYLIGHT
BEGIN:STANDARD
TZOFFSETFROM:+0200
TZOFFSETTO:+0100
TZNAME:CET
DTSTART:20251026T010000
END:STANDARD
END:VTIMEZONE
BEGIN:VEVENT
DTSTART;TZID=Europe/Bratislava:20241008T170000
DTEND;TZID=Europe/Bratislava:20241008T170000
DTSTAMP:20260421T103331
CREATED:20241003T113249Z
LAST-MODIFIED:20241003T113358Z
UID:31700-1728406800-1728406800@uvptechnicom.sk
SUMMARY:Ulysseus Virtual Mobility Fair – október 2024
DESCRIPTION:Študentov TUKE pozývame na podujatie Ulysseus Mobility Fair\, ktoré sa uskutoční online už budúci týždeň\, v utorok 8 októbra\, so začiatkom o 17:00 hod.. Toto virtuálne podujatie bude skvelou príležitosťou pre všetkých študentov\, ktorí majú záujem o zahraničné mobility\, výmenné programy či stáže v rámci prestížnej Európskej univerzity Ulysseus. \nPodujatie ponúkne možnosť dozvedieť sa o aktuálnych možnostiach štúdia\, stáží či výskumu na partnerských univerzitách Ulysseus a nájsť si tú správnu príležitosť pre akademický a profesionálny rast. \nUlysseus Mobility Fair je určený pre študentov bakalárskeho a inžinierskeho stupňa štúdia\, bude v angličtine a pre účasť je nutná registrácia:  https://ulysseus.eu/events/virtual-mobility-fair-autum-2024/ \nNezmeškajte túto príležitosť a prihláste sa ešte dnes!
URL:https://uvptechnicom.sk/event/ulysseus-virtual-mobility-fair-oktober-2024/
LOCATION:Online
CATEGORIES:Ulysseus,UVP a TUKE
ATTACH;FMTTYPE=image/jpeg:https://uvptechnicom.sk/wp-content/uploads/2024/10/image003.jpg
END:VEVENT
END:VCALENDAR