BEGIN:VCALENDAR
VERSION:2.0
PRODID:-//UVP TECHNICOM - ECPv6.15.20//NONSGML v1.0//EN
CALSCALE:GREGORIAN
METHOD:PUBLISH
X-WR-CALNAME:UVP TECHNICOM
X-ORIGINAL-URL:https://uvptechnicom.sk
X-WR-CALDESC:Events for UVP TECHNICOM
REFRESH-INTERVAL;VALUE=DURATION:PT1H
X-Robots-Tag:noindex
X-PUBLISHED-TTL:PT1H
BEGIN:VTIMEZONE
TZID:Europe/Bratislava
BEGIN:DAYLIGHT
TZOFFSETFROM:+0100
TZOFFSETTO:+0200
TZNAME:CEST
DTSTART:20250330T010000
END:DAYLIGHT
BEGIN:STANDARD
TZOFFSETFROM:+0200
TZOFFSETTO:+0100
TZNAME:CET
DTSTART:20251026T010000
END:STANDARD
BEGIN:DAYLIGHT
TZOFFSETFROM:+0100
TZOFFSETTO:+0200
TZNAME:CEST
DTSTART:20260329T010000
END:DAYLIGHT
BEGIN:STANDARD
TZOFFSETFROM:+0200
TZOFFSETTO:+0100
TZNAME:CET
DTSTART:20261025T010000
END:STANDARD
BEGIN:DAYLIGHT
TZOFFSETFROM:+0100
TZOFFSETTO:+0200
TZNAME:CEST
DTSTART:20270328T010000
END:DAYLIGHT
BEGIN:STANDARD
TZOFFSETFROM:+0200
TZOFFSETTO:+0100
TZNAME:CET
DTSTART:20271031T010000
END:STANDARD
END:VTIMEZONE
BEGIN:VEVENT
DTSTART;TZID=Europe/Bratislava:20260311T090000
DTEND;TZID=Europe/Bratislava:20260311T120000
DTSTAMP:20260425T134747
CREATED:20260212T112433Z
LAST-MODIFIED:20260212T112607Z
UID:34732-1773219600-1773230400@uvptechnicom.sk
SUMMARY:Vysielanie zamestnancov do zahraničia v roku 2026 – čo musíte vedieť
DESCRIPTION:Vysielanie zamestnancov do zahraničia je pre mnohé malé a stredné podniky bežnou súčasťou podnikania. S tým však prichádzajú aj zložité legislatívne povinnosti\, ktoré sa v roku 2026 menia. Aby ste sa vyhli sankciám a mali istotu\, že postupujete správne\, pripravili sme bezplatný odborný seminár\, ktorý vám poskytne prehľad všetkých dôležitých noviniek aj praktických odporúčaní. \n\nPočas seminára sa zameriame na kľúčové oblasti vysielania zamestnancov: \n\ndefiníciu pojmu vysielanie zamestnancov a jeho odlíšenie od iných foriem práce v zahraničí\,\nrelevantnú slovenskú a európsku legislatívu\,\npracovné a mzdové podmienky počas vyslania\,\npovinnosti zamestnávateľa pred vyslaním a počas vyslania\,\npotrebnú dokumentáciu a administratívne kroky\,\nzmeny platné v roku 2026\, ktoré majú priamy dopad na prax.\n\nOsobitná pozornosť bude venovaná aj špecifikám jednotlivých krajín\, do ktorých slovenské firmy vysielajú zamestnancov najčastejšie – Česká republika\, Nemecko\, Holandsko\, Rakúsko. \n\nDiskusia a praktické otázky\nSúčasťou podujatia bude aj diskusia\, v rámci ktorej budete mať priestor konzultovať vlastné skúsenosti\, konkrétne situácie z praxe a otázky týkajúce sa vášho podnikania. \n  \nTermín a miesto konania:\n\n marec 2026 v čase 9:00 – 12:00 hod. Univerzitný vedecký park TECHNICOM\, Technická univerzita v Košiciach\, Němcovej 5\, 042 00 Košice. Účasť je osobná a bezplatná\, počet účastníkov limitovaný.\n\n\nPre koho je podujatie určené?\nPodujatie je určené najmä pre zástupcov malých a stredných podnikov (majiteľov a konateľov\, personalistov a mzdových účtovníkov\, manažérov) zodpovedných za vysielanie zamestnancov do zahraničia. \n\nLektor\nIng. Peter GUBALA – Národný inšpektorát práce\, Odbor medzinárodných vzťahov a styku s verejnosťou – Styčný orgán pre vyslaných pracovníkov \n\nPrihláška\nPrihlásiť sa je možné vyplnením on-line prihlášky do 9.3.2026 (10:00 hod.) Seminár sa koná v rámci aktivít siete Enterprise Europe Network a je pre podnikateľské subjekty\, ktoré majú ambíciu medzinárodne rásť ZDARMA. \n\nAk sa vaša firma chystá vysielať zamestnancov do zahraničia alebo tak už robí\, tento seminár by vám rozhodne nemal ujsť. \n\nKontakt: een@uvptechnicom.sk\, Tel. číslo: +421 55 602 3661
URL:https://uvptechnicom.sk/event/vysielanie-zamestnancov-do-zahranicia-v-roku-2026-co-musite-vediet/
LOCATION:UVP TECHNICOM\, Boženy Němcovej 5\, Košice\, Slovakia (Slovak Republic)
CATEGORIES:UVP a TUKE
ATTACH;FMTTYPE=image/png:https://uvptechnicom.sk/wp-content/uploads/2026/02/POST_Vysielanie-zamestnancov.png
END:VEVENT
BEGIN:VEVENT
DTSTART;TZID=Europe/Bratislava:20260311T150000
DTEND;TZID=Europe/Bratislava:20260311T173000
DTSTAMP:20260425T134747
CREATED:20260218T113833Z
LAST-MODIFIED:20260218T114441Z
UID:34777-1773241200-1773250200@uvptechnicom.sk
SUMMARY:AI NÁSTROJE PRE STARTUPY
DESCRIPTION:Tento workshop povedie Lenka Hlinková\, ktorá Vás naučí prakticky používať umelú inteligenciu. Účastníci získajú prehľad o najefektívnejších AI nástrojoch pre marketing\, produktový vývoj\, zákaznícku podporu aj interné procesy. Workshop ponúkne konkrétne príklady\, ako automatizovať rutinné úlohy\, šetriť čas a zvyšovať produktivitu tímu.
URL:https://uvptechnicom.sk/event/ai-nastroje-pre-startupy/
LOCATION:UVP TECHNICOM\, Boženy Němcovej 5\, Košice\, Slovakia (Slovak Republic)
CATEGORIES:Odporúčame účasť,UVP a TUKE
ATTACH;FMTTYPE=image/jpeg:https://uvptechnicom.sk/wp-content/uploads/2026/02/Wavy-C_Tech-05_Single-04-scaled.jpg
END:VEVENT
END:VCALENDAR