BEGIN:VCALENDAR
VERSION:2.0
PRODID:-//UVP TECHNICOM - ECPv6.15.20//NONSGML v1.0//EN
CALSCALE:GREGORIAN
METHOD:PUBLISH
X-ORIGINAL-URL:https://uvptechnicom.sk
X-WR-CALDESC:Events for UVP TECHNICOM
REFRESH-INTERVAL;VALUE=DURATION:PT1H
X-Robots-Tag:noindex
X-PUBLISHED-TTL:PT1H
BEGIN:VTIMEZONE
TZID:Europe/Bratislava
BEGIN:DAYLIGHT
TZOFFSETFROM:+0100
TZOFFSETTO:+0200
TZNAME:CEST
DTSTART:20250330T010000
END:DAYLIGHT
BEGIN:STANDARD
TZOFFSETFROM:+0200
TZOFFSETTO:+0100
TZNAME:CET
DTSTART:20251026T010000
END:STANDARD
BEGIN:DAYLIGHT
TZOFFSETFROM:+0100
TZOFFSETTO:+0200
TZNAME:CEST
DTSTART:20260329T010000
END:DAYLIGHT
BEGIN:STANDARD
TZOFFSETFROM:+0200
TZOFFSETTO:+0100
TZNAME:CET
DTSTART:20261025T010000
END:STANDARD
BEGIN:DAYLIGHT
TZOFFSETFROM:+0100
TZOFFSETTO:+0200
TZNAME:CEST
DTSTART:20270328T010000
END:DAYLIGHT
BEGIN:STANDARD
TZOFFSETFROM:+0200
TZOFFSETTO:+0100
TZNAME:CET
DTSTART:20271031T010000
END:STANDARD
END:VTIMEZONE
BEGIN:VEVENT
DTSTART;TZID=Europe/Bratislava:20260225T150000
DTEND;TZID=Europe/Bratislava:20260225T173000
DTSTAMP:20260425T134928
CREATED:20260202T190651Z
LAST-MODIFIED:20260202T190655Z
UID:34678-1772031600-1772040600@uvptechnicom.sk
SUMMARY:PREDAJNÉ STRATÉGIE
DESCRIPTION:Predaj nie je len o produkte\, ale o pochopení zákazníka a správnom načasovaní. Tento workshop sa zameriava na konkrétne predajné prístupy\, ktoré startupom pomáhajú dostať sa k prvým zákazníkom aj škálovať predaj. \nÚčastníci sa budú venovať tvorbe predajnej stratégie\, práci s hodnotovou ponukou a najčastejším chybám v predaji. Praktické príklady a diskusia ponúknu nové pohľady na to\, ako premeniť nápady na reálne obchodné výsledky. \n			\n			\n				\n				\n				\n				\n			\n				\n				\n				\n				\n				\n				\n				Registrácia
URL:https://uvptechnicom.sk/event/predajne-strategie-3/
LOCATION:UVP TECHNICOM\, Boženy Němcovej 5\, Košice\, Slovakia (Slovak Republic)
CATEGORIES:UVP a TUKE
ATTACH;FMTTYPE=image/png:https://uvptechnicom.sk/wp-content/uploads/2025/10/Mentorship-in-a-Modern-Workspace.png
END:VEVENT
END:VCALENDAR