BEGIN:VCALENDAR
VERSION:2.0
PRODID:-//UVP TECHNICOM - ECPv6.15.20//NONSGML v1.0//EN
CALSCALE:GREGORIAN
METHOD:PUBLISH
X-ORIGINAL-URL:https://uvptechnicom.sk
X-WR-CALDESC:Events for UVP TECHNICOM
REFRESH-INTERVAL;VALUE=DURATION:PT1H
X-Robots-Tag:noindex
X-PUBLISHED-TTL:PT1H
BEGIN:VTIMEZONE
TZID:Europe/Bratislava
BEGIN:DAYLIGHT
TZOFFSETFROM:+0100
TZOFFSETTO:+0200
TZNAME:CEST
DTSTART:20250330T010000
END:DAYLIGHT
BEGIN:STANDARD
TZOFFSETFROM:+0200
TZOFFSETTO:+0100
TZNAME:CET
DTSTART:20251026T010000
END:STANDARD
BEGIN:DAYLIGHT
TZOFFSETFROM:+0100
TZOFFSETTO:+0200
TZNAME:CEST
DTSTART:20260329T010000
END:DAYLIGHT
BEGIN:STANDARD
TZOFFSETFROM:+0200
TZOFFSETTO:+0100
TZNAME:CET
DTSTART:20261025T010000
END:STANDARD
BEGIN:DAYLIGHT
TZOFFSETFROM:+0100
TZOFFSETTO:+0200
TZNAME:CEST
DTSTART:20270328T010000
END:DAYLIGHT
BEGIN:STANDARD
TZOFFSETFROM:+0200
TZOFFSETTO:+0100
TZNAME:CET
DTSTART:20271031T010000
END:STANDARD
END:VTIMEZONE
BEGIN:VEVENT
DTSTART;TZID=Europe/Bratislava:20260218T150000
DTEND;TZID=Europe/Bratislava:20260218T173000
DTSTAMP:20260425T152551
CREATED:20260202T190211Z
LAST-MODIFIED:20260202T190215Z
UID:34673-1771426800-1771435800@uvptechnicom.sk
SUMMARY:DIGITÁLNY MARKETING A SOCIÁLNE SIETE
DESCRIPTION:Ako efektívne komunikovať svoju značku online a osloviť správne publikum? Príďte na workshop Sociálne siete a digitálny marketing\, kde sa pozrieme na praktické nástroje\, stratégie a tipy\, ktoré pomáhajú startupom rásť v digitálnom priestore. Čakajú vás konkrétne príklady\, praktické odporúčania a priestor na otázky. \n			\n			\n				\n				\n				\n				\n			\n				\n				\n				\n				\n				\n				\n				Registrácia
URL:https://uvptechnicom.sk/event/digitalny-marketing-a-socialne-siete/
LOCATION:UVP TECHNICOM\, Boženy Němcovej 5\, Košice\, Slovakia (Slovak Republic)
CATEGORIES:UVP a TUKE
ATTACH;FMTTYPE=image/jpeg:https://uvptechnicom.sk/wp-content/uploads/2026/02/social-media-marketing-concept-marketing-with-applications-scaled.jpg
END:VEVENT
END:VCALENDAR