BEGIN:VCALENDAR
VERSION:2.0
PRODID:-//UVP TECHNICOM - ECPv6.15.20//NONSGML v1.0//EN
CALSCALE:GREGORIAN
METHOD:PUBLISH
X-WR-CALNAME:UVP TECHNICOM
X-ORIGINAL-URL:https://uvptechnicom.sk
X-WR-CALDESC:Events for UVP TECHNICOM
REFRESH-INTERVAL;VALUE=DURATION:PT1H
X-Robots-Tag:noindex
X-PUBLISHED-TTL:PT1H
BEGIN:VTIMEZONE
TZID:Europe/Bratislava
BEGIN:DAYLIGHT
TZOFFSETFROM:+0100
TZOFFSETTO:+0200
TZNAME:CEST
DTSTART:20250330T010000
END:DAYLIGHT
BEGIN:STANDARD
TZOFFSETFROM:+0200
TZOFFSETTO:+0100
TZNAME:CET
DTSTART:20251026T010000
END:STANDARD
BEGIN:DAYLIGHT
TZOFFSETFROM:+0100
TZOFFSETTO:+0200
TZNAME:CEST
DTSTART:20260329T010000
END:DAYLIGHT
BEGIN:STANDARD
TZOFFSETFROM:+0200
TZOFFSETTO:+0100
TZNAME:CET
DTSTART:20261025T010000
END:STANDARD
BEGIN:DAYLIGHT
TZOFFSETFROM:+0100
TZOFFSETTO:+0200
TZNAME:CEST
DTSTART:20270328T010000
END:DAYLIGHT
BEGIN:STANDARD
TZOFFSETFROM:+0200
TZOFFSETTO:+0100
TZNAME:CET
DTSTART:20271031T010000
END:STANDARD
END:VTIMEZONE
BEGIN:VEVENT
DTSTART;TZID=Europe/Bratislava:20260204T150000
DTEND;TZID=Europe/Bratislava:20260204T173000
DTSTAMP:20260425T165048
CREATED:20260202T185050Z
LAST-MODIFIED:20260202T185054Z
UID:34659-1770217200-1770226200@uvptechnicom.sk
SUMMARY:ZDROJE FINANCIÍ A PRÍPRAVA NA INVESTÍCIU
DESCRIPTION:Ďalšou aktivitou akceleračného programu je workshop Zdroje financií a príprava na investíciu – pochopte\, ako rozmýšľajú investori a čo hľadajú. Tento workshop Vás pripraví na proces fundraisingu. Preberieme investičné kolá\, základy valuácie startupu\, term sheet a kľúčové dokumenty\, ktoré musíte mať v poriadku\, aby ste boli pre investorov dôveryhodným partnerom. \n			\n			\n				\n				\n				\n				\n			\n				\n				\n				\n				\n				\n				\n				Registrácia
URL:https://uvptechnicom.sk/event/zdroje-financii-a-priprava-na-investiciu/
LOCATION:UVP TECHNICOM\, Boženy Němcovej 5\, Košice\, Slovakia (Slovak Republic)
CATEGORIES:UVP a TUKE
ATTACH;FMTTYPE=image/jpeg:https://uvptechnicom.sk/wp-content/uploads/2026/02/20945652-scaled.jpg
END:VEVENT
END:VCALENDAR