BEGIN:VCALENDAR
VERSION:2.0
PRODID:-//UVP TECHNICOM - ECPv6.15.20//NONSGML v1.0//EN
CALSCALE:GREGORIAN
METHOD:PUBLISH
X-ORIGINAL-URL:https://uvptechnicom.sk
X-WR-CALDESC:Events for UVP TECHNICOM
REFRESH-INTERVAL;VALUE=DURATION:PT1H
X-Robots-Tag:noindex
X-PUBLISHED-TTL:PT1H
BEGIN:VTIMEZONE
TZID:Europe/Bratislava
BEGIN:DAYLIGHT
TZOFFSETFROM:+0100
TZOFFSETTO:+0200
TZNAME:CEST
DTSTART:20240331T010000
END:DAYLIGHT
BEGIN:STANDARD
TZOFFSETFROM:+0200
TZOFFSETTO:+0100
TZNAME:CET
DTSTART:20241027T010000
END:STANDARD
BEGIN:DAYLIGHT
TZOFFSETFROM:+0100
TZOFFSETTO:+0200
TZNAME:CEST
DTSTART:20250330T010000
END:DAYLIGHT
BEGIN:STANDARD
TZOFFSETFROM:+0200
TZOFFSETTO:+0100
TZNAME:CET
DTSTART:20251026T010000
END:STANDARD
BEGIN:DAYLIGHT
TZOFFSETFROM:+0100
TZOFFSETTO:+0200
TZNAME:CEST
DTSTART:20260329T010000
END:DAYLIGHT
BEGIN:STANDARD
TZOFFSETFROM:+0200
TZOFFSETTO:+0100
TZNAME:CET
DTSTART:20261025T010000
END:STANDARD
END:VTIMEZONE
BEGIN:VEVENT
DTSTART;TZID=Europe/Bratislava:20251029T100000
DTEND;TZID=Europe/Bratislava:20251029T113000
DTSTAMP:20260425T210511
CREATED:20251001T071310Z
LAST-MODIFIED:20251001T073507Z
UID:34192-1761732000-1761737400@uvptechnicom.sk
SUMMARY:TT Mentoring - Transfer technológií v praxi
DESCRIPTION:UVP TECHNICOM\, Boženy Němcovej 5\, Košice (miestnosť 10\, prízemie) \nRegistrácia: Registračný formulár \n  \nProgram\n\nPredstavenie postupov dvoch univerzít v oblasti transferu technológií a ich spolupráce\nPraktické tipy\, ako chrániť výsledky výskumu v procese transferu technológií\nPodpora a služby CTT pri CVTI SR (Centrum transferu technológií pri Centre vedecko-technických informácií SR) a NCTT SR (Národné centrum transferu technológií Slovenskej republiky)\nDiskusia a priestor na otázky účastníkov\n\n\nÚčasť je bezplatná\, je však potrebné sa registrovať do 25. októbra 2025 prostredníctvom online formulára.  \nPríďte načerpať inšpiráciu a zistiť\, ako môže váš výskum nájsť cestu z laboratória do praxe.  
URL:https://uvptechnicom.sk/event/tt-mentoring-transfer-technologii-v-praxi/
LOCATION:UVP TECHNICOM (miestnosť 10)\, Němcovej 5\, Košice\, Slovakia (Slovak Republic)
CATEGORIES:UVP a TUKE
ATTACH;FMTTYPE=image/png:https://uvptechnicom.sk/wp-content/uploads/2025/10/Mentorship-in-a-Modern-Workspace.png
END:VEVENT
END:VCALENDAR