BEGIN:VCALENDAR
VERSION:2.0
PRODID:-//UVP TECHNICOM - ECPv6.15.20//NONSGML v1.0//EN
CALSCALE:GREGORIAN
METHOD:PUBLISH
X-WR-CALNAME:UVP TECHNICOM
X-ORIGINAL-URL:https://uvptechnicom.sk
X-WR-CALDESC:Events for UVP TECHNICOM
REFRESH-INTERVAL;VALUE=DURATION:PT1H
X-Robots-Tag:noindex
X-PUBLISHED-TTL:PT1H
BEGIN:VTIMEZONE
TZID:Europe/Bratislava
BEGIN:DAYLIGHT
TZOFFSETFROM:+0100
TZOFFSETTO:+0200
TZNAME:CEST
DTSTART:20240331T010000
END:DAYLIGHT
BEGIN:STANDARD
TZOFFSETFROM:+0200
TZOFFSETTO:+0100
TZNAME:CET
DTSTART:20241027T010000
END:STANDARD
BEGIN:DAYLIGHT
TZOFFSETFROM:+0100
TZOFFSETTO:+0200
TZNAME:CEST
DTSTART:20250330T010000
END:DAYLIGHT
BEGIN:STANDARD
TZOFFSETFROM:+0200
TZOFFSETTO:+0100
TZNAME:CET
DTSTART:20251026T010000
END:STANDARD
BEGIN:DAYLIGHT
TZOFFSETFROM:+0100
TZOFFSETTO:+0200
TZNAME:CEST
DTSTART:20260329T010000
END:DAYLIGHT
BEGIN:STANDARD
TZOFFSETFROM:+0200
TZOFFSETTO:+0100
TZNAME:CET
DTSTART:20261025T010000
END:STANDARD
END:VTIMEZONE
BEGIN:VEVENT
DTSTART;VALUE=DATE:20250113
DTEND;VALUE=DATE:20250131
DTSTAMP:20260422T201404
CREATED:20241125T195802Z
LAST-MODIFIED:20241126T081921Z
UID:32039-1736726400-1738281599@uvptechnicom.sk
SUMMARY:Grüne Woche Business Days 2025
DESCRIPTION:Enterprise Europe Network Berlín-Brandenbursko a ďalší partneri vás pozývajú na medzinárodné matchmakingové podujatie Grüne Woche Business Days 2025 zamerané na moderné poľnohospodárstvo a výživu. Podujatie sa bude konať počas veľtrhu Grüne Woche  v Nemecku a online. \nDátum konania: 13. – 30. január 2025Miesto konania: Berlín\, Nemecko + onlineRegistrácia otvorená do: 30. januára 2025Prihláška: https://grune-woche-business-days-2025.b2match.io/signupWeb stránka podujatia: https://grune-woche-business-days-2025.b2match.io/ \nTematické zameranie podujatia: \n\nPotravinové systémy našej výživy;\nUdržateľná výživa a poľnohospodárstvo;\nUdržateľné balenie;\nCirkulárna ekonomika\, recyklácia\, upcyklácia\, zero waste\, vedľajšie toky;\nVoda a energia v poľnohospodárstve a potravinových systémoch;\nDigitalizácia a automatizácia vo výrobe potravín a poľnohospodárstve.\n\nOrganizácia podujatia: \n\n22. januára 2025 – onsite stretnutia\n14.\, 15.\, 29. a 30. január 2025 – online stretnutia\n\nPre koho je podujatie určené: \n\nVystavovatelia;\nOdborníci v oblasti obchodu;\nVláda a inštitúcie;\nPriemyselné združenia a organizácie;\nVýskumné a vzdelávacie inštitúcie;\nKulinárski odborníci a šéfkuchári;\nZástancovia životného prostredia a udržateľnosti;\nOchrana klímy;\nTrvalo udržateľné využívanie pôdy.\n\nÚčasť na matchmakingovom podujatí je bezplatná. Vstup na veľtrh je spoplatnený. Pri vypĺňaní prihlášky si v časti „Settings“ v rámci položky „Support office“ vyberte TUKE ako vašu podpornú inštitúciu. Následne vašu prihlášku obratom radi potvrdíme v registračnom systéme podujatia. Nezabudnite na vyplnenie tzv. Marketplace. Ďakujeme. \nKontakt: Enterprise Europe Network pri UVP TECHNICOM\,  e-mail: een@uvptechnicom.sk
URL:https://uvptechnicom.sk/event/grune-woche-business-days-2025/
CATEGORIES:EEN podujatia,Kooperačné podujatia, veľtrhy, výstavy
ATTACH;FMTTYPE=image/png:https://uvptechnicom.sk/wp-content/uploads/2024/11/grune_woche_business_days_2025.png
END:VEVENT
BEGIN:VEVENT
DTSTART;VALUE=DATE:20250117
DTEND;VALUE=DATE:20250222
DTSTAMP:20260422T201404
CREATED:20241027T102039Z
LAST-MODIFIED:20241027T102229Z
UID:31887-1737072000-1740182399@uvptechnicom.sk
SUMMARY:World Class Manufacturing training v Japonsku v r. 2025
DESCRIPTION:Osoby s technickým alebo vedeckým vzdelaním schopné ovplyvňovať výrobnú stratégiu svojej spoločnosti majú príležitosť zúčastniť sa školenia World Class Manufacturing v Japonsku v roku 2025. \n5-dňové školenie\, ktoré od roku 1992 riadi Centrum EÚ-Japonsko\, poskytuje hĺbkovú analýzu japonskej výrobnej metodiky s cieľom zlepšiť konkurencieschopnosť spoločností EÚ a kvalitu ich výrobkov a služieb. \nTermín školenia: 17. – 21. februára 2025Termín pre podávanie prihlášok: do 14. novembra 2024Miesto konania: Tokio\, Japonsko \n\nCieľová skupina:  \n\nOsoby s technickým alebo vedeckým vzdelaním schopné ovplyvňovať výrobnú stratégiu svojej spoločnosti alebo rovnocenné osoby.\nPrihlásiť sa môže akékoľvek priemyselné odvetvie.\n\n\nProgram poskytuje:  \n\nHĺbkovú analýzu japonskej výrobnej metodiky;\nPrednášky\, semináre prezentované odborníkmi z japonského priemyslu;\nNávštevy spoločnosti a výrobných priestorov (Gemba) priamo na mieste;\nRecenzie po návšteve;\na ďalšie.\n\n\nNáklady:  \nCentrum EÚ-Japonsko hradí všetky náklady priamo súvisiace s misiou WCM. \nÚčastníci si budú musieť hradiť cestovné náklady a náklady na ubytovanie. \n\nViac informácií o podmienkach a prihlášku nájdete na: https://www.eu-japan.eu/events/world-class-manufacturing-mission \n\nKontakt: Enterprise Europe Network pri UVP TECHNICOM\, e-mail: een@uvptechnicom.sk
URL:https://uvptechnicom.sk/event/world-class-manufacturing-training-v-japonsku-v-r-2025/
CATEGORIES:EEN podujatia,Kooperačné podujatia, veľtrhy, výstavy
ATTACH;FMTTYPE=image/jpeg:https://uvptechnicom.sk/wp-content/uploads/2024/10/WCM-pic.jpg
END:VEVENT
BEGIN:VEVENT
DTSTART;VALUE=DATE:20250123
DTEND;VALUE=DATE:20250124
DTSTAMP:20260422T201404
CREATED:20241008T111012Z
LAST-MODIFIED:20241008T111012Z
UID:31818-1737590400-1737676799@uvptechnicom.sk
SUMMARY:EUREKA: Xecs Cluster for Electronic Components and Systems
DESCRIPTION:
URL:https://uvptechnicom.sk/event/eureka-xecs-cluster-for-electronic-components-and-systems/
CATEGORIES:Eureka
END:VEVENT
BEGIN:VEVENT
DTSTART;VALUE=DATE:20250123
DTEND;VALUE=DATE:20250124
DTSTAMP:20260422T201404
CREATED:20241215T095722Z
LAST-MODIFIED:20241215T095919Z
UID:32159-1737590400-1737676799@uvptechnicom.sk
SUMMARY:ESG reporting pre malé a stredné podniky: Do akej miery sa vás táto povinnosť týka?
DESCRIPTION:Vykazovanie informácií o udržateľnosti\, tzv. ESG reporting sa v podnikateľskej sfére spomína čoraz častejšie. Mnoho firiem pôsobiacich v dodávateľskom reťazci zaznamenáva zvýšený tlak obchodných partnerov pri poskytovaní informácií týkajúcich sa environmentálne udržateľnej hospodárskej činnosti firmy. \nPoznáte podstatu ESG či jednotlivé normy vzťahujúce sa na vykazovanie informácií o udržateľnosti? Viete aké dáta zbierať a čo vykazovať? Aké informácie budete vykazovať za firmu? Získajte svoju konkurenčnú výhodu vo vzťahu k zákazníkom\, bankám či partnerom! Zistite\, ako vypočítať uhlíkovú stopu alebo aký je rozdiel medzi ESG\, ISO\, EMAS\, Ecovadis. Nechajte sa inšpirovať príkladmi firiem\, ktoré implementovali ESG vo svojom podnikaní. \nPartneri Enterprise Europe Network – Trenčianska regionálna komora SOPK a UVP TECHNICOM\, Technická univerzita v Košiciach v spolupráci so spoločnosťou NORTHON vás pozývajú  na seminár ESG reporting pre malé a stredné podniky: Do akej miery sa vás táto povinnosť týka?\, ktorý sa uskutoční 23. januára 2025  v čase 10:00-13:00hod. Účasť je osobná.  \nÚčastníci majú možnosť získať BONUS – 15 minútovú bezplatnú konzultáciu v termíne mimo konania seminára! Konzultácia bude poskytnutá konzultačnou spoločnosťou\, ktorá sa aktuálne venuje téme ESG vo firmách. \n  \nTémy seminára\n\n\n\n9:45-10:00\n \nRegistrácia účastníkov\n\n\n10:00-10:10\nOtvorenie\nPredstavenie Enterprise Europe Network\n\n\n10:10-13:00\n\nÚvod do ESG \n  \n\n\nČo je udržateľnosť a ESG reporting? (tri základné piliere). \nNormy pre ESG reporting (ESRS\, VSME\, CSRD\, zákon o účtovníctve a pod…). \nKto má povinnosť vykazovať? (povinnosť pripravenosť\, dobrovoľnosť). \nČo sa vykazuje? (a aké sú výhody harmonizovaného vykazovania) \nKedy sa začína vykazovať? \n\n\n\n \n\n4 praktické dôvody prečo sa treba pripraviť \n  \n\n\nZákazník – Ak si chcem zákazníka udržať\, musím pochopiť jeho stratégiu \nBanky – Banky budú financovať len projekty\, ktoré dokážu svoju udržateľnosť \nLegislatíva  –  Čo ak vznikne povinnosť mne\, alebo môjmu zákazníkovi \nKonkurencia – ak nezačnem ja\, tak ma niekto predbehne \n\n\n\n \n\n4 kroky k efektívnemu ESG reportingu: \n  \n\n\nPochopenie kde sme dnes – Identifikácia kľúčových oblastí a posúdenie pripravenosti (zistenie zákazníckych požiadaviek\, identifikácia ESG procesov\, overenie rozsahu povinnosti). \nUrčenie cieľov ktoré dávajú zmysel = SMART ciele (výber kľúčových ukazovateľov výkonnosti\, plán implementácie\, zber a analýza dát\, stratégia reportingu) \nImplementácia ESG procesov (harmonizácia existujúcich procesov s ESG\, prijatie opatrení\, doplnenie chýbajúcich politík) \nVýročná správa o udržateľnosti. \n\n\n\n \n\n4 najčastejšie situácie z praxe \n  \n\n\nZákaznícke požiadavky na ESG (dotazníky\, zmluvy\, hodnotenie dodávateľov). \nChýbajúca stratégia = bič na seba samého; (MSP nevie aké dáta má sledovať a kde ich má nájsť\, nedostatočná identifikácia a nepochopenie požiadaviek zo strany zákazníka súvisiacich s ESG u MSP). \nVýpočet uhlíkovej stopy (Scope 1\, Scope 2\, Scope 3) a uhlíkové ciele \nPochopenie rozdielov medzi ESG\, ISO\, EMAS\, Ecovadis. \n\n\n\n \n\nPrípadové štúdie \n  \n\n\nÚspešné príklady malých a stredných podnikov\, ktoré implementovali ESG. \n\n\n\n\n  \nTermín a miesto konania \n23.1.2025 v čase 10:00-13:00hod\, Trenčianska regionálna komora SOPK\, Jilemnického 2\, 911 01 Trenčín. \n\nCieľ školenia\nPoskytnúť účastníkom prostredníctvom príkladov z praxe praktické nástroje a znalosti potrebné na to\, aby mohli začať implementovať ESG princípy vo svojich podnikoch a efektívne vykazovať svoje výsledky v oblasti udržateľnosti. \n\nCieľová skupina\nSeminár je určený zástupcom malých a stredných podnikov. \n  \nO lektorovi\nJUDr. Ing. Vladimír HRIVNÁK\, LL.M. – dlhoročný HR riaditeľ s dosahom na BOZP\, Environment a udržateľnosť\, korporátny právnik; Aktuálne Senior poradca pre ľudské zdroje a udržateľné podnikanie v poradenskej firme NORTHON; Interný audítor pre ISO 9001\, 14001\, 27001\, 45001. \n\nPrihláška\nPrihlásiť sa je možné vyplnením on-line prihlášky do 21.1.2025. Seminár sa koná v rámci aktivít siete Enterprise Europe Network a je pre podnikateľské subjekty\, ktoré majú ambíciu medzinárodne rásť ZDARMA. \n\nKontakt\n\nKatarína Martišková\, email: martiskova@sopk.sk;  Tel: +421 32 6523834\, mob.: +421 917 329960 \nAlena Poláková email: polakova@uvptechnicom.sk\, Tel.: +421 55 602 3661
URL:https://uvptechnicom.sk/event/esg-reporting-pre-male-a-stredne-podniky-do-akej-miery-sa-vas-tato-povinnost-tyka-2/
CATEGORIES:EEN podujatia,Semináre, workshopy, tréningy
ATTACH;FMTTYPE=image/png:https://uvptechnicom.sk/wp-content/uploads/2024/12/ESG-Trencin.png
END:VEVENT
BEGIN:VEVENT
DTSTART;TZID=Europe/Bratislava:20250123T090000
DTEND;TZID=Europe/Bratislava:20250123T090000
DTSTAMP:20260422T201404
CREATED:20250107T132143Z
LAST-MODIFIED:20250114T142912Z
UID:32234-1737622800-1737622800@uvptechnicom.sk
SUMMARY:Raňajky Ulysseus IH TUKE: Objav príležitosti Ulysseus - Cestovanie\, startupy a štúdium v EÚ
DESCRIPTION:Technická univerzita v Košiciach (TUKE) a Ulysseus inovačný hub srdečne pozývajú všetkých študentov TUKE na podujatie „Raňajky IH Ulysseus: Mobilitné príležitosti pre študentov“\, ktoré sa uskutoční vo štvrtok\, 23. januára 2025 o 9:00 hod. v Inovačnej zóne UVP TECHNICOM. \n  \nČo vás čaká?\nPodujatie prinesie užitočné informácie o možnostiach štúdia\, stáží a startupových programov pre študentov všetkých stupňov štúdia. Na programe sú: \n\nPredstavenie študentskej asociácie Ulysseus (UlySA) – Petra Kolembusová vám priblíži\, ako sa môžete zapojiť do tejto medzinárodnej komunity a získať nové skúsenosti.\nStartupové príležitosti a súťaž Top študentská práca – Henrieta Dunne z TUKE Startup Centra predstaví možnosti\, ako zrealizovať svoje podnikateľské nápady\, a podelí sa o tipy na úspešné zapojenie sa do súťaže.\nTeaser CURATE Bootcampu – Henrieta Dunne predstaví informácie o aprílovom bootcampe zameranom na podnikavosť a inovácie\, ktorý bude skvelou príležitosťou na rozvoj vašich zručností.\nProgram rovesníckeho poradenstva – Radka Čopková\nPrezentácia mobilitných možností pre študentov – Natália Vašková vám predstaví možnosti\, ako vycestovať za štúdiom či stážou v rámci aliancie Ulysseus.\n\n  \nPrečo prísť?\nRaňajky IH Ulysseus sú ideálnym miestom\, kde môžete spoznať nové príležitosti\, nadviazať kontakty a získať užitočné rady pre svoj osobný a profesionálny rozvoj. \nCestovanie a štúdium v zahraničí nie sú len dobrodružstvom\, ale aj príležitosťou spoznať nové kultúry\, získať cenné skúsenosti a vytvoriť si kontakty na celý život. \n  \nRegistrácia\nPodujatie je bezplatné a stačí sa iba registrovať. Registračný formulár nájdete na tomto odkaze. Pre všetkých účastníkov bude pripravené malé občerstvenie. \n  \nEurópska univerzita Ulysseus\nVíziou Európskej univerzity Ulysseus je do roku 2030 vytvoriť excelentne uznávanú a medzinárodne atraktívnu európsku univerzitu otvorenú svetu\, zameranú na ľudí a podporujúcu podnikavosť. Našou ambíciou je tak prispieť k formovaniu Európskeho priestoru vysokoškolského vzdelávania a výskumu\, a tým aj k budúcnosti Európy. \nEurópska univerzita Ulysseus\, jedna z 50 európskych univerzít vybraných Európskou komisiou za univerzity budúcnosti\, otvára možnosti pre študentov\, učiteľov a výskumníkov z partnerských univerzít pre ich vzdelávanie\, vzájomné mobility a nové špičkové výskumné projekty.  Európska univerzita Ulysseus vznikla v roku 2020 a jej členmi sú Univerzita v  Seville (Španielsko\, koordinátor aliancie)\, Univerzita v Janove (Taliansko)\, Univerzita Côte d’Azur (Nice\, Francúzsko)\, Technická univerzita v Košiciach\, univerzita MCI | The Entrepreneurial School® (Innsbruck\, Rakúsko) a Univerzita aplikovaných vied Haaga-Helia (Helsinki\, Fínsko)\, Univerzita v Münsteri (Nemecko) a Univerzita Čierna Hora (Podgorica\, Čierna Hora). \nProjekt je financovaný zo zdrojov Európskej únie a Ministerstva školstva\, vedy\, výskumu a mládeže SR. \nĎalšie informácie o Európskej univerzite Ulysseus nájdete na: www.ulysseus.eu \nUlysseus inovačný hub pri Technickej univerzite v Košiciach\nUlysseus prináša unikátny prístup k vytváraniu a rozvíjaniu inovačného ekosystému (Ulysseus kampus) podporujúceho otvorenú vedu\, výskum a inovácie v koncepte univerzity otvorenej svetu. Súčasťou Ulysseus kampusu je sieť ôsmych inovačných hubov (Innovation Hubs\, IH). IH sú tematicky orientované na osem špecifických a interdisciplinárnych výskumno-vývojových výziev\, ktoré sú zároveň prioritnými oblasťami inovačných stratégií RIS3 miest a regiónov aliancie\, súčasťou cieľov trvalo udržateľného rozvoja (SDG)\, Európskej zelenej dohody (European Green Deal) a klastrov programu Horizont Európa. Ulysseus IH pri Technickej univerzite v Košiciach (IH TUKE) je tematicky orientovaný na problematiku digitalizácie a digitálnej transformácie priemyslu. Je súčasťou UVP TECHNICOM\, čo mu umožňuje plne sa integrovať do univerzitného inovačného ekosystému. IH TUKE otvára TUKE ekosystém do Ulysseus komunity – s komunitou prepája univerzitný potenciál (výskumníkov\, pracoviská\, infraštruktúru\, digitálne inovačné huby a centrá excelencie)\, regionálnych partnerov (z verejného a súkromného sektora). \nIH TUKE je plne integrovaný do ďalších iniciatív TUKE v oblasti podpory digitalizácie a digitálnej transformácie – napr. DIH TECHNICOM a EDIH CASSOVIUM.
URL:https://uvptechnicom.sk/event/ranajky-ulysseus-ih-tuke-objav-prilezitosti-ulysseus-cestovanie-startupy-a-studium-v-eu/
LOCATION:UVP TECHNICOM\, Boženy Němcovej 5\, Košice\, Slovakia (Slovak Republic)
CATEGORIES:Ulysseus,UVP a TUKE
ATTACH;FMTTYPE=image/jpeg:https://uvptechnicom.sk/wp-content/uploads/2025/01/Ulysa-5-jpg.jpeg
END:VEVENT
END:VCALENDAR