BEGIN:VCALENDAR
VERSION:2.0
PRODID:-//UVP TECHNICOM - ECPv6.15.20//NONSGML v1.0//EN
CALSCALE:GREGORIAN
METHOD:PUBLISH
X-WR-CALNAME:UVP TECHNICOM
X-ORIGINAL-URL:https://uvptechnicom.sk
X-WR-CALDESC:Events for UVP TECHNICOM
REFRESH-INTERVAL;VALUE=DURATION:PT1H
X-Robots-Tag:noindex
X-PUBLISHED-TTL:PT1H
BEGIN:VTIMEZONE
TZID:Europe/Bratislava
BEGIN:DAYLIGHT
TZOFFSETFROM:+0100
TZOFFSETTO:+0200
TZNAME:CEST
DTSTART:20230326T010000
END:DAYLIGHT
BEGIN:STANDARD
TZOFFSETFROM:+0200
TZOFFSETTO:+0100
TZNAME:CET
DTSTART:20231029T010000
END:STANDARD
BEGIN:DAYLIGHT
TZOFFSETFROM:+0100
TZOFFSETTO:+0200
TZNAME:CEST
DTSTART:20240331T010000
END:DAYLIGHT
BEGIN:STANDARD
TZOFFSETFROM:+0200
TZOFFSETTO:+0100
TZNAME:CET
DTSTART:20241027T010000
END:STANDARD
BEGIN:DAYLIGHT
TZOFFSETFROM:+0100
TZOFFSETTO:+0200
TZNAME:CEST
DTSTART:20250330T010000
END:DAYLIGHT
BEGIN:STANDARD
TZOFFSETFROM:+0200
TZOFFSETTO:+0100
TZNAME:CET
DTSTART:20251026T010000
END:STANDARD
END:VTIMEZONE
BEGIN:VEVENT
DTSTART;VALUE=DATE:20241130
DTEND;VALUE=DATE:20241201
DTSTAMP:20260422T220001
CREATED:20241008T105634Z
LAST-MODIFIED:20241008T105917Z
UID:31775-1732924800-1733011199@uvptechnicom.sk
SUMMARY:European Data Space for Smart Communities
DESCRIPTION:
URL:https://uvptechnicom.sk/event/european-data-space-for-smart-communities/
CATEGORIES:Kaskádové výzvy
END:VEVENT
BEGIN:VEVENT
DTSTART;TZID=Europe/Bratislava:20241130T090000
DTEND;TZID=Europe/Bratislava:20241130T130000
DTSTAMP:20260422T220001
CREATED:20241001T083126Z
LAST-MODIFIED:20241001T083332Z
UID:31609-1732957200-1732971600@uvptechnicom.sk
SUMMARY:ScratchatON 2024 v Košiciach
DESCRIPTION:Pridaj sa k nám na ScratchatON 2024 v Košiciach\, jedinečný workshop pre všetkých\, ktorí chcú vyskúšať programovanie v jazyku Scratch. Či už si začiatočníčka alebo pokročilá\, tento workshop je šitý na mieru pre teba! Príď 30. novembra 2024 od 9:00 do 13:00 do UVP TECHNICOM na Technickej univerzite v Košiciach a nauč sa\, ako naprogramovať vlastnú hru alebo animáciu. Okrem programovania sa postaráme aj o zábavu a príjemnú atmosféru. \n\nPozývame aj rodičov! Počas spoločných raňajok si môžete vypočuť zaujímavú diskusiu o kariérnych príležitostiach pre dievčatá v dynamickom svete technológií. \n\nNevyžaduje sa žiadna predchádzajúca skúsenosť\, všetko\, čo potrebujete\, je dobrá nálada a chuť naučiť sa niečo nové. Rozdelíme sa do tímov podľa úrovne zručností a na záver si všetci predvedieme\, čo sme spolu vytvorili. Nezmeškaj túto príležitosť a príď si s nami užiť programovanie a tvorenie hier! \n\nPodujatie realizuje AjTYvIT v spolupráci s UVP TECHNICOM. Viac na stránkach: https://ajtyvit.sk/podujatia/scratchaton-2024-v-kosiciach/
URL:https://uvptechnicom.sk/event/scratchaton-2024-v-kosiciach/
LOCATION:UVP TECHNICOM\, Boženy Němcovej 5\, Košice\, Slovakia (Slovak Republic)
CATEGORIES:UVP a TUKE
ATTACH;FMTTYPE=image/jpeg:https://uvptechnicom.sk/wp-content/uploads/2024/10/laptop-2620118_1280.jpg
END:VEVENT
END:VCALENDAR