BEGIN:VCALENDAR
VERSION:2.0
PRODID:-//UVP TECHNICOM - ECPv6.15.20//NONSGML v1.0//EN
CALSCALE:GREGORIAN
METHOD:PUBLISH
X-ORIGINAL-URL:https://uvptechnicom.sk
X-WR-CALDESC:Events for UVP TECHNICOM
REFRESH-INTERVAL;VALUE=DURATION:PT1H
X-Robots-Tag:noindex
X-PUBLISHED-TTL:PT1H
BEGIN:VTIMEZONE
TZID:Europe/Bratislava
BEGIN:DAYLIGHT
TZOFFSETFROM:+0100
TZOFFSETTO:+0200
TZNAME:CEST
DTSTART:20230326T010000
END:DAYLIGHT
BEGIN:STANDARD
TZOFFSETFROM:+0200
TZOFFSETTO:+0100
TZNAME:CET
DTSTART:20231029T010000
END:STANDARD
BEGIN:DAYLIGHT
TZOFFSETFROM:+0100
TZOFFSETTO:+0200
TZNAME:CEST
DTSTART:20240331T010000
END:DAYLIGHT
BEGIN:STANDARD
TZOFFSETFROM:+0200
TZOFFSETTO:+0100
TZNAME:CET
DTSTART:20241027T010000
END:STANDARD
BEGIN:DAYLIGHT
TZOFFSETFROM:+0100
TZOFFSETTO:+0200
TZNAME:CEST
DTSTART:20250330T010000
END:DAYLIGHT
BEGIN:STANDARD
TZOFFSETFROM:+0200
TZOFFSETTO:+0100
TZNAME:CET
DTSTART:20251026T010000
END:STANDARD
END:VTIMEZONE
BEGIN:VEVENT
DTSTART;VALUE=DATE:20241113
DTEND;VALUE=DATE:20241114
DTSTAMP:20260423T010652
CREATED:20241008T110537Z
LAST-MODIFIED:20241008T110537Z
UID:31799-1731456000-1731542399@uvptechnicom.sk
SUMMARY:Water4All European Partnership
DESCRIPTION:
URL:https://uvptechnicom.sk/event/water4all-european-partnership/
CATEGORIES:Horizont Európa
END:VEVENT
BEGIN:VEVENT
DTSTART;VALUE=DATE:20241113
DTEND;VALUE=DATE:20241115
DTSTAMP:20260423T010652
CREATED:20240902T112658Z
LAST-MODIFIED:20240902T112724Z
UID:31516-1731456000-1731628799@uvptechnicom.sk
SUMMARY:Kooperačné podujatie Match4Industry Business Matchmaking Event
DESCRIPTION:“Rozšírte svoju sieť\, rozšírte svoje podnikanie”\n\nPartneri siete Enterprise Europe Network pozývajú organizácie pôsobiace v oblasti priemyslu na virtuálne kooperačné podujatie „Match4Industry Business Matchmaking Event“. Registrácia otvorená do 6. novembra 2024. \n\nDátum konania: 13.– 14. november 2024Miesto konania: virtuálne podujatieRegistrácia otvorená do: 6. november 2024Prihláška: https://match4industry2024.b2match.io/signupWeb stránka podujatia: Match4Industry 2024 – Info (b2match.io) \n\nPodujatie organizuje ABİGEM East Marmara v spolupráci s priemyselnou komorou Kocaeli a partnermi siete Enterprise Europe Network. Match4Industry ponúka dva dni exkluzívnych obchodných stretnutí s účastníkmi z celého sveta. \n\nSektory\n\nDodávky pre automobilový priemysel\nKovy a stroje\nPlasty a guma\nPneumatiky\nChemikálie (automobilové farby\, nátery a výrobky na starostlivosť)\nStavebníctvo a stavebné materiály\nEnergia\nŽivotné prostredie\nElektrina-elektronika\nInformačné a komunikačné technológie\n\n\nMatch4Industry v skratke\n\nZapojte sa do individuálnych obchodných stretnutí v exkluzívnej\, priaznivej atmosfére s vynikajúcimi príležitosťami na nadväzovanie kontaktov.\nVyužite širokú medzinárodnú sieť partnerov\, ktorá poskytuje pomoc pred podujatím.\nPreskúmajte nové trhy a obchodné príležitosti v Turecku aj mimo neho.\nObjavte inovatívne nápady na vývoj riešení a nových produktov.\n\n\nZahrnuté služby\n\nMiestne transfery na miesta stretnutí.\nPreklad z angličtiny do turečtiny a z turečtiny do angličtiny.\nObedy\, občerstvenie a uvítacia večera.\n\n\nPodujatie je bezplatné. \n\nPri vypĺňaní prihlášky si v časti „Settings“ v rámci položky „Support office“ vyberte TUKE ako vašu podpornú inštitúciu. Následne vašu prihlášku obratom radi potvrdíme v registračnom systéme podujatia. Nezabudnite na vyplnenie tzv. Marketplace. Ďakujeme. \n\nKontakt: Enterprise Europe Network pri UVP TECHNICOM\,  \ne-mail: een@uvptechnicom.sk.
URL:https://uvptechnicom.sk/event/kooperacne-podujatie-match4industry-business-matchmaking-event/
CATEGORIES:EEN podujatia,Kooperačné podujatia, veľtrhy, výstavy
ATTACH;FMTTYPE=image/png:https://uvptechnicom.sk/wp-content/uploads/2024/09/Kooperacne-podujatie-Match4business.png
END:VEVENT
BEGIN:VEVENT
DTSTART;TZID=Europe/Bratislava:20241113T150000
DTEND;TZID=Europe/Bratislava:20241113T170000
DTSTAMP:20260423T010652
CREATED:20241025T084141Z
LAST-MODIFIED:20241111T123514Z
UID:31870-1731510000-1731517200@uvptechnicom.sk
SUMMARY:SCRUM pre startupy
DESCRIPTION:Pridajte sa k nám na workshop SCRUM pre startupy\, kde odhalíme\, ako môže agilná metodológia SCRUM transformovať váš projektový manažment a zvýšiť efektivitu práce vo vašom tíme. Naučíte sa základné princípy SCRUM\, uvidíte praktické ukážky a inšpirujete sa úspešnými startupmi\, ktoré túto metodológiu úspešne aplikujú. Okrem toho preskúmate moderné cloudové nástroje\, ktoré vám pomôžu maximalizovať vašu produktivitu. \n			\n				Registrácia
URL:https://uvptechnicom.sk/event/scrum-pre-startupy/
LOCATION:UVP TECHNICOM\, Boženy Němcovej 5\, Košice\, Slovakia (Slovak Republic)
CATEGORIES:UVP a TUKE
ATTACH;FMTTYPE=image/png:https://uvptechnicom.sk/wp-content/uploads/2024/10/1-4.png
END:VEVENT
END:VCALENDAR