BEGIN:VCALENDAR
VERSION:2.0
PRODID:-//UVP TECHNICOM - ECPv6.15.20//NONSGML v1.0//EN
CALSCALE:GREGORIAN
METHOD:PUBLISH
X-ORIGINAL-URL:https://uvptechnicom.sk
X-WR-CALDESC:Events for UVP TECHNICOM
REFRESH-INTERVAL;VALUE=DURATION:PT1H
X-Robots-Tag:noindex
X-PUBLISHED-TTL:PT1H
BEGIN:VTIMEZONE
TZID:Europe/Bratislava
BEGIN:DAYLIGHT
TZOFFSETFROM:+0100
TZOFFSETTO:+0200
TZNAME:CEST
DTSTART:20230326T010000
END:DAYLIGHT
BEGIN:STANDARD
TZOFFSETFROM:+0200
TZOFFSETTO:+0100
TZNAME:CET
DTSTART:20231029T010000
END:STANDARD
BEGIN:DAYLIGHT
TZOFFSETFROM:+0100
TZOFFSETTO:+0200
TZNAME:CEST
DTSTART:20240331T010000
END:DAYLIGHT
BEGIN:STANDARD
TZOFFSETFROM:+0200
TZOFFSETTO:+0100
TZNAME:CET
DTSTART:20241027T010000
END:STANDARD
BEGIN:DAYLIGHT
TZOFFSETFROM:+0100
TZOFFSETTO:+0200
TZNAME:CEST
DTSTART:20250330T010000
END:DAYLIGHT
BEGIN:STANDARD
TZOFFSETFROM:+0200
TZOFFSETTO:+0100
TZNAME:CET
DTSTART:20251026T010000
END:STANDARD
END:VTIMEZONE
BEGIN:VEVENT
DTSTART;VALUE=DATE:20241105
DTEND;VALUE=DATE:20241113
DTSTAMP:20260423T010630
CREATED:20241016T110538Z
LAST-MODIFIED:20241016T110632Z
UID:31849-1730764800-1731455999@uvptechnicom.sk
SUMMARY:Stretnutia 1:1 počas Smart City Open Innovation Challenge
DESCRIPTION:Partneri siete Enterprise Europe Network pozývajú organizácie pôsobiace v oblasti inteligentných miest na stretnutia\, ktoré sa budú konať počas „Smart City Expo World Congress 2024“.  \n\nDátum konania: 5.11. – 12.11.2024Miesto konania: Barcelona\, Španielsko + onlineRegistrácia: https://smart-city-open-innovation-challenge.b2match.io/signupWeb stránka podujatia: https://smart-city-open-innovation-challenge.b2match.io/page-1241 \n\nSvetový kongres „Smart City Expo World Congress 2024“ je jedným z najväčších podujatí pre mestá a mestské inovácie. Je miestom\, kde sa každoročne stretávajú vedúci predstavitelia priemyslu\, vládni predstavitelia\, výskumníci\, investori a podnikatelia\, aby sa zaoberali zložitými otázkami\, ktoré sú základom nového modelu mesta a spoločnosti. Tohtoročné podujatie privíta viac ako 25 000 odborných návštevníkov z viac ako 130 krajín sveta\, viac ako 1 100 vystavovateľov\, viac ako 600 rečníkov a zástupcov z viac ako 850 miest. \n\nNaším poslaním je pomôcť mestám stať sa lepšími miestami pre život tým\, že ich spojíme a priblížime im najnovšie mestské riešenia dostupné na trhu. \n\nOrganizácia podujatia: \n\ndo 25.10.2024 – registrácia a plánovanie osobných stretnutí\ndo 11.11.2024 – registrácia a plánovanie online stretnutí\n5.-7.11.2024 – osobné stretnutia v dejisku Svetového kongresu Smart City Expov Barcelone (len stretnutia medzi vlastníkmi výziev a poskytovateľmi technológií)\n29.-31.10.2024 a 12.11.2024 – online stretnutia (stretnutia medzi Tech Providermi je možné naplánovať len online).\n\n\nVyužite jedinečnú príležitosť spojiť sa s verejnými a súkromnými organizáciami\,  ktoré hľadajú nové technologické riešenia pre výzvy miest. \n\nÚčasť na podujatí je bezplatná\, ale registrácia a aktivácia profilu sú povinné. Preto pri vypĺňaní prihlášky si v časti „Settings“ v rámci položky „Support office“ vyberte TUKE ako vašu podpornú inštitúciu. Následne vašu prihlášku obratom radi potvrdíme v registračnom systéme podujatia. Nezabudnite na vyplnenie tzv. Marketplace. Ďakujeme. \n\nKontakt: Enterprise Europe Network pri UVP TECHNICOM\, email: een@uvptechnicom.sk
URL:https://uvptechnicom.sk/event/stretnutia-11-pocas-smart-city-open-innovation-challenge/
CATEGORIES:EEN podujatia,Kooperačné podujatia, veľtrhy, výstavy
ATTACH;FMTTYPE=image/jpeg:https://uvptechnicom.sk/wp-content/uploads/2024/10/Stretnutia-11-pocas-Smart-City-Open-Innovation-Challenge.jpg
END:VEVENT
BEGIN:VEVENT
DTSTART;VALUE=DATE:20241107
DTEND;VALUE=DATE:20241108
DTSTAMP:20260423T010630
CREATED:20241029T130758Z
LAST-MODIFIED:20241029T130843Z
UID:31895-1730937600-1731023999@uvptechnicom.sk
SUMMARY:Príď na TECH DAY FUTURE TRENDS KONFERENCIU 2024 v Košiciach
DESCRIPTION:Podujatie Tech Day – Future Trends je prelomová technologická konferencia skúmajúca najnovšie trendy v oblasti AI\, Metaverse a Quantum Computing. \nSpájame vizionárskych lídrov\, inovátorov\, výskumníkov a technologických nadšencov\, aby sme sa ponorili do najnovších pokrokov\, ktoré nanovo definujú priemyselné odvetvia\, ekonomiky a spoločnosti. Poďme spolu objaviť budúcnosť najatraktívnejších technológií! Event je skvelou príležitosťou pre študentov stredných a vysokých škôl IT odborov\, ktorí  sa môžu inšpirovať v ich ďalšom smerovaní. \nUž 7.11.2024 AULA MAXIMA TUKE \nREGISTRÁCIA
URL:https://uvptechnicom.sk/event/prid-na-tech-day-future-trends-konferenciu-2024-v-kosiciach/
LOCATION:Aula Maxima\, Letná 9\, Košice\, Slovakia (Slovak Republic)
CATEGORIES:UVP a TUKE
ATTACH;FMTTYPE=image/jpeg:https://uvptechnicom.sk/wp-content/uploads/2024/10/IG.jpg
END:VEVENT
END:VCALENDAR