BEGIN:VCALENDAR
VERSION:2.0
PRODID:-//UVP TECHNICOM - ECPv6.15.20//NONSGML v1.0//EN
CALSCALE:GREGORIAN
METHOD:PUBLISH
X-WR-CALNAME:UVP TECHNICOM
X-ORIGINAL-URL:https://uvptechnicom.sk
X-WR-CALDESC:Events for UVP TECHNICOM
REFRESH-INTERVAL;VALUE=DURATION:PT1H
X-Robots-Tag:noindex
X-PUBLISHED-TTL:PT1H
BEGIN:VTIMEZONE
TZID:Europe/Bratislava
BEGIN:DAYLIGHT
TZOFFSETFROM:+0100
TZOFFSETTO:+0200
TZNAME:CEST
DTSTART:20230326T010000
END:DAYLIGHT
BEGIN:STANDARD
TZOFFSETFROM:+0200
TZOFFSETTO:+0100
TZNAME:CET
DTSTART:20231029T010000
END:STANDARD
BEGIN:DAYLIGHT
TZOFFSETFROM:+0100
TZOFFSETTO:+0200
TZNAME:CEST
DTSTART:20240331T010000
END:DAYLIGHT
BEGIN:STANDARD
TZOFFSETFROM:+0200
TZOFFSETTO:+0100
TZNAME:CET
DTSTART:20241027T010000
END:STANDARD
BEGIN:DAYLIGHT
TZOFFSETFROM:+0100
TZOFFSETTO:+0200
TZNAME:CEST
DTSTART:20250330T010000
END:DAYLIGHT
BEGIN:STANDARD
TZOFFSETFROM:+0200
TZOFFSETTO:+0100
TZNAME:CET
DTSTART:20251026T010000
END:STANDARD
END:VTIMEZONE
BEGIN:VEVENT
DTSTART;TZID=Europe/Bratislava:20241001T080000
DTEND;TZID=Europe/Bratislava:20241031T170000
DTSTAMP:20260423T010606
CREATED:20241002T092620Z
LAST-MODIFIED:20241002T093141Z
UID:31636-1727769600-1730394000@uvptechnicom.sk
SUMMARY:Výstava: FÓRUM DREVOSTAVIEB 2024 & 2023
DESCRIPTION:Medzinárodná výstava FÓRUM DREVOSTAVIEB 2024 & 2023 \nRozsiahla výstava približuje na takmer 60 paneloch výnimočnú inšpiratívnu drevenú architektúru od tvorcov zo Slovenska\, ČR a Rakúska. FÓRUM DREVOSTAVIEB je prehliadka\, zviditeľňujúca architektúru a stavanie z dreva ako ekologický a udržateľný spôsob výstavby z jediného trvalo obnoviteľného materiálu – dreva. Prehliadka\, ktorú Centrum architektúry ARCHA o. z. organizuje každoročne od roku 2012\, pozostáva z putovnej výstavy a odborných sprievodných konferencií. V roku 2024 sa konala v Bratislave v apríli a v Žiline v júni t. r.\, putovanie zavŕšila v ÚVP Technicom v Košiciach. Kurátorkou prehliadky a výstavy je kontinuálne Ing. arch. Ľubica Fábri\, ArtD. \nVýstavu ročníka FÓRA DREVOSTAVIEB 2024 dopĺňa v Košiciach aj reinštalácia výberu realizácií z roku 2023. Predstavené sú architektonicky kultivované diela a kvalitné realizácie tvorcov z celého Slovenska a pozvaných hostí z ČR a Rakúska. Typologicky ide o pestrú paletu budov – od rodinných a víkendových domov cez moderné drevostavby pre turizmus\, školstvo či príklady obnovy existujúcich stavieb pomocou drevených konštrukcií. Mnohé z prezentovaných stavieb získali prestížne ocenenia v architektonických a odborných súťažiach. \nSprievodné podujatie – odborná konferencia MÉTY V STAVANÍ Z DREVA\, s prednáškami popredných slovenských odborníkov na drevostavby a udržateľnú architektúru a derniérou výstavy na záver\, sa koná 23. 10. 2024 (streda) od 13:30. Detaily programu sú zverejnené na ADMAGAZIN | FÓRUM DREVOSTAVIEB 2024 \nNad putovnou medzinárodnou prehliadkou FÓRUM DREVOSTAVIEB v roku 2024 prevzali záštitu Dr. Johannes Wimmer\, veľvyslanec Rakúskej republiky v SR\, SKA (Slovenská komora architektov) a SAS (Spolok architektov Slovenska). \nVýstava je prístupná pre verejnosť v termíne od 1. 10. do 31. 10. 2024 v čase 08.00 do 17.00 v prezentačných priestoroch UVP TECHNICOM.
URL:https://uvptechnicom.sk/event/vystava-forum-drevostavieb-2024-2023/
LOCATION:UVP TECHNICOM\, Boženy Němcovej 5\, Košice\, Slovakia (Slovak Republic)
CATEGORIES:UVP a TUKE
ATTACH;FMTTYPE=image/jpeg:https://uvptechnicom.sk/wp-content/uploads/2024/10/WhatsApp-Image-2024-10-02-at-08.07.34_42fccea9.jpg
END:VEVENT
BEGIN:VEVENT
DTSTART;TZID=Europe/Bratislava:20241023T160000
DTEND;TZID=Europe/Bratislava:20241023T160000
DTSTAMP:20260423T010606
CREATED:20241016T110059Z
LAST-MODIFIED:20241016T110302Z
UID:31844-1729699200-1729699200@uvptechnicom.sk
SUMMARY:Webinár „Becoming Change Makers“
DESCRIPTION:Európska univerzita Ulysseus podporuje v rámci svojich aktivít rozvoj podnikavosti študentov\, aj v špecifických oblastiach ako sociálne podnikanie\, podnikanie žien či podnikanie intersekcionálne diskriminovaných osôb*. Práve k týmto témam spúšťame sériu webinárov\, z ktorých prvý sa bude konať v stredu 23. októbra 2024. Témou tohto webinára bude sociálne podnikanie: čo si pod týmto pojmom môžeme predstaviť a ako sa môžu inovatívne podnikateľské riešenia sociálnych výziev stať motorom rozvoja komunity. Svoje skúsenosti a pohľady k tejto problematike predstavia experti z Ulysseus kampusu\, ako Manuela Raisová (TUKE)\, Lenka Hlinková (Ženský algoritmus)\, Namrata Sethi (HH)\, či Desiree Wieser (MCI). \nWebinár bude v angličtine\, so začiatkom o 16:00 a približným trvaním 2 hod. Účasť je bezplatná\, je potrebná registrácia dopredu do nedele 20. októbra 2024. \nViac informácií a registrácia: https://ulysseus.eu/events/becoming-change-makers-for-social-impact \n*Intersekcionálne diskriminované osoby sú osoby\, pri ktorých majú dôvody ich diskriminácie znásobujúci sa charakter. \nEurópska univerzita Ulysseus\nVíziou Európskej univerzity Ulysseus je do roku 2030 vytvoriť excelentne uznávanú a medzinárodne atraktívnu európsku univerzitu otvorenú svetu\, zameranú na jednotlivca a podporujúcu podnikavosť. Našou ambíciou je tak prispieť k formovaniu Európskeho priestoru vysokoškolského vzdelávania a výskumu\, a tým aj k budúcnosti Európy. \nUlysseus\, jedna z vyše 60 Európskych univerzít vybraných Európskou komisiou za univerzity budúcnosti\, otvára možnosti pre študentov\, učiteľov a výskumníkov z partnerských univerzít pre ich vzdelávanie\, vzájomné mobility a nové špičkové výskumné projekty. Európska univerzita Ulysseus vznikla v roku 2020 a jej súčasnými členmi sú Univerzita v Seville (Španielsko\, koordinátor aliancie)\, Univerzita v Janove (Taliansko)\, Univerzita Côte d’Azur (Nice\, Francúzsko)\, Technická univerzita v Košiciach\, univerzita MCI | The Entrepreneurial School® (Innsbruck\, Rakúsko) a Univerzita aplikovaných vied Haaga-Helia (Helsinki\, Fínsko)\, Univerzita v Münsteri (Nemecko) a Univerzita Čierna Hora (Podgorica\, Čierna Hora). \nProjekt Európskej univerzity Ulysseus je na Slovensku podporený zo zdrojov Európskej únie a Ministerstva školstva\, výskumu\, vývoja a mládeže SR. \nĎalšie informácie o Európskej univerzite Ulysseus: www.ulysseus.eu
URL:https://uvptechnicom.sk/event/webinar-becoming-change-makers/
LOCATION:Online
CATEGORIES:Ulysseus,UVP a TUKE
ATTACH;FMTTYPE=image/jpeg:https://uvptechnicom.sk/wp-content/uploads/2024/10/webinar.jpg
END:VEVENT
END:VCALENDAR