BEGIN:VCALENDAR
VERSION:2.0
PRODID:-//UVP TECHNICOM - ECPv6.15.20//NONSGML v1.0//EN
CALSCALE:GREGORIAN
METHOD:PUBLISH
X-WR-CALNAME:UVP TECHNICOM
X-ORIGINAL-URL:https://uvptechnicom.sk
X-WR-CALDESC:Events for UVP TECHNICOM
REFRESH-INTERVAL;VALUE=DURATION:PT1H
X-Robots-Tag:noindex
X-PUBLISHED-TTL:PT1H
BEGIN:VTIMEZONE
TZID:Europe/Bratislava
BEGIN:DAYLIGHT
TZOFFSETFROM:+0100
TZOFFSETTO:+0200
TZNAME:CEST
DTSTART:20230326T010000
END:DAYLIGHT
BEGIN:STANDARD
TZOFFSETFROM:+0200
TZOFFSETTO:+0100
TZNAME:CET
DTSTART:20231029T010000
END:STANDARD
BEGIN:DAYLIGHT
TZOFFSETFROM:+0100
TZOFFSETTO:+0200
TZNAME:CEST
DTSTART:20240331T010000
END:DAYLIGHT
BEGIN:STANDARD
TZOFFSETFROM:+0200
TZOFFSETTO:+0100
TZNAME:CET
DTSTART:20241027T010000
END:STANDARD
BEGIN:DAYLIGHT
TZOFFSETFROM:+0100
TZOFFSETTO:+0200
TZNAME:CEST
DTSTART:20250330T010000
END:DAYLIGHT
BEGIN:STANDARD
TZOFFSETFROM:+0200
TZOFFSETTO:+0100
TZNAME:CET
DTSTART:20251026T010000
END:STANDARD
END:VTIMEZONE
BEGIN:VEVENT
DTSTART;TZID=Europe/Bratislava:20241001T080000
DTEND;TZID=Europe/Bratislava:20241031T170000
DTSTAMP:20260423T024411
CREATED:20241002T092620Z
LAST-MODIFIED:20241002T093141Z
UID:31636-1727769600-1730394000@uvptechnicom.sk
SUMMARY:Výstava: FÓRUM DREVOSTAVIEB 2024 & 2023
DESCRIPTION:Medzinárodná výstava FÓRUM DREVOSTAVIEB 2024 & 2023 \nRozsiahla výstava približuje na takmer 60 paneloch výnimočnú inšpiratívnu drevenú architektúru od tvorcov zo Slovenska\, ČR a Rakúska. FÓRUM DREVOSTAVIEB je prehliadka\, zviditeľňujúca architektúru a stavanie z dreva ako ekologický a udržateľný spôsob výstavby z jediného trvalo obnoviteľného materiálu – dreva. Prehliadka\, ktorú Centrum architektúry ARCHA o. z. organizuje každoročne od roku 2012\, pozostáva z putovnej výstavy a odborných sprievodných konferencií. V roku 2024 sa konala v Bratislave v apríli a v Žiline v júni t. r.\, putovanie zavŕšila v ÚVP Technicom v Košiciach. Kurátorkou prehliadky a výstavy je kontinuálne Ing. arch. Ľubica Fábri\, ArtD. \nVýstavu ročníka FÓRA DREVOSTAVIEB 2024 dopĺňa v Košiciach aj reinštalácia výberu realizácií z roku 2023. Predstavené sú architektonicky kultivované diela a kvalitné realizácie tvorcov z celého Slovenska a pozvaných hostí z ČR a Rakúska. Typologicky ide o pestrú paletu budov – od rodinných a víkendových domov cez moderné drevostavby pre turizmus\, školstvo či príklady obnovy existujúcich stavieb pomocou drevených konštrukcií. Mnohé z prezentovaných stavieb získali prestížne ocenenia v architektonických a odborných súťažiach. \nSprievodné podujatie – odborná konferencia MÉTY V STAVANÍ Z DREVA\, s prednáškami popredných slovenských odborníkov na drevostavby a udržateľnú architektúru a derniérou výstavy na záver\, sa koná 23. 10. 2024 (streda) od 13:30. Detaily programu sú zverejnené na ADMAGAZIN | FÓRUM DREVOSTAVIEB 2024 \nNad putovnou medzinárodnou prehliadkou FÓRUM DREVOSTAVIEB v roku 2024 prevzali záštitu Dr. Johannes Wimmer\, veľvyslanec Rakúskej republiky v SR\, SKA (Slovenská komora architektov) a SAS (Spolok architektov Slovenska). \nVýstava je prístupná pre verejnosť v termíne od 1. 10. do 31. 10. 2024 v čase 08.00 do 17.00 v prezentačných priestoroch UVP TECHNICOM.
URL:https://uvptechnicom.sk/event/vystava-forum-drevostavieb-2024-2023/
LOCATION:UVP TECHNICOM\, Boženy Němcovej 5\, Košice\, Slovakia (Slovak Republic)
CATEGORIES:UVP a TUKE
ATTACH;FMTTYPE=image/jpeg:https://uvptechnicom.sk/wp-content/uploads/2024/10/WhatsApp-Image-2024-10-02-at-08.07.34_42fccea9.jpg
END:VEVENT
BEGIN:VEVENT
DTSTART;VALUE=DATE:20241008
DTEND;VALUE=DATE:20241010
DTSTAMP:20260423T024411
CREATED:20240618T162537Z
LAST-MODIFIED:20240618T162619Z
UID:31207-1728345600-1728518399@uvptechnicom.sk
SUMMARY:Kooperačné podujatie hy-fcell 2024
DESCRIPTION:Enterprise Europe Network vás pozýva na každoročné medzinárodné kooperačné podujatie so zameraním na vodíkový priemysel a palivové články\, ktoré bude súčasťou medzinárodného veľtrhu hy-fcell 2024. Prihlášky do 9. októbra 2024. \n\nDátum konania: 8. – 9.10.2024Miesto konania: Stuttgart\, NemeckoRegistrácia: https://hyfcell-2024.b2match.io/signupWeb stránka podujatia: https://hyfcell-2024.b2match.io/   \n\nZameranie podujatia: \n\nKomponenty palivových článkov;\nVýroba vodíka a infraštruktúra;\nSystémy palivových článkov/Bilancia zariadení;\nOblasti použitia vodíkových technológií;\nVýrobné technológie pre komponenty a systémy palivových článkov;\nVýskum\, vývoj\, služby;\nOblasti použitia palivových článkov\, projekty.\n\n\nCieľom kooperačného podujatia je vytvoriť priestor pre nadväzovanie nových obchodných príležitosti. \n\nVýhody\, ktoré prináša B2B: \n\nÚspora času vďaka vopred naplánovaným stretnutiam\nVysoká kvalita výsledkov vďaka kvalifikovaným kontaktom\nKomplexné informácie o firmách\nVýmena skúsenosti a informácií týkajúcich sa medzinárodných trhov\n\n\nHlavnými organizátormi podujatia sú Handwerk International Baden-Württemberg\, Steinbeis Europa Zentrum\, IHK Region Stuttgart a IHK Reutlingen v spolupráci s Enterprise Europe Network. \n  \nÚčasť na kooperačnom podujatí je bezplatná\, ale registrácia a aktivácia profilu sú povinné. Pri vypĺňaní prihlášky si v časti „Settings“ v rámci položky „Support office“ vyberte TUKE ako vašu podpornú inštitúciu. Následne vašu prihlášku skontrolujeme a obratom potvrdíme v registračnom systéme podujatia. \n\nUpozornenie:  Pri registrácii na kooperačné podujatie poskytneme vstupenku na výstavu hy-fcell zdarma. Tento lístok je možné použiť na návštevu všetkých veľtrhov\, ktoré sa v tom čase konajú na Messe Stuttgart. Vstup na konferenciu je podmienený samostatnou vstupenkou\, ktorú si môžete zakúpiť TU (ako účastník kooperačného podujatia získate na ňu zľavu 20%). Zľavový kód vám bude poskytnutý po registrácii. \n\nKontakt: Enterprise Europe Network pri UVP TECHNICOM\, e-mail: een@uvptechnicom.sk
URL:https://uvptechnicom.sk/event/kooperacne-podujatie-hy-fcell-2024/
CATEGORIES:EEN podujatia,Kooperačné podujatia, veľtrhy, výstavy
ATTACH;FMTTYPE=image/png:https://uvptechnicom.sk/wp-content/uploads/2024/06/hy-fcell-2024.png
END:VEVENT
BEGIN:VEVENT
DTSTART;VALUE=DATE:20241008
DTEND;VALUE=DATE:20241012
DTSTAMP:20260423T024411
CREATED:20240617T080213Z
LAST-MODIFIED:20240617T080427Z
UID:31193-1728345600-1728691199@uvptechnicom.sk
SUMMARY:Contact – Contract 2024
DESCRIPTION:V dňoch 8. – 11. októbra 2024 sa v českom Brne uskutoční kooperačné podujatie Contact-Contract 2024\, ktoré bude súčasťou medzinárodného strojárskeho veľtrhu MSV Brno\, so zameraním na oblasť Industry 4.0 a Digital Factory 2.0. Prihlášky do 7. októbra 2024. \n\nDátum konania: 8. – 11. október 2024Miesto konania: Brno\, Česká republikaPrihláška: https://contact-contract-2024.b2match.io/signupWeb stránka podujatia: https://contact-contract-2024.b2match.io/ \n\nMedzinárodný strojársky veľtrh je popredným priemyselným veľtrhom v strednej Európe s každoročnou účasťou viac ako 1 500 vystavovateľov a 75 000 návštevníkov z 59 krajín sveta. Viac ako tretina vystavovateľov pochádza zo zahraničia. Zastúpené sú všetky kľúčové oblasti strojárskeho a elektrotechnického priemyslu s primárnym zameraním na obrábanie a tvárnenie. \n\nStredobodom pozornosti MSV je Industry 4.0 a Digital Factory 2.0\, t. j. digitalizácia výroby\, ktorá je jedným z kľúčových trendov inovačného procesu. Medzi ďalšie zvýraznené témy patrí obehové hospodárstvo – riadenie materiálnych zdrojov. \n\nPrečo sa zúčastniť? \n\nVysoká úroveň publicity pred podujatím.\nPríležitosť objaviť nových obchodných partnerov\, klientov a dodávateľov bez veľkého úsilia.\nMožnosť nadviazať dôležité kontakty medzi vystavovateľmi a návštevníkmi.\nVoľný vstup na veľtrh.\nÚčasť je BEZPLATNÁ.\n\n\nZameranie podujatia: \n\nstrojárstvo banské\, hutnícke\, keramické\, sklárske;\nmateriály a komponenty pre strojárstvo;\npohony\, hydraulika a pneumatika\, chladiaca technika a klimatizácia;\nenergetika a silnoprúdová elektrotechnika;\nelektronika\, automatizačná a meracia technika;\nvýskum\, vývoj\, transfer technológií\, finančné a iné služby;\nkovoobrábacie a tvárniace stroje\, nástroje;\nzlievarenský priemysel;\nzváranie;\npovrchové technológie;\nplasty\, guma\, kompozity;\nchemikálie pre strojárstvo.\n\n\nPri vypĺňaní prihlášky si v rámci položky „Support office“ vyberte TUKE ako vašu podpornú inštitúciu. Následne vašu prihlášku skontrolujeme a  obratom radi potvrdíme v registračnom systéme podujatia. Nezabudnite prosím na vyplnenie tzv. Marketplace. Ďakujeme. \n\nKontakt: Enterprise Europe Network pri UVP TECHNICOM\, e-mail: een@uvptechnicom.sk
URL:https://uvptechnicom.sk/event/contact-contract-2024/
CATEGORIES:EEN podujatia,Kooperačné podujatia, veľtrhy, výstavy
ATTACH;FMTTYPE=image/jpeg:https://uvptechnicom.sk/wp-content/uploads/2024/06/Contact-Contract-2024.jpg
END:VEVENT
END:VCALENDAR