BEGIN:VCALENDAR
VERSION:2.0
PRODID:-//UVP TECHNICOM - ECPv6.15.20//NONSGML v1.0//EN
CALSCALE:GREGORIAN
METHOD:PUBLISH
X-ORIGINAL-URL:https://uvptechnicom.sk
X-WR-CALDESC:Events for UVP TECHNICOM
REFRESH-INTERVAL;VALUE=DURATION:PT1H
X-Robots-Tag:noindex
X-PUBLISHED-TTL:PT1H
BEGIN:VTIMEZONE
TZID:Europe/Bratislava
BEGIN:DAYLIGHT
TZOFFSETFROM:+0100
TZOFFSETTO:+0200
TZNAME:CEST
DTSTART:20230326T010000
END:DAYLIGHT
BEGIN:STANDARD
TZOFFSETFROM:+0200
TZOFFSETTO:+0100
TZNAME:CET
DTSTART:20231029T010000
END:STANDARD
BEGIN:DAYLIGHT
TZOFFSETFROM:+0100
TZOFFSETTO:+0200
TZNAME:CEST
DTSTART:20240331T010000
END:DAYLIGHT
BEGIN:STANDARD
TZOFFSETFROM:+0200
TZOFFSETTO:+0100
TZNAME:CET
DTSTART:20241027T010000
END:STANDARD
BEGIN:DAYLIGHT
TZOFFSETFROM:+0100
TZOFFSETTO:+0200
TZNAME:CEST
DTSTART:20250330T010000
END:DAYLIGHT
BEGIN:STANDARD
TZOFFSETFROM:+0200
TZOFFSETTO:+0100
TZNAME:CET
DTSTART:20251026T010000
END:STANDARD
END:VTIMEZONE
BEGIN:VEVENT
DTSTART;VALUE=DATE:20240829
DTEND;VALUE=DATE:20240921
DTSTAMP:20260423T043457
CREATED:20240626T114214Z
LAST-MODIFIED:20240626T114304Z
UID:31232-1724889600-1726876799@uvptechnicom.sk
SUMMARY:Kooperačné podujatie AGROPODIOM 2024
DESCRIPTION:Partneri siete Enterprise Europe Network pozývajú organizácie zamerané na poľnohospodársky a potravinársky sektor na kooperačné podujatie AGROPODIOM 2024\, ktoré sa uskutoční v rámci Farmer-Expo International Agricultural and Food Exhibition. \n\nDátum konania: 29.8. – 20.9.2024Miesto konania: Debrecín\, Maďarsko/onlineRegistrácia: https://www.b2match.com/e/agropodiom-2024-matchmaking-event/sign-upWeb stránka podujatia: https://www.b2match.com/e/agropodiom-2024-matchmaking-event/components/35504 \n\nFarmer-Expo je jednou z najstarších a najprestížnejších poľnohospodárskych výstav v Maďarsku. Na výstave sa budú konať aj výstavy zvierat a strojov\, konferencie a obchodné stretnutia. \n\nTematické zameranie podujatia: \n\nŽivočíšna výroba;\nRastlinná výroba;\nStroje na pestovanie poľných plodín;\nChemické výrobky;\nPresné poľnohospodárstvo\, agroelektronika;\nPoľnohospodárska architektúra;\nZdvíhacie a nakladacie stroje;\nZariadenia pre nákladnú a osobnú dopravu;\nPotravinársky priemysel;\nZariadenia pre potravinársky priemysel;\nEkologické poľnohospodárstvo;\nOchrana životného prostredia;\nAgro-environmentálne riadenie\, rozvoj vidieka;\nLesníctvo;\nVentily\, čerpadlá\, prenos energie;\nNáradie\, nástroje\, stojany;\nVerejná správa a mimovládne odborné organizácie;\nBezpečnosť práce\, pracovné odevy;\nSlužby.\n\n\nOrganizácia podujatia: \n1.7 – 16.9.2024 rezervácia stretnutí29.8 – 31.8.2024 onsite stretnutia30.8 – 20.9.2024 online stretnutia \n\nZaregistrujte sa na podujatie\, vytvorte si profil a pri jeho vypĺňaní si v časti „Settings“ v rámci položky „Support office“ vyberte TUKE ako vašu podpornú inštitúciu. V profile je dôležité vyplniť tzv. Marketplace. Následne vašu prihlášku skontrolujeme a potvrdíme v registračnom systéme podujatia. Ďakujeme. \n\nKontakt: Enterprise Europe Network pri UVP TECHNICOM\, e-mail: een@uvptechnicom.sk \n 
URL:https://uvptechnicom.sk/event/kooperacne-podujatie-agropodiom-2024/
CATEGORIES:EEN podujatia,Kooperačné podujatia, veľtrhy, výstavy
ATTACH;FMTTYPE=image/jpeg:https://uvptechnicom.sk/wp-content/uploads/2024/06/Agropodiom-scaled.jpg
END:VEVENT
BEGIN:VEVENT
DTSTART;VALUE=DATE:20240903
DTEND;VALUE=DATE:20240921
DTSTAMP:20260423T043457
CREATED:20240710T173234Z
LAST-MODIFIED:20240710T173335Z
UID:31342-1725321600-1726876799@uvptechnicom.sk
SUMMARY:1:1 stretnutia počas konferencie Plasma Surface Engineering 2024
DESCRIPTION:Využite príležitosť bezplatnej účasti na kooperačnom podujatí\, ktoré sa uskutoční v rámci konferencie Plasma Surface Engineering 2024. Prihlášky do 19. septembra 2024. \nDátum konania: 3.9. – 20.9.2024Miesto konania: Erfurt\, Nemecko/onlineRegistrácia: https://pse-2024-matchmaking.b2match.io/signup   Web stránka podujatia: https://pse-2024-matchmaking.b2match.io/  \nPodujatie je určené spoločnostiam\, výskumným inštitúciám a všetkým zainteresovaným stranám\, ktoré chcú preskúmať spoločné projekty\, technickú spoluprácu alebo nové obchodné kontakty s partnermi z Európy a celého sveta. \nPlazmové povrchové inžinierstvo – užitočné v mnohých priemyselných odvetviach \nProcesy plazmového povlakovania predstavujú ekonomickú a ekologickú alternatívu k mokrým chemickým procesom úpravy pre mnohé rôzne priemyselné výrobné procesy. Podujatie bude slúžiť spoločnostiam\, univerzitám\, inštitútom a spolkom pôsobiacim v nasledujúcich odvetviach: \nTechnologické oblasti \n\nOptika\nMeracia technika\nAnalytika\nVodíková technológia\n\nOblasti použitia \n\nAutomobilový a letecký priemysel\nEnergetický sektor\nZdravotnícke technológie\nNámorné technológie\nStrojárstvo\n\nTypickými príkladmi výrobkov sú smartfóny\, kúpeľňové armatúry\, kľučky dverí\, šošovky okuliarov\, palivové články\, lekárske implantáty alebo PET fľaše\, ktoré sú všetky potiahnuté plazmou. \nOrganizácia podujatia: \n\n3. – 4.9.2024 – onsite stretnutia\n5. – 20.9.2024 – online stretnutia\n\nÚčasť na kooperačnom podujatí je bezplatná\, ale registrácia\, vytvorenie profilu a vyplnenie aspoň 1 položky v časti Market place povinná. V prípade osobnej účasti je potrebná osobitná registrácia na konferenciu/výstavu na jej web stránke PSE 2024. Viac o konferencii sa dozviete TU. \nKontakt: Enterprise Europe Network pri UVP TECHNICOM\, e-mail: een@uvptechnicom.sk
URL:https://uvptechnicom.sk/event/11-stretnutia-pocas-konferencie-plasma-surface-engineering-2024/
CATEGORIES:EEN podujatia,Kooperačné podujatia, veľtrhy, výstavy
ATTACH;FMTTYPE=image/png:https://uvptechnicom.sk/wp-content/uploads/2024/07/11_stretnutia_pocas_konferencie_plasma_surface_engineering_2024.png
END:VEVENT
BEGIN:VEVENT
DTSTART;TZID=Europe/Bratislava:20240910T090000
DTEND;TZID=Europe/Bratislava:20240910T100000
DTSTAMP:20260423T043457
CREATED:20240903T131011Z
LAST-MODIFIED:20240903T131710Z
UID:31537-1725958800-1725962400@uvptechnicom.sk
SUMMARY:Raňajky Ulysseus IH TUKE: Ako využiť AI pri príprave projektov
DESCRIPTION:Ulysseus inovačný hub pri Technickej univerzite v Košiciach\, ktorý sa venuje téme Digitálna transformácia priemyslu\, pozýva výskumníkov a učiteľov TUKE\, podnikateľov a start-upy z regiónu na prvé neformálne raňajky\, tentokrát k téme využitia umelej inteligencie pri príprave projektov. \nPodujatie s názvom Ako využiť AI pri príprave projektov sa uskutoční v utorok\, 10. septembra 2024 na letnej terase Univerzitného vedeckého parku Technicom od 9:00 hod. do 10:00 hod. \nCieľom podujatia je priniesť základný prehľad o možnostiach využitia umelej inteligencie pre zjednodušenie a zefektívnenie procesu prípravy projektových zámerov  a tým budovať kompetencie pre zvyšovanie účasti TUKE v programe Horizont Európa s kvalitnými projektovými návrhmi a so zapojením podnikateľov. \nÚčastníci sa na podujatí dozvedia: \n\naké nástroje AI je možné využiť na prípravu projektových zámerov (prieskum literatúry\, tvorba projektovej myšlienky\, hodnotenie návrhu umelou inteligenciou)\,\nako zadávať „prompty“ do Chat GPT aby sa dosiahol požadovaný výsledok\,\nčo sú to kaskádové granty\, kde ich hľadať a výber aktuálnych kaskádových výziev v oblasti digitalizácie\,\nkde na TUKE a akú podporu je možné získať pri príprave projektov.\n\nPodujatie bude prebiehať neformálne\, vo forme prezentácie s praktickými ukážkami a súčasťou bude aj možnosť diskusie a zdieľania skúseností s nástrojmi AI. \nPodávaná bude káva a malé raňajkové občerstvenie. V prípade nevyhovujúceho počasia podujatie presunieme z letnej terasy do iných priestorov UVP TECHNICOM. \n\n\nRegistrácia\nPrijmite naše pozvanie a zaregistrujte sa na tomto odkaze. \nPočet miest je z priestorových dôvodov limitovaný. \nSpoluorganizátormi podujatia sú Enterprise Europe Network a Európske centrum digitálnych inovácií EDIH CASSOVIUM. \n  \nEurópska univerzita Ulysseus\nVíziou Európskej univerzity Ulysseus je do roku 2030 vytvoriť excelentne uznávanú a medzinárodne atraktívnu európsku univerzitu otvorenú svetu\, zameranú na ľudí a podporujúcu podnikavosť. Našou ambíciou je tak prispieť k formovaniu Európskeho priestoru vysokoškolského vzdelávania a výskumu\, a tým aj k budúcnosti Európy. \nEurópska univerzita Ulysseus\, jedna z 50 európskych univerzít vybraných Európskou komisiou za univerzity budúcnosti\, otvára možnosti pre študentov\, učiteľov a výskumníkov z partnerských univerzít pre ich vzdelávanie\, vzájomné mobility a nové špičkové výskumné projekty.  Európska univerzita Ulysseus vznikla v roku 2020 a jej členmi sú Univerzita v  Seville (Španielsko\, koordinátor aliancie)\, Univerzita v Janove (Taliansko)\, Univerzita Côte d’Azur (Nice\, Francúzsko)\, Technická univerzita v Košiciach\, univerzita MCI | The Entrepreneurial School® (Innsbruck\, Rakúsko) a Univerzita aplikovaných vied Haaga-Helia (Helsinki\, Fínsko)\, Univerzita v Münsteri (Nemecko) a Univerzita Čierna Hora (Podgorica\, Čierna Hora). \nProjekt je financovaný zo zdrojov Európskej únie a Ministerstva školstva\, vedy\, výskumu a mládeže SR. \nĎalšie informácie o Európskej univerzite Ulysseus nájdete na: www.ulysseus.eu \n\n\nUlysseus inovačný hub pri Technickej univerzite v Košiciach\nUlysseus prináša unikátny prístup k vytváraniu a rozvíjaniu inovačného ekosystému (Ulysseus kampus) podporujúceho otvorenú vedu\, výskum a inovácie v koncepte univerzity otvorenej svetu. Súčasťou Ulysseus kampusu je sieť ôsmych inovačných hubov (Innovation Hubs\, IH). IH sú tematicky orientované na osem špecifických a interdisciplinárnych výskumno-vývojových výziev\, ktoré sú zároveň prioritnými oblasťami inovačných stratégií RIS3 miest a regiónov aliancie\, súčasťou cieľov trvalo udržateľného rozvoja (SDG)\, Európskej zelenej dohody (European Green Deal) a klastrov programu Horizont Európa. Ulysseus IH pri Technickej univerzite v Košiciach (IH TUKE) je tematicky orientovaný na problematiku digitalizácie a digitálnej transformácie priemyslu. Je súčasťou UVP TECHNICOM\, čo mu umožňuje plne sa integrovať do univerzitného inovačného ekosystému. IH TUKE otvára TUKE ekosystém do Ulysseus komunity – s komunitou prepája univerzitný potenciál (výskumníkov\, pracoviská\, infraštruktúru\, digitálne inovačné huby a centrá excelencie)\, regionálnych partnerov (z verejného a súkromného sektora). \nIH TUKE je plne integrovaný do ďalších iniciatív TUKE v oblasti podpory digitalizácie a digitálnej transformácie – napr. DIH TECHNICOM a EDIH CASSOVIUM.
URL:https://uvptechnicom.sk/event/ranajky-ulysseus-ih-tuke-ako-vyuzit-ai-pri-priprave-projektov/
LOCATION:UVP TECHNICOM\, Boženy Němcovej 5\, Košice\, Slovakia (Slovak Republic)
CATEGORIES:Odporúčame účasť,Ulysseus,UVP a TUKE
ATTACH;FMTTYPE=image/jpeg:https://uvptechnicom.sk/wp-content/uploads/2024/09/ai-scaled.jpg
END:VEVENT
END:VCALENDAR