BEGIN:VCALENDAR
VERSION:2.0
PRODID:-//UVP TECHNICOM - ECPv6.15.20//NONSGML v1.0//EN
CALSCALE:GREGORIAN
METHOD:PUBLISH
X-ORIGINAL-URL:https://uvptechnicom.sk
X-WR-CALDESC:Events for UVP TECHNICOM
REFRESH-INTERVAL;VALUE=DURATION:PT1H
X-Robots-Tag:noindex
X-PUBLISHED-TTL:PT1H
BEGIN:VTIMEZONE
TZID:Europe/Bratislava
BEGIN:DAYLIGHT
TZOFFSETFROM:+0100
TZOFFSETTO:+0200
TZNAME:CEST
DTSTART:20230326T010000
END:DAYLIGHT
BEGIN:STANDARD
TZOFFSETFROM:+0200
TZOFFSETTO:+0100
TZNAME:CET
DTSTART:20231029T010000
END:STANDARD
BEGIN:DAYLIGHT
TZOFFSETFROM:+0100
TZOFFSETTO:+0200
TZNAME:CEST
DTSTART:20240331T010000
END:DAYLIGHT
BEGIN:STANDARD
TZOFFSETFROM:+0200
TZOFFSETTO:+0100
TZNAME:CET
DTSTART:20241027T010000
END:STANDARD
BEGIN:DAYLIGHT
TZOFFSETFROM:+0100
TZOFFSETTO:+0200
TZNAME:CEST
DTSTART:20250330T010000
END:DAYLIGHT
BEGIN:STANDARD
TZOFFSETFROM:+0200
TZOFFSETTO:+0100
TZNAME:CET
DTSTART:20251026T010000
END:STANDARD
END:VTIMEZONE
BEGIN:VEVENT
DTSTART;VALUE=DATE:20240729
DTEND;VALUE=DATE:20240730
DTSTAMP:20260423T061758
CREATED:20240705T095158Z
LAST-MODIFIED:20240705T095158Z
UID:31296-1722211200-1722297599@uvptechnicom.sk
SUMMARY:NGI Search 5th Open Call
DESCRIPTION:
URL:https://uvptechnicom.sk/event/ngi-search-5th-open-call/
CATEGORIES:Kaskádové výzvy
END:VEVENT
BEGIN:VEVENT
DTSTART;VALUE=DATE:20240729
DTEND;VALUE=DATE:20240730
DTSTAMP:20260423T061758
CREATED:20240705T095202Z
LAST-MODIFIED:20240705T095202Z
UID:31299-1722211200-1722297599@uvptechnicom.sk
SUMMARY:#1 OPEN CALL | LAUDS EXPLORATION (OC-2024-LAUDSEXP-01)
DESCRIPTION:
URL:https://uvptechnicom.sk/event/1-open-call-lauds-exploration-oc-2024-laudsexp-01/
CATEGORIES:Kaskádové výzvy
END:VEVENT
END:VCALENDAR