BEGIN:VCALENDAR
VERSION:2.0
PRODID:-//UVP TECHNICOM - ECPv6.15.20//NONSGML v1.0//EN
CALSCALE:GREGORIAN
METHOD:PUBLISH
X-ORIGINAL-URL:https://uvptechnicom.sk
X-WR-CALDESC:Events for UVP TECHNICOM
REFRESH-INTERVAL;VALUE=DURATION:PT1H
X-Robots-Tag:noindex
X-PUBLISHED-TTL:PT1H
BEGIN:VTIMEZONE
TZID:Europe/Bratislava
BEGIN:DAYLIGHT
TZOFFSETFROM:+0100
TZOFFSETTO:+0200
TZNAME:CEST
DTSTART:20230326T010000
END:DAYLIGHT
BEGIN:STANDARD
TZOFFSETFROM:+0200
TZOFFSETTO:+0100
TZNAME:CET
DTSTART:20231029T010000
END:STANDARD
BEGIN:DAYLIGHT
TZOFFSETFROM:+0100
TZOFFSETTO:+0200
TZNAME:CEST
DTSTART:20240331T010000
END:DAYLIGHT
BEGIN:STANDARD
TZOFFSETFROM:+0200
TZOFFSETTO:+0100
TZNAME:CET
DTSTART:20241027T010000
END:STANDARD
BEGIN:DAYLIGHT
TZOFFSETFROM:+0100
TZOFFSETTO:+0200
TZNAME:CEST
DTSTART:20250330T010000
END:DAYLIGHT
BEGIN:STANDARD
TZOFFSETFROM:+0200
TZOFFSETTO:+0100
TZNAME:CET
DTSTART:20251026T010000
END:STANDARD
END:VTIMEZONE
BEGIN:VEVENT
DTSTART;VALUE=DATE:20240709
DTEND;VALUE=DATE:20240710
DTSTAMP:20260423T072809
CREATED:20240710T172628Z
LAST-MODIFIED:20240710T172743Z
UID:31336-1720483200-1720569599@uvptechnicom.sk
SUMMARY:Platforma pre výzvu Driving Urban Transition 2024
DESCRIPTION:Pozývame vás nájsť si partnerov do projektov na platforme\, ktorej cieľom je vytvárať partnerstvá v rámci Driving Urban Transition (DUT) 2024. \nNa tejto platforme môžete: \n\nprediskutovať a upresniť svoje projektové nápady s potenciálnymi partnermi;\nnadviazať spoluprácu a vstúpiť do konzorcií.\n\nPlatforma je k dispozícií do 24. apríla 2025 na: https://dut-call-2024.b2match.io/page-3601 \nRegistrácia na: https://dut-call-2024.b2match.io/signup  \nZaregistrujte sa a vytvorte profil\, v ktorom identifikujete: \n\ntémy výziev\, ktoré vás zaujímajú\nči ste súčasťou konzorcia a hľadáte partnerov\, alebo ste partner\, ktorý hľadá konzorcium.\n\nProfil má byť jasný a stručný\, aby ste sa dostatočne zviditeľnili. Váš profil by mal opisovať kto ste\, čo môžete ponúknuť potenciálnym partnerom a s kým sa chcete stretnúť. Dobrý profil vygeneruje podstatne viac žiadostí o stretnutie! Následne prezrite v zozname účastníkov profily zaregistrovaných a požiadajte o stretnutia tie organizácie\, ktorých profil vás zaujme. Ak máte konkrétny projekt\, pre ktorý hľadáte partnerov\, môžete pridať „cooperation opportunity“. Opíšte svoj nápad na projekt\, cieľ\, odborné znalosti a typ hľadaného partnera. \nCieľom tejto tretej výzvy na predkladanie návrhov je podporiť nadnárodné výskumné a/alebo inovačné projekty zamerané na riešenie mestských výziev s cieľom pomôcť mestám pri ich prechode na udržateľnejšie hospodárstvo a fungovanie. \nViac informácií o výzve vrátane tém výzvy\, časového harmonogramu a požiadaviek nájdete tu. \nTémy výzvy: \nObehové mestské hospodárstvo (CUE) \nCUE téma 1: Vytvorenie novej paradigmy pre vodné cykly v mestách \nCUE téma 2: Obehové modely regenerácie\, opätovného využitia\, ochrany a zachovania mestského priestoru pre biodiverzitu \nCUE téma 3: Stratégie pre viaceré mestá na monitorovanie a riadenie obehového hospodárstva miest \n15-minútové mesto (15mC) \n15mC téma 1: Pokrok v mestskej mobilite: inovácie pre inkluzívne systémy mobility zamerané na mladých ľudí \n15mC téma 2: Prehodnotenie systémov mestskej mobility: smerom k systémovým inováciám a politikám blízkosti pre udržateľné mestské regióny \n15mC téma 3: Dôkazy pre transformáciu mestskej mobility – údaje a ukazovatele pre efektívne rozhodovanie \nDistribúcia pozitívnej energie (PED) \nPED téma 1: Miestne PED vo viacúrovňovej perspektíve \nPED téma 2: Smerom ku klimaticky neutrálnemu mestu: PED\, systémová integrácia a mestské stratégie \nPED téma 3: Riadenie prechodu na mestskú energetiku: správa údajov a systémy na podporu rozhodovania \nInfo Day 1 bude prebiehať online formou 10. septembra 2024. Viac informácií na https://dut-call-2024.b2match.io/page-961 \nKontakt: Enterprise Europe Network pri UVP TECHNICOM\, e-mail: een@uvptechnicom.sk
URL:https://uvptechnicom.sk/event/platforma-pre-vyzvu-driving-urban-transition-2024/
CATEGORIES:EEN podujatia,Kooperačné podujatia, veľtrhy, výstavy
ATTACH;FMTTYPE=image/png:https://uvptechnicom.sk/wp-content/uploads/2024/07/platforma_pre_vyzvu_driving_urban_transition_2024.png
END:VEVENT
END:VCALENDAR