BEGIN:VCALENDAR
VERSION:2.0
PRODID:-//UVP TECHNICOM - ECPv6.15.20//NONSGML v1.0//EN
CALSCALE:GREGORIAN
METHOD:PUBLISH
X-WR-CALNAME:UVP TECHNICOM
X-ORIGINAL-URL:https://uvptechnicom.sk
X-WR-CALDESC:Events for UVP TECHNICOM
REFRESH-INTERVAL;VALUE=DURATION:PT1H
X-Robots-Tag:noindex
X-PUBLISHED-TTL:PT1H
BEGIN:VTIMEZONE
TZID:Europe/Bratislava
BEGIN:DAYLIGHT
TZOFFSETFROM:+0100
TZOFFSETTO:+0200
TZNAME:CEST
DTSTART:20230326T010000
END:DAYLIGHT
BEGIN:STANDARD
TZOFFSETFROM:+0200
TZOFFSETTO:+0100
TZNAME:CET
DTSTART:20231029T010000
END:STANDARD
BEGIN:DAYLIGHT
TZOFFSETFROM:+0100
TZOFFSETTO:+0200
TZNAME:CEST
DTSTART:20240331T010000
END:DAYLIGHT
BEGIN:STANDARD
TZOFFSETFROM:+0200
TZOFFSETTO:+0100
TZNAME:CET
DTSTART:20241027T010000
END:STANDARD
BEGIN:DAYLIGHT
TZOFFSETFROM:+0100
TZOFFSETTO:+0200
TZNAME:CEST
DTSTART:20250330T010000
END:DAYLIGHT
BEGIN:STANDARD
TZOFFSETFROM:+0200
TZOFFSETTO:+0100
TZNAME:CET
DTSTART:20251026T010000
END:STANDARD
END:VTIMEZONE
BEGIN:VEVENT
DTSTART;VALUE=DATE:20240612
DTEND;VALUE=DATE:20240620
DTSTAMP:20260423T085729
CREATED:20240601T200607Z
LAST-MODIFIED:20240601T200913Z
UID:31091-1718150400-1718841599@uvptechnicom.sk
SUMMARY:Startup Week
DESCRIPTION:Technická univerzita v Košiciach a ICKK organizujú spoločné podujatie Startup Week Košického kraja v dňoch 12.-19.6.2024. Využite príležitosť a prihláste sa. Pomôžeme Vám ako rozbehnúť svoj biznis!
URL:https://uvptechnicom.sk/event/startup-week/
LOCATION:Košice\, Košice\, Slovakia (Slovak Republic)
CATEGORIES:UVP a TUKE
ATTACH;FMTTYPE=image/png:https://uvptechnicom.sk/wp-content/uploads/2024/06/1.png
END:VEVENT
BEGIN:VEVENT
DTSTART;VALUE=DATE:20240618
DTEND;VALUE=DATE:20240620
DTSTAMP:20260423T085729
CREATED:20240327T140505Z
LAST-MODIFIED:20240327T140626Z
UID:30614-1718668800-1718841599@uvptechnicom.sk
SUMMARY:Kooperačné podujatie Tech4SmartCities
DESCRIPTION:Pridajte sa aj vy a zvýšte svoje šance na medzinárodnú spoluprácu účasťou na kooperačnom podujatí Tech4SmartCities\, ktoré sa zameriava na udržateľné a inteligentné digitálne technológie pre mestá. Prihlášky do 14. júna 2024 (alebo po naplnení maximálnej kapacity). \n\nDátum konania: 18.6. – 19.6.2024Miesto konania: Brusel\, BelgickoRegistrácia: https://tech4smartcities-2024.b2match.io/signupWeb stránka podujatia: https://tech4smartcities-2024.b2match.io/ \n\nTematické zameranie podujatia: \n\nInteligentné mestá a komunity\, udržateľné IKT pre mestá\nInteligentná mobilita a logistika\, MaaS\nEnergetická efektívnosť budov a mestských častí\nObnoviteľné zdroje energie\, energetický manažment a obnova\, inteligentné siete a integrácia energetických systémov\nObehové hospodárstvo a prírodné riešenia pre mestské časti\nInteligentný\, zdravý a bezpečný život\n\n\nPodujatie bude zamerané aj na možnosti európskeho výskumu a inovácií v rámci programu Horizont Európa. \n\nNCP Brusel v spolupráci s projektom GREENET predstaví nadchádzajúce možnosti financovania z programu Horizont Európa so zameraním na témy inteligentných miest a udržateľných IT. Účasť na seminári Horizon Europe je obmedzená pre účastníkov\, ktorí sa prihlásili aj na B2B stretnutia. \n\nMáte inovatívny projekt / riešenie\, ktoré môže prispieť k dosiahnutiu cieľov udržateľnosti v oblasti znižovania emisií skleníkových plynov a digitálnej stopy v mestách? Hľadáte partnera na zlepšenie a rozvoj svojej technológie? Pomôžeme vám nájsť technického partnera pre medzinárodnú spoluprácu alebo projekty výskumu a vývoja. \n\nÚčasť na kooperačnom podujatí je bezplatná\, ale registrácia a aktivácia profilu je povinná. \n\nKooperačné podujatie je organizované počas GreenTech Forum Brussels. Účastníci kooperačného podujatia Tech4SmartCities budú môcť využiť zvýhodnený poplatok (100 EUR za 2-dňový vstup na konferencie\, workshopy a výstavu). \n\nPre koho je podujatie určené? \n\nsúkromné technologické spoločnosti (vrátane začínajúcich MSP a veľkých podnikov);\nverejné orgány a obce;\npriemyselné združenia;\nuniverzity a výskumné centrá;\ninvestori a business angels.\n\n\nZaregistrujte sa na podujatie\, vytvorte si profil a pri jeho vypĺňaní si v časti „Settings“ v rámci položky „Support office“ vyberte TUKE ako vašu podpornú inštitúciu. V profile je dôležité vyplniť tzv. Marketplace. Následne vašu prihlášku skontrolujeme a radi potvrdíme v registračnom systéme podujatia. Ďakujeme. \n  \nKontakt: Enterprise Europe Network pri UVP TECHNICOM\, e-mail: een@uvptechnicom.sk
URL:https://uvptechnicom.sk/event/kooperacne-podujatie-tech4smartcities/
CATEGORIES:EEN podujatia,Kooperačné podujatia, veľtrhy, výstavy
ATTACH;FMTTYPE=image/jpeg:https://uvptechnicom.sk/wp-content/uploads/2024/03/Kooperacne-podujatie-Tech4SmartCities.jpg
END:VEVENT
BEGIN:VEVENT
DTSTART;VALUE=DATE:20240618
DTEND;VALUE=DATE:20240706
DTSTAMP:20260423T085729
CREATED:20240402T085725Z
LAST-MODIFIED:20240408T134818Z
UID:30679-1718668800-1720223999@uvptechnicom.sk
SUMMARY:B2B stretnutia počas 5G towards 6G for CitiVerse
DESCRIPTION:Ako AI\, IoT\, Blockchain a XR poháňajú mestské inovácie v budúcich mestách a komunitách \nEnterprise Europe Network v spolupráci s hlavnými organizátormi City of Turin\, Camera di commercio di Torino a spoluorganizátorom Italian Cluster for Smart Communities vás pozývajú na kooperačné podujatie 5G towards 6G for CitiVerse\, ktoré bude zamerané na prezentáciu a diskusie medzi verejnými orgánmi\, výskumom a priemyslom o konkrétnych pokrokoch v aplikácií nových technologických riešení 5 až 6G pre mestské inovácie smerom k nadchádzajúcej európskej paradigme „CitiVerse“. Prihlášky do 12 júna 2024. \nDátum konania: 18.6. – 5.7.2024Miesto konania: Turín\, Taliansko + onlineRegistrácia: https://5g-towards-6g-for-citiverse.b2match.io/signupWeb stránka podujatia: https://5g-towards-6g-for-citiverse.b2match.io/ \nTematické zameranie podujatia: \n\nInteligentná a udržateľná mobilita\nBezpečnosť a ochrana\nZábava\, kultúra a cestovný ruch\nMestské plánovanie smerom ku klimaticky neutrálnym mestám\nSmart City\n\nOrganizácia kooperačného podujatia: \n\n18.6.2024 – osobné stretnutia\n20.-21.6.2024 – online stretnutia\n24.-28.6.2024– online stretnutia\n1.-5.7.2024– online stretnutia\n\nOrganizácia ďalších podujatí: \n\n18.6.2024 – Konferencia\n20.-21.6.2024 – Partnerstvá pre Horizont Európa (P4HEU) – online sprievodné podujatie\n\nÚčasť na B2B je bezplatná. \nZaregistrujte sa na podujatie\, vytvorte si profil a pri jeho vypĺňaní si v časti „Settings“ v rámci položky „Support office“ vyberte TUKE ako vašu podpornú inštitúciu. V profile je dôležité vyplniť tzv. Marketplace. Následne vašu prihlášku skontrolujeme a radi potvrdíme v registračnom systéme podujatia. Ďakujeme. \nKontakt: Enterprise Europe Network pri UVP TECHNICOM\, e-mail: een@uvptechnicom.sk
URL:https://uvptechnicom.sk/event/b2b-stretnutia-pocas-5g-towards-6g-for-citiverse/
CATEGORIES:EEN podujatia,Kooperačné podujatia, veľtrhy, výstavy
ATTACH;FMTTYPE=image/png:https://uvptechnicom.sk/wp-content/uploads/2024/04/5G-6g.png
END:VEVENT
END:VCALENDAR