BEGIN:VCALENDAR
VERSION:2.0
PRODID:-//UVP TECHNICOM - ECPv6.15.20//NONSGML v1.0//EN
CALSCALE:GREGORIAN
METHOD:PUBLISH
X-ORIGINAL-URL:https://uvptechnicom.sk
X-WR-CALDESC:Events for UVP TECHNICOM
REFRESH-INTERVAL;VALUE=DURATION:PT1H
X-Robots-Tag:noindex
X-PUBLISHED-TTL:PT1H
BEGIN:VTIMEZONE
TZID:Europe/Bratislava
BEGIN:DAYLIGHT
TZOFFSETFROM:+0100
TZOFFSETTO:+0200
TZNAME:CEST
DTSTART:20230326T010000
END:DAYLIGHT
BEGIN:STANDARD
TZOFFSETFROM:+0200
TZOFFSETTO:+0100
TZNAME:CET
DTSTART:20231029T010000
END:STANDARD
BEGIN:DAYLIGHT
TZOFFSETFROM:+0100
TZOFFSETTO:+0200
TZNAME:CEST
DTSTART:20240331T010000
END:DAYLIGHT
BEGIN:STANDARD
TZOFFSETFROM:+0200
TZOFFSETTO:+0100
TZNAME:CET
DTSTART:20241027T010000
END:STANDARD
BEGIN:DAYLIGHT
TZOFFSETFROM:+0100
TZOFFSETTO:+0200
TZNAME:CEST
DTSTART:20250330T010000
END:DAYLIGHT
BEGIN:STANDARD
TZOFFSETFROM:+0200
TZOFFSETTO:+0100
TZNAME:CET
DTSTART:20251026T010000
END:STANDARD
END:VTIMEZONE
BEGIN:VEVENT
DTSTART;VALUE=DATE:20240610
DTEND;VALUE=DATE:20240615
DTSTAMP:20260423T085833
CREATED:20240402T085627Z
LAST-MODIFIED:20240402T090033Z
UID:30676-1717977600-1718409599@uvptechnicom.sk
SUMMARY:Kooperačné podujatie AI ABEL 2024 AI
DESCRIPTION:Aplikácie v podnikaní a každodennom živote\n\nEnterprise Europe Network vás pozýva na kooperačné podujatie AI ABEL 2024 AI\, Aplikácie v podnikaní a každodennom živote\, zamerané na umelú inteligenciu a jej aplikácie v biznise a každodennom živote. Prihlášky do 14. júna 2024. \nDátum konania: 10.6. – 14.6.2024Miesto konania: onlineRegistrácia: https://aiabel2024.b2match.io/signupWeb stránka podujatia: https://aiabel2024.b2match.io/ \nToto podujatie bude slúžiť ako dynamická platforma pre lídrov v odvetví\, inovátorov a nadšencov\, aby sa zblížili a preskúmali obrovský potenciál riešení AI od zlepšovania obchodných procesov až po zlepšovanie každodenného života. \nPodujatie podporí workshop „Umelá inteligencia – aplikácie v biznise a každodennom živote – veda a prax“\, ktorý je navrhnutý ako priestor na prezentáciu výsledkov univerzitného výskumu\, podnikových riešení a praktických aplikácií pre bežných používateľov. V prípade záujmu o prezentáciu kontaktujte Tomasza Krawczyka: tj.krawczyk@uw.edu.pl \nKooperačné podujatie bude zamerané na aplikácie AI v podnikaní v nasledujúcich oblastiach: \n\nPersonalizované ponuky a odporúčania produktov: Algoritmy umelej inteligencie analyzujú údaje o nákupe a správanie zákazníkov s cieľom poskytnúť prispôsobené odporúčania produktov\, čím sa zvýšia šance na nákup.\nDynamická tvorba cien: Systémy umelej inteligencie dokážu analyzovať trhové údaje\, dopyt a ďalšie faktory na úpravu cien produktov v reálnom čase\, čo pomáha optimalizovať predaj a zisky.\nSpráva zásob: Algoritmy AI sa používajú na predpovedanie dopytu po produktoch a optimalizáciu úrovní zásob\, aby sa predišlo nedostatku alebo prebytku.\nZákaznícky servis a chatboty: Chatboty založené na umelej inteligencii môžu odpovedať na otázky zákazníkov\, poskytovať poradenstvo a viesť interaktívne nákupné stretnutia\, čím prispievajú k lepším službám zákazníkom a zvýšeniu konverzií.\nVizuálna analýza údajov: Pomocou AI je možné analyzovať údaje z monitorovacích kamier v predajni a monitorovať správanie zákazníkov\, identifikovať nákupné trendy a optimalizovaťusporiadanie predajne.\nPredpovedanie nákupných trendov: Algoritmy umelej inteligencie môžu analyzovať údaje z rôznych zdrojov\, ako sú sociálne médiá alebo internetové trendy\, a predpovedať tak nadchádzajúce nákupné trendy a prispôsobiť ponuku obchodov.\nOptimalizácia marketingových kampaní: Analýzou údajov umelej inteligencie možno lepšie prispôsobiť marketingové kampane preferenciám zákazníkov a optimalizovať výdavky na reklamu s cieľom dosiahnuť lepšie výsledky.\nPodpora nákupných rozhodnutí: Mobilné aplikácie a platformy elektronického obchodu môžu využívať algoritmy umelej inteligencie na analýzu preferencií a histórie nákupov zákazníkov\, aby im pomohli pri rozhodovaní o nákupe.\nAplikácia Business Model: Umelá inteligencia spôsobuje revolúciu v obchodných modeloch automatizáciou procesov\, optimalizáciou operácií a personalizáciou skúseností zákazníkov. Spoločnosti využívajú algoritmy AI na analýzu údajov\, čo umožňuje presnejšie predpovedanie trhových trendov a prijímanie lepších obchodných rozhodnutí. Prostredníctvom odporúčacích systémov poháňaných umelou inteligenciou môžu podniky prispôsobiť ponuku individuálnym preferenciám zákazníkov\, čím sa zvyšuje lojalita a posilňujú vzťahy so zákazníkmi. Okrem toho umelá inteligencia umožňuje spoločnostiam vyvíjať inovatívne produkty a služby\, čím podporuje konkurencieschopnosť na trhu.\nRiadenie vzťahov so zákazníkmi: Umelá inteligencia sa používa v systémoch CRM na analýzu interakcií so zákazníkmi\, predpovedanie nákupného správania a personalizáciu komunikácie\, čo pomáha podnikom budovať silnejšie vzťahy s klientmi.\nChatboty a virtuálni asistenti pre zákaznícku podporu: Firmy nasadzujú chatboty poháňané AI\, aby poskytovali okamžitú zákaznícku podporu\, odpovedali na často kladené otázky a pomáhali so základným riešením problémov\, zlepšovali efektivitu a dostupnosť.\nOptimalizácia dodávateľského reťazca: AI sa používa na zlepšenie riadenia dodávateľského reťazca predpovedaním dopytu\, optimalizáciou úrovní zásob a zlepšovaním logistiky\, čím sa v konečnom dôsledku znižujú náklady a zvyšuje sa prevádzková efektivita.\nOdhaľovanie podvodov vo finančných transakciách: Algoritmy umelej inteligencie analyzujú vzory a anomálie vo finančných transakciách s cieľom identifikovať potenciálne podvodné činnosti\, čím poskytujú podnikom spoľahlivé bezpečnostné opatrenie vo finančnej oblasti.\nPrediktívna analýza pre obchodné rozhodovanie: Podniky využívajú prediktívnu analýzu založenú na umelej inteligencii na predpovedanie trendov\, identifikáciu príležitostí a prijímanie informovaných rozhodnutí\, čím sa zlepšuje strategické plánovanie a riadenie rizík.\nRiadenie ľudských zdrojov: Aplikácie umelej inteligencie pomáhajú pri nábore tým\, že preverujú životopisy\, vykonávajú prvotné hodnotenie kandidátov a automatizujú rutinné úlohy v oblasti ľudských zdrojov\, čím zefektívňujú proces prijímania zamestnancov a zvyšujú efektivitu.\nZabezpečenie údajov a kybernetická bezpečnosť: Umelá inteligencia sa používa na detekciu bezpečnostných hrozieb a reakciu na ne\, pričom podnikom poskytuje pokročilé opatrenia v oblasti kybernetickej bezpečnosti vrátane detekcie anomálií\, spravodajstva o hrozbách a automatizovanej reakcie na incidenty.\nPersonalizované marketingové kampane: Marketingové platformy založené na AI analyzujú údaje o zákazníkoch\, aby vytvorili personalizované marketingové kampane\, prispôsobujú obsah a reklamy konkrétnemu cieľovému publiku s cieľom zlepšiť mieru zapojenia a konverzie.\nFinančná analýza a investičné rozhodnutia: Umelá inteligencia sa využíva vo finančných službách na analýzu údajov\, predpovedanie trendov a hodnotenie rizík\, čo pomáha pri investičných rozhodnutiach a riadení portfólia.\nKontrola kvality vo výrobe: Aplikácie umelej inteligencie sa využívajú vo výrobných procesoch na kontrolu kvality\, kontrolu výrobkov na výskyt chýb\, zabezpečenie konzistentnosti a minimalizáciu chýb vo výrobných linkách.\nMnohé ďalšie.\n\nKooperačné podujatie bude zamerané na aplikácie AI v bežnom živote v nasledujúcich oblastiach: \n\nIntegrácia inteligentnej domácnosti: Aplikácie umelej inteligencie\, ktoré zlepšujú každodenný život prostredníctvom inteligentných domácich technológií vrátane inteligentnej domácej automatizácie\, správy energie a personalizovaných skúseností pre obyvateľov.\nZdravie a wellness: Riešenia na monitorovanie zdravia\, personalizované fitnes procedúry a podpora duševného zdravia\, ktoré prispievajú k lepšej pohode a zdravšiemu životnému štýlu.\nAplikácie umelej inteligencie\, ktoré zlepšujú vzdelávacie skúsenosti\, ako sú personalizované vzdelávacie platformy\, inteligentné systémy výučby a adaptívny vzdelávací obsah prispôsobený individuálnym potrebám.\nUmelá inteligencia v oblasti zábavy: Umelá inteligencia mení zábavný priemysel vrátane personalizovaných odporúčaní obsahu\, pohlcujúcich zážitkov vo virtuálnej realite a kreatívneho obsahu generovaného umelou inteligenciou.\nCestovanie a doprava: Aplikácie AI\, ktoré zjednodušujú plánovanie cestovania\, optimalizujú dopravné trasy a zlepšujú celkový zážitok z cestovania\, čím prispievajú k efektívnejšej a pohodlnejšej mobilite v každodennom živote.\nSociálny vplyv: Projekty a iniciatívy v oblasti umelej inteligencie so zameraním na spoločenské prínosy\, ako sú riešenia založené na umelej inteligencii pre dostupnosť\, inklúziu a riešenie sociálnych výziev\, ktoré majú pozitívny vplyv na komunity.\nRiadenie osobných financií: Nástroje a aplikácie umelej inteligencie\, ktoré pomáhajú jednotlivcom spravovať ich financie\, poskytujú personalizované poradenstvo pri zostavovaní rozpočtu\, odhaľujú podvody a poskytujú informácie o investíciách na optimalizáciu finančných rozhodnutí.\nJazykový preklad a komunikácia: Nástroje na preklad jazykov poháňaných umelou inteligenciou\, ktoré uľahčujú bezproblémovú komunikáciu v rôznych jazykoch a podporujú globálne prepojenie a kultúrnu výmenu.\nAsistenčné technológie: Aplikácie AI určené na pomoc osobám so zdravotným postihnutím vrátane zariadení ovládaných hlasom\, protéz poháňaných AI a ďalších inovácií\, ktoré zvyšujú dostupnosť a nezávislosť.\nPersonalizácia elektronického obchodu: Umelá inteligencia revolučne mení nakupovanie online prostredníctvom personalizovaných odporúčaní produktov\, riešení na virtuálne skúšanie a inteligentných služieb zákazníkom\, vďaka čomu je nakupovanie pre spotrebiteľov pohodlnejšie a príjemnejšie.\nMnohé ďalšie.\n\nÚčasť na B2B je bezplatná. \nZaregistrujte sa na podujatie\, vytvorte si profil a pri jeho vypĺňaní si v časti „Settings“ v rámci položky „Support office“ vyberte TUKE ako vašu podpornú inštitúciu. V profile je dôležité vyplniť tzv. Marketplace. Následne vašu prihlášku skontrolujeme a radi potvrdíme v registračnom systéme podujatia. Ďakujeme. \nKontakt: Enterprise Europe Network pri UVP TECHNICOM\, e-mail: een@uvptechnicom.sk
URL:https://uvptechnicom.sk/event/kooperacne-podujatie-ai-abel-2024-ai/
CATEGORIES:EEN podujatia,Kooperačné podujatia, veľtrhy, výstavy
ATTACH;FMTTYPE=image/png:https://uvptechnicom.sk/wp-content/uploads/2024/04/kooperacne_podujatie_ai_abel_2024_ai.png
END:VEVENT
END:VCALENDAR