BEGIN:VCALENDAR
VERSION:2.0
PRODID:-//UVP TECHNICOM - ECPv6.15.20//NONSGML v1.0//EN
CALSCALE:GREGORIAN
METHOD:PUBLISH
X-WR-CALNAME:UVP TECHNICOM
X-ORIGINAL-URL:https://uvptechnicom.sk
X-WR-CALDESC:Events for UVP TECHNICOM
REFRESH-INTERVAL;VALUE=DURATION:PT1H
X-Robots-Tag:noindex
X-PUBLISHED-TTL:PT1H
BEGIN:VTIMEZONE
TZID:Europe/Bratislava
BEGIN:DAYLIGHT
TZOFFSETFROM:+0100
TZOFFSETTO:+0200
TZNAME:CEST
DTSTART:20230326T010000
END:DAYLIGHT
BEGIN:STANDARD
TZOFFSETFROM:+0200
TZOFFSETTO:+0100
TZNAME:CET
DTSTART:20231029T010000
END:STANDARD
BEGIN:DAYLIGHT
TZOFFSETFROM:+0100
TZOFFSETTO:+0200
TZNAME:CEST
DTSTART:20240331T010000
END:DAYLIGHT
BEGIN:STANDARD
TZOFFSETFROM:+0200
TZOFFSETTO:+0100
TZNAME:CET
DTSTART:20241027T010000
END:STANDARD
BEGIN:DAYLIGHT
TZOFFSETFROM:+0100
TZOFFSETTO:+0200
TZNAME:CEST
DTSTART:20250330T010000
END:DAYLIGHT
BEGIN:STANDARD
TZOFFSETFROM:+0200
TZOFFSETTO:+0100
TZNAME:CET
DTSTART:20251026T010000
END:STANDARD
END:VTIMEZONE
BEGIN:VEVENT
DTSTART;VALUE=DATE:20240605
DTEND;VALUE=DATE:20240608
DTSTAMP:20260423T085733
CREATED:20240327T140723Z
LAST-MODIFIED:20240327T140802Z
UID:30616-1717545600-1717804799@uvptechnicom.sk
SUMMARY:Kooperačné podujatie #ILAconnectandmeet - letecký priemysel
DESCRIPTION:Pozývame vás na kooperačné podujatie #ILAconnectandmeet\, ktoré sa uskutoční v rámci veľtrhu ILA Berlin so zameraním na letecký priemysel. Prihlášky do 6. júna 2024. \n\nDátum konania: 5.6. – 7.6.2024Miesto konania: Berlín\, NemeckoRegistrácia: https://ilaconnectandmeet.b2match.io/signupWeb stránka podujatia: https://ilaconnectandmeet.b2match.io/ \n\nEurópsky letecký veľtrh premení Berlín na medzinárodný letecký uzol. Zástupcovia priemyslu\, politici\, ozbrojené sily a akademici majú príležitosť sa stretnúť pod mottom #PioneeringAerospace\, aby diskutovali o súčasných výzvach a príležitostiach. Vystavovatelia z celého sveta majú príležitosť prezentovať svoj najnovší vývoj\, inovatívne riešenia a výskumné projekty týkajúce sa troch kľúčových tém: inovácie\, nové technológie a udržateľnosť.  \n  \nKooperačné podujatie #ILAconnectandmeet spája vystavovateľov a návštevníkov ILA Berlín z mnohých európskych krajín a celého sveta. Ide o jedinečnú príležitosť nadviazať nové obchodné kontakty\, partnerstvá a zmluvy. Stretnutia sa budú konať v Centre medzinárodných dodávateľov (ISC) vo vyhradenom priestore. \nTematické zameranie podujatia: •    letectvo\,•    vesmír\,•    pokročilá letecká mobilita\,•    priemyselný dodávatelia\,•    Európska projektová spolupráca\,•    obrana a podpora. \n  \nÚčasť na kooperačnom podujatí je bezplatná. Upozorňujeme\, že naplánované stretnutia budú prebiehať výlučne s osobnou účasťou počas dní veľtrhu. Prístup na miesto konania (veľtrh) je možný len s platnou vstupenkou pre návštevníkov. Vstupenky si môžete zakúpiť tu. Ceny vstupeniek sú 49 EUR do 31. marca a 60 EUR od 1. apríla za dennú vstupenku pre obchodných návštevníkov. Pri plánovaní stretnutí navyše nezabudnite\, že vstup sa začína o 10:00 hod.” \n\nZaregistrujte sa na podujatie\, vytvorte si profil a pri jeho vypĺňaní si v časti „Settings“ v rámci položky „Support office“ vyberte TUKE ako vašu podpornú inštitúciu. V profile je dôležité vyplniť tzv. Marketplace. Následne vašu prihlášku skontrolujeme a radi potvrdíme v registračnom systéme podujatia. Ďakujeme. \n  \nKontakt: Enterprise Europe Network pri UVP TECHNICOM\, e-mail: een@uvptechnicom.sk
URL:https://uvptechnicom.sk/event/kooperacne-podujatie-ilaconnectandmeet-letecky-priemysel/
CATEGORIES:EEN podujatia,Kooperačné podujatia, veľtrhy, výstavy
ATTACH;FMTTYPE=image/jpeg:https://uvptechnicom.sk/wp-content/uploads/2024/03/Kooperacne-podujatie-ILAconnectandmeet-letecky-priemysel.jpg
END:VEVENT
END:VCALENDAR