BEGIN:VCALENDAR
VERSION:2.0
PRODID:-//UVP TECHNICOM - ECPv6.15.20//NONSGML v1.0//EN
CALSCALE:GREGORIAN
METHOD:PUBLISH
X-WR-CALNAME:UVP TECHNICOM
X-ORIGINAL-URL:https://uvptechnicom.sk
X-WR-CALDESC:Events for UVP TECHNICOM
REFRESH-INTERVAL;VALUE=DURATION:PT1H
X-Robots-Tag:noindex
X-PUBLISHED-TTL:PT1H
BEGIN:VTIMEZONE
TZID:Europe/Bratislava
BEGIN:DAYLIGHT
TZOFFSETFROM:+0100
TZOFFSETTO:+0200
TZNAME:CEST
DTSTART:20230326T010000
END:DAYLIGHT
BEGIN:STANDARD
TZOFFSETFROM:+0200
TZOFFSETTO:+0100
TZNAME:CET
DTSTART:20231029T010000
END:STANDARD
BEGIN:DAYLIGHT
TZOFFSETFROM:+0100
TZOFFSETTO:+0200
TZNAME:CEST
DTSTART:20240331T010000
END:DAYLIGHT
BEGIN:STANDARD
TZOFFSETFROM:+0200
TZOFFSETTO:+0100
TZNAME:CET
DTSTART:20241027T010000
END:STANDARD
BEGIN:DAYLIGHT
TZOFFSETFROM:+0100
TZOFFSETTO:+0200
TZNAME:CEST
DTSTART:20250330T010000
END:DAYLIGHT
BEGIN:STANDARD
TZOFFSETFROM:+0200
TZOFFSETTO:+0100
TZNAME:CET
DTSTART:20251026T010000
END:STANDARD
END:VTIMEZONE
BEGIN:VEVENT
DTSTART;VALUE=DATE:20240401
DTEND;VALUE=DATE:20240601
DTSTAMP:20260423T120401
CREATED:20240214T111154Z
LAST-MODIFIED:20240214T111309Z
UID:30315-1711929600-1717199999@uvptechnicom.sk
SUMMARY:Smart & Technical Textiles
DESCRIPTION:Pri príležitosti popredného medzinárodného veľtrhu technických textílií a netkaných textílií TechTextil\, organizuje sieť Enterprise Europe Network medzinárodné sprostredkovateľské podujatie s názvom Smart & Technical Textiles. Prihlášky do 30. apríla 2024. \n\nDátum konania: 1.4. – 31.5.2024Miesto konania: Frankfurt\, Nemecko + onlineRegistrácia: https://smart-techtextiles24.b2match.io/signupWeb stránka podujatia: https://smart-techtextiles24.b2match.io/home \n\nPodujatie je určené spoločnostiam\, výskumným inštitúciám a všetkým zainteresovaným stranám\, ktoré majú záujem o spoluprácu na spoločných projektoch\, naviazať technickú spoluprácu alebo nové obchodné kontakty s partnermi z Európy a celého sveta. \nZáujemcovia sa môžu na toto bezplatné podujatie zaregistrovať so svojím profilom na online platforme podujatia do konca apríla 2024 a vybrať si zaujímavých účastníkov na bilaterálne\, vopred dohodnuté stretnutia. Upozorňujeme\, že podmienkou validovania profilu je vyplnenie aspoň 1 položky v časti Marketplace. \n\nOrganizácia podujatia:\n1.4. – 31.5.2024 – online stretnutia \n\n– 26.4.2024 – osobné stretnutia v mieste podujatia\n\n  \nOdborné prednášky počas veľtrhu:\n\napríl 2024 – Výskum a vývoj v textilnom priemysle – možnosti financovania a projektové príležitosti\napríl 2024 – Smart textílie v lekárstve a zdravotníctve\napríl 2024 – Umelá inteligencia a digitalizácia v aplikáciách smart textílií\n\n\nZaregistrujte sa na podujatie\, vytvorte si profil a pri jeho vypĺňaní si v časti „Settings“ v rámci položky „Support office“ vyberte TUKE ako vašu podpornú inštitúciu. Následne vašu prihlášku skontrolujeme a potvrdíme v registračnom systéme podujatia. Ďakujeme. \n  \nKontakt: Enterprise Europe Network pri UVP TECHNICOM\, e-mail: een@uvptechnicom.sk
URL:https://uvptechnicom.sk/event/smart-technical-textiles/
CATEGORIES:EEN podujatia,Kooperačné podujatia, veľtrhy, výstavy
ATTACH;FMTTYPE=image/jpeg:https://uvptechnicom.sk/wp-content/uploads/2024/02/Smart-Technical-Textiles.jpg
END:VEVENT
BEGIN:VEVENT
DTSTART;VALUE=DATE:20240409
DTEND;VALUE=DATE:20240426
DTSTAMP:20260423T120401
CREATED:20240111T101048Z
LAST-MODIFIED:20240111T101126Z
UID:30004-1712620800-1714089599@uvptechnicom.sk
SUMMARY:Technology & Business Cooperation Days 2024
DESCRIPTION:Pozývame vás na kooperačné podujatie Technology & Business Cooperation Days 2024\, ktoré bude súčasťou globálneho technologického veľtrhu HANNOVER MESSE 2024. Prihlášky do 8. apríla 2024. \nDátum konania: 9.4. – 25.4.2024Miesto konania: Hannover\, Nemecko + onlineRegistrácia: otvorená od 31.januára 2024Web stránka podujatia: https://technology-business-cooperation-days-2024.b2match.io/   \n\nVyužite svoju šancu inovovať! Získajte nové príležitosti a konkurenčné výhody prostredníctvom výskumu a vývoja a technologickej\, ako aj obchodnej spolupráce. \n\nZameranie podujatia: \n\nRiešenia pre priemysel 4.0 a inteligentné továrne\nVýrobné technológie efektívne využívajúce zdroje a energiu\nUdržateľná energia a mobilita\nMeracie nástroje\n\n  \nOrganizácia podujatia: \n\n-11. apríl 2024 – online stretnutia\n-25. apríl 2024 – osobné stretnutia\n\nÚčasť na kooperačnom podujatí je bezplatná\, ale registrácia povinná. \nZaregistrujte sa na podujatie\, vytvorte si profil a pri jeho vypĺňaní si v časti „Settings“ v rámci položky „Support office“ vyberte TUKE ako vašu podpornú inštitúciu. V profile je dôležité vyplniť tzv. Marketplace. Následne vašu prihlášku obratom radi potvrdíme v registračnom systéme podujatia. Ďakujeme. \nTo\, ako postupovať v prípade záujmu o online stretnutia sa dozviete TU. \nKontakt: Enterprise Europe Network pri UVP TECHNICOM\, e-mail: een@uvptechnicom.sk
URL:https://uvptechnicom.sk/event/technology-business-cooperation-days-2024/
CATEGORIES:EEN podujatia,Kooperačné podujatia, veľtrhy, výstavy
ATTACH;FMTTYPE=image/jpeg:https://uvptechnicom.sk/wp-content/uploads/2024/01/Technology-Business-Cooperation-Days-2024.jpg
END:VEVENT
BEGIN:VEVENT
DTSTART;VALUE=DATE:20240425
DTEND;VALUE=DATE:20240426
DTSTAMP:20260423T120401
CREATED:20240128T113323Z
LAST-MODIFIED:20240128T113323Z
UID:30155-1714003200-1714089599@uvptechnicom.sk
SUMMARY:Európske inovačné ekosystémy: The African Union-European Union Innovation Platform: HORIZON-EIE-2024-CONNECT-01-01
DESCRIPTION:
URL:https://uvptechnicom.sk/event/europske-inovacne-ekosystemy-the-african-union-european-union-innovation-platform-horizon-eie-2024-connect-01-01/
CATEGORIES:Horizont Európa
END:VEVENT
BEGIN:VEVENT
DTSTART;VALUE=DATE:20240425
DTEND;VALUE=DATE:20240426
DTSTAMP:20260423T120401
CREATED:20240128T113520Z
LAST-MODIFIED:20240128T113547Z
UID:30157-1714003200-1714089599@uvptechnicom.sk
SUMMARY:Európske inovačné ekosystémy: Startup Europe: HORIZON-EIE-2024-CONNECT-01-02
DESCRIPTION:
URL:https://uvptechnicom.sk/event/europske-inovacne-ekosystemy-startup-europe-horizon-eie-2024-connect-01-02/
CATEGORIES:Horizont Európa
END:VEVENT
BEGIN:VEVENT
DTSTART;VALUE=DATE:20240425
DTEND;VALUE=DATE:20240426
DTSTAMP:20260423T120401
CREATED:20240417T071536Z
LAST-MODIFIED:20240417T071648Z
UID:30840-1714003200-1714089599@uvptechnicom.sk
SUMMARY:Európsky deň žien a dievčat v IKT
DESCRIPTION:V UVP Technicom sa 25. apríla už druhý rok uskutoční úspešný koncept podujatia Európsky deň žien a dievčat v IKT určený pre všetky ženy a dievčatá na prelomenie stereotypov a bariér za ich cestou k tomuto sľubnému odvetviu. \nPrečo sa zúčastniť? \nPríď na jedinečné podujatie\, osláv s nami náš sviatok a inšpiruj sa\, kde sa môžeš ďalej vzdelávať v oblasti STEM (Science\, Technology\, Engineering and Mathematics). \nPočas podujatia ti predstavíme dôvody\, prečo sa oplatí študovať technické smery\, aké stredné a vysoké školy máš na Slovensku na výber\, zistíš niečo o širokých možnostiach štúdia Európskej univerzity Ulysseus prostrednítvom Technickej univerzity v Košiciach\, ukážeme ti inovatívne startupy z Východného Slovenska a veľa iného. \nNa čo sa môžeš tešiť? \nSúťaž o pekné ceny\, občerstvenie\, možnosť vyskúšať si vybrané technológie priamo na mieste\, individuálne konzultácie ohľadom tvojho budúceho štúdia a uplatnenia\, stretneš zaujímavé ženy v oblasti IKT. Budeš mať možnosť prihlásiť sa na bezplatný letný coding camp a ďalšie. \nAko vznikol medzinárodný deň žien v IKT \nMedzinárodný Deň žien a dievčat v IKT ustanovila Organizácia Spojených Národov ako štvrtý aprílový štvrtok v roku 2011. EÚ oslávila svoj prvý European Girls and Women in ICT Day v roku 2021 a na Slovensku sa ako verejný event bude oslavovať vďaka organizácii Ženský algoritmus už druhý rok! \n  \nViac informácií o podujatí je možné nájsť na tomto odkaze. \nRegistrácia
URL:https://uvptechnicom.sk/event/europsky-den-zien-a-dievcat-v-ikt/
LOCATION:UVP TECHNICOM\, Boženy Němcovej 5\, Košice\, Slovakia (Slovak Republic)
CATEGORIES:Ulysseus,UVP a TUKE
ATTACH;FMTTYPE=image/jpeg:https://uvptechnicom.sk/wp-content/uploads/2024/04/IMG_0081-scaled.jpg
END:VEVENT
END:VCALENDAR