BEGIN:VCALENDAR
VERSION:2.0
PRODID:-//UVP TECHNICOM - ECPv6.15.20//NONSGML v1.0//EN
CALSCALE:GREGORIAN
METHOD:PUBLISH
X-WR-CALNAME:UVP TECHNICOM
X-ORIGINAL-URL:https://uvptechnicom.sk
X-WR-CALDESC:Events for UVP TECHNICOM
REFRESH-INTERVAL;VALUE=DURATION:PT1H
X-Robots-Tag:noindex
X-PUBLISHED-TTL:PT1H
BEGIN:VTIMEZONE
TZID:Europe/Bratislava
BEGIN:DAYLIGHT
TZOFFSETFROM:+0100
TZOFFSETTO:+0200
TZNAME:CEST
DTSTART:20230326T010000
END:DAYLIGHT
BEGIN:STANDARD
TZOFFSETFROM:+0200
TZOFFSETTO:+0100
TZNAME:CET
DTSTART:20231029T010000
END:STANDARD
BEGIN:DAYLIGHT
TZOFFSETFROM:+0100
TZOFFSETTO:+0200
TZNAME:CEST
DTSTART:20240331T010000
END:DAYLIGHT
BEGIN:STANDARD
TZOFFSETFROM:+0200
TZOFFSETTO:+0100
TZNAME:CET
DTSTART:20241027T010000
END:STANDARD
BEGIN:DAYLIGHT
TZOFFSETFROM:+0100
TZOFFSETTO:+0200
TZNAME:CEST
DTSTART:20250330T010000
END:DAYLIGHT
BEGIN:STANDARD
TZOFFSETFROM:+0200
TZOFFSETTO:+0100
TZNAME:CET
DTSTART:20251026T010000
END:STANDARD
END:VTIMEZONE
BEGIN:VEVENT
DTSTART;VALUE=DATE:20240401
DTEND;VALUE=DATE:20240601
DTSTAMP:20260423T120401
CREATED:20240214T111154Z
LAST-MODIFIED:20240214T111309Z
UID:30315-1711929600-1717199999@uvptechnicom.sk
SUMMARY:Smart & Technical Textiles
DESCRIPTION:Pri príležitosti popredného medzinárodného veľtrhu technických textílií a netkaných textílií TechTextil\, organizuje sieť Enterprise Europe Network medzinárodné sprostredkovateľské podujatie s názvom Smart & Technical Textiles. Prihlášky do 30. apríla 2024. \n\nDátum konania: 1.4. – 31.5.2024Miesto konania: Frankfurt\, Nemecko + onlineRegistrácia: https://smart-techtextiles24.b2match.io/signupWeb stránka podujatia: https://smart-techtextiles24.b2match.io/home \n\nPodujatie je určené spoločnostiam\, výskumným inštitúciám a všetkým zainteresovaným stranám\, ktoré majú záujem o spoluprácu na spoločných projektoch\, naviazať technickú spoluprácu alebo nové obchodné kontakty s partnermi z Európy a celého sveta. \nZáujemcovia sa môžu na toto bezplatné podujatie zaregistrovať so svojím profilom na online platforme podujatia do konca apríla 2024 a vybrať si zaujímavých účastníkov na bilaterálne\, vopred dohodnuté stretnutia. Upozorňujeme\, že podmienkou validovania profilu je vyplnenie aspoň 1 položky v časti Marketplace. \n\nOrganizácia podujatia:\n1.4. – 31.5.2024 – online stretnutia \n\n– 26.4.2024 – osobné stretnutia v mieste podujatia\n\n  \nOdborné prednášky počas veľtrhu:\n\napríl 2024 – Výskum a vývoj v textilnom priemysle – možnosti financovania a projektové príležitosti\napríl 2024 – Smart textílie v lekárstve a zdravotníctve\napríl 2024 – Umelá inteligencia a digitalizácia v aplikáciách smart textílií\n\n\nZaregistrujte sa na podujatie\, vytvorte si profil a pri jeho vypĺňaní si v časti „Settings“ v rámci položky „Support office“ vyberte TUKE ako vašu podpornú inštitúciu. Následne vašu prihlášku skontrolujeme a potvrdíme v registračnom systéme podujatia. Ďakujeme. \n  \nKontakt: Enterprise Europe Network pri UVP TECHNICOM\, e-mail: een@uvptechnicom.sk
URL:https://uvptechnicom.sk/event/smart-technical-textiles/
CATEGORIES:EEN podujatia,Kooperačné podujatia, veľtrhy, výstavy
ATTACH;FMTTYPE=image/jpeg:https://uvptechnicom.sk/wp-content/uploads/2024/02/Smart-Technical-Textiles.jpg
END:VEVENT
BEGIN:VEVENT
DTSTART;VALUE=DATE:20240409
DTEND;VALUE=DATE:20240426
DTSTAMP:20260423T120401
CREATED:20240111T101048Z
LAST-MODIFIED:20240111T101126Z
UID:30004-1712620800-1714089599@uvptechnicom.sk
SUMMARY:Technology & Business Cooperation Days 2024
DESCRIPTION:Pozývame vás na kooperačné podujatie Technology & Business Cooperation Days 2024\, ktoré bude súčasťou globálneho technologického veľtrhu HANNOVER MESSE 2024. Prihlášky do 8. apríla 2024. \nDátum konania: 9.4. – 25.4.2024Miesto konania: Hannover\, Nemecko + onlineRegistrácia: otvorená od 31.januára 2024Web stránka podujatia: https://technology-business-cooperation-days-2024.b2match.io/   \n\nVyužite svoju šancu inovovať! Získajte nové príležitosti a konkurenčné výhody prostredníctvom výskumu a vývoja a technologickej\, ako aj obchodnej spolupráce. \n\nZameranie podujatia: \n\nRiešenia pre priemysel 4.0 a inteligentné továrne\nVýrobné technológie efektívne využívajúce zdroje a energiu\nUdržateľná energia a mobilita\nMeracie nástroje\n\n  \nOrganizácia podujatia: \n\n-11. apríl 2024 – online stretnutia\n-25. apríl 2024 – osobné stretnutia\n\nÚčasť na kooperačnom podujatí je bezplatná\, ale registrácia povinná. \nZaregistrujte sa na podujatie\, vytvorte si profil a pri jeho vypĺňaní si v časti „Settings“ v rámci položky „Support office“ vyberte TUKE ako vašu podpornú inštitúciu. V profile je dôležité vyplniť tzv. Marketplace. Následne vašu prihlášku obratom radi potvrdíme v registračnom systéme podujatia. Ďakujeme. \nTo\, ako postupovať v prípade záujmu o online stretnutia sa dozviete TU. \nKontakt: Enterprise Europe Network pri UVP TECHNICOM\, e-mail: een@uvptechnicom.sk
URL:https://uvptechnicom.sk/event/technology-business-cooperation-days-2024/
CATEGORIES:EEN podujatia,Kooperačné podujatia, veľtrhy, výstavy
ATTACH;FMTTYPE=image/jpeg:https://uvptechnicom.sk/wp-content/uploads/2024/01/Technology-Business-Cooperation-Days-2024.jpg
END:VEVENT
BEGIN:VEVENT
DTSTART;TZID=Europe/Bratislava:20240423T120000
DTEND;TZID=Europe/Bratislava:20240423T130000
DTSTAMP:20260423T120401
CREATED:20240416T182633Z
LAST-MODIFIED:20240416T182944Z
UID:30808-1713873600-1713877200@uvptechnicom.sk
SUMMARY:Webinár pre podporu inovatívnych a kolaboratívnych spôsobov výučby: Breaking Borders: A Journey into Collaborative Online International Learning (COIL)
DESCRIPTION:V rámci rozvoja internacionalizácie študentov a zamestnancov našej univerzity pripravuje Európska univerzita Ulysseus zaujímavú výzvu pre pedagogických pracovníkov TUKE. Vyučujúci\, ktorí podporia inovatívne a kolaboratívne spôsoby výučby svojho predmetu\, dostanú v rámci projektu Ulysseus získať finančnú podporu na prípravu jednej z dvoch nových foriem vzdelávacej ponuky pre študentov v spolupráci s niektorým z partnerov aliancie Ulysseus\, a to: \n\nVyužitie inovatívnej výučbovej metodológie\, v rámci ktorej sa virtuálne prepoja 2 už existujúce predmety z rôznych partnerských inštitúcií aliancie Ulysseus (Collaborative Online International Learning = COIL)\nSpoločne kreované predmety v rámci aliancie Ulysseus\, ktorých výučba bude prebiehať virtuálne.\n\nNa TUKE bude už čoskoro vyhlásená výzva na financovanie týchto aktivít\, v rámci ktorej sa vyučujúci TUKE budú môcť prihlásiť. Prihlášky budú posudzované dvojstupňovo\, t.j. lokálne (internou výberovou komisiou TUKE) a následne užší výber bude realizovaný výberovou komisiou na úrovni aliancie Ulysseus spoločnou výberovou komisiou Európskej univerzity Ulysseus pre vzdelávanie. \nV prípade\, že máte záujem zapojiť sa do zvyšovania kvality výučby na TUKE a včlenenia medzinárodného prvku do výučby Vášho predmetu\, dovoľujeme si upriamiť Vašu pozornosť na webinár „Breaking borders: A Journey into Collaborative Online International Learning“\, ktorý Vám predstaví tieto nové formy metodológie COIL a zodpovie Vaše otázky ohľadne pripravovanej výzvy. \nWebinár sa uskutoční online v utorok 23. apríla 2024 12:00 – 13:00. Cieľovou skupinou sú inovatívni učitelia so záujmom o využitie metodológie COIL. Webinár bude v angličtine. \nPre účasť na webinári je potrebné sa registrovať na nasledujúcej linke: https://univ-cotedazur.zoom.us/meeting/register/tZ0qduiqrT0vGNOYO5vO3Egb9TpVd41p6Q8D#/registration \n\nEurópska univerzita Ulysseus\nVíziou Európskej univerzity Ulysseus je do roku 2030 vytvoriť excelentne uznávanú a medzinárodne atraktívnu európsku univerzitu otvorenú svetu\, zameranú na ľudí a podporujúcu podnikavosť. Našou ambíciou je tak prispieť k formovaniu Európskeho priestoru vysokoškolského vzdelávania a výskumu\, a tým aj k budúcnosti Európy. \nEurópska univerzita Ulysseus\, jedna z 50 európskych univerzít vybraných Európskou komisiou za univerzity budúcnosti\, otvára možnosti pre študentov\, učiteľov a výskumníkov z partnerských univerzít pre ich vzdelávanie\, vzájomné mobility a nové špičkové výskumné projekty  Ulysseus vznikol v roku 2020 a jej členmi sú Univerzita v  Seville (Španielsko\, koordinátor aliancie)\, Univerzita v Janove (Taliansko)\, Univerzita Côte d’Azur (Nice\, Francúzsko)\, Technická univerzita v Košiciach\, univerzita MCI | The Entrepreneurial School® (Innsbruck\, Rakúsko) a Univerzita aplikovaných vied Haaga-Helia (Helsinki\, Fínsko)\, Univerzita v Münsteri (Nemecko) a Univerzita Čierna Hora (Podgorica\, Čierna Hora). \nProjekt je podporený zo zdrojov Európskej únie a Ministerstva školstva\, vedy\, výskumu a mládeže SR. \nĎalšie informácie o Európskej univerzite Ulysseus: www.ulysseus.eu
URL:https://uvptechnicom.sk/event/webinar-pre-podporu-inovativnych-a-kolaborativnych-sposobov-vyucby-breaking-borders-a-journey-into-collaborative-online-international-learning-coil/
LOCATION:Online
CATEGORIES:Odporúčame účasť
ATTACH;FMTTYPE=image/png:https://uvptechnicom.sk/wp-content/uploads/2024/04/coil.png
END:VEVENT
END:VCALENDAR