BEGIN:VCALENDAR
VERSION:2.0
PRODID:-//UVP TECHNICOM - ECPv6.15.20//NONSGML v1.0//EN
CALSCALE:GREGORIAN
METHOD:PUBLISH
X-WR-CALNAME:UVP TECHNICOM
X-ORIGINAL-URL:https://uvptechnicom.sk
X-WR-CALDESC:Events for UVP TECHNICOM
REFRESH-INTERVAL;VALUE=DURATION:PT1H
X-Robots-Tag:noindex
X-PUBLISHED-TTL:PT1H
BEGIN:VTIMEZONE
TZID:Europe/Bratislava
BEGIN:DAYLIGHT
TZOFFSETFROM:+0100
TZOFFSETTO:+0200
TZNAME:CEST
DTSTART:20230326T010000
END:DAYLIGHT
BEGIN:STANDARD
TZOFFSETFROM:+0200
TZOFFSETTO:+0100
TZNAME:CET
DTSTART:20231029T010000
END:STANDARD
BEGIN:DAYLIGHT
TZOFFSETFROM:+0100
TZOFFSETTO:+0200
TZNAME:CEST
DTSTART:20240331T010000
END:DAYLIGHT
BEGIN:STANDARD
TZOFFSETFROM:+0200
TZOFFSETTO:+0100
TZNAME:CET
DTSTART:20241027T010000
END:STANDARD
BEGIN:DAYLIGHT
TZOFFSETFROM:+0100
TZOFFSETTO:+0200
TZNAME:CEST
DTSTART:20250330T010000
END:DAYLIGHT
BEGIN:STANDARD
TZOFFSETFROM:+0200
TZOFFSETTO:+0100
TZNAME:CET
DTSTART:20251026T010000
END:STANDARD
END:VTIMEZONE
BEGIN:VEVENT
DTSTART;VALUE=DATE:20240401
DTEND;VALUE=DATE:20240601
DTSTAMP:20260423T120359
CREATED:20240214T111154Z
LAST-MODIFIED:20240214T111309Z
UID:30315-1711929600-1717199999@uvptechnicom.sk
SUMMARY:Smart & Technical Textiles
DESCRIPTION:Pri príležitosti popredného medzinárodného veľtrhu technických textílií a netkaných textílií TechTextil\, organizuje sieť Enterprise Europe Network medzinárodné sprostredkovateľské podujatie s názvom Smart & Technical Textiles. Prihlášky do 30. apríla 2024. \n\nDátum konania: 1.4. – 31.5.2024Miesto konania: Frankfurt\, Nemecko + onlineRegistrácia: https://smart-techtextiles24.b2match.io/signupWeb stránka podujatia: https://smart-techtextiles24.b2match.io/home \n\nPodujatie je určené spoločnostiam\, výskumným inštitúciám a všetkým zainteresovaným stranám\, ktoré majú záujem o spoluprácu na spoločných projektoch\, naviazať technickú spoluprácu alebo nové obchodné kontakty s partnermi z Európy a celého sveta. \nZáujemcovia sa môžu na toto bezplatné podujatie zaregistrovať so svojím profilom na online platforme podujatia do konca apríla 2024 a vybrať si zaujímavých účastníkov na bilaterálne\, vopred dohodnuté stretnutia. Upozorňujeme\, že podmienkou validovania profilu je vyplnenie aspoň 1 položky v časti Marketplace. \n\nOrganizácia podujatia:\n1.4. – 31.5.2024 – online stretnutia \n\n– 26.4.2024 – osobné stretnutia v mieste podujatia\n\n  \nOdborné prednášky počas veľtrhu:\n\napríl 2024 – Výskum a vývoj v textilnom priemysle – možnosti financovania a projektové príležitosti\napríl 2024 – Smart textílie v lekárstve a zdravotníctve\napríl 2024 – Umelá inteligencia a digitalizácia v aplikáciách smart textílií\n\n\nZaregistrujte sa na podujatie\, vytvorte si profil a pri jeho vypĺňaní si v časti „Settings“ v rámci položky „Support office“ vyberte TUKE ako vašu podpornú inštitúciu. Následne vašu prihlášku skontrolujeme a potvrdíme v registračnom systéme podujatia. Ďakujeme. \n  \nKontakt: Enterprise Europe Network pri UVP TECHNICOM\, e-mail: een@uvptechnicom.sk
URL:https://uvptechnicom.sk/event/smart-technical-textiles/
CATEGORIES:EEN podujatia,Kooperačné podujatia, veľtrhy, výstavy
ATTACH;FMTTYPE=image/jpeg:https://uvptechnicom.sk/wp-content/uploads/2024/02/Smart-Technical-Textiles.jpg
END:VEVENT
BEGIN:VEVENT
DTSTART;VALUE=DATE:20240409
DTEND;VALUE=DATE:20240426
DTSTAMP:20260423T120359
CREATED:20240111T101048Z
LAST-MODIFIED:20240111T101126Z
UID:30004-1712620800-1714089599@uvptechnicom.sk
SUMMARY:Technology & Business Cooperation Days 2024
DESCRIPTION:Pozývame vás na kooperačné podujatie Technology & Business Cooperation Days 2024\, ktoré bude súčasťou globálneho technologického veľtrhu HANNOVER MESSE 2024. Prihlášky do 8. apríla 2024. \nDátum konania: 9.4. – 25.4.2024Miesto konania: Hannover\, Nemecko + onlineRegistrácia: otvorená od 31.januára 2024Web stránka podujatia: https://technology-business-cooperation-days-2024.b2match.io/   \n\nVyužite svoju šancu inovovať! Získajte nové príležitosti a konkurenčné výhody prostredníctvom výskumu a vývoja a technologickej\, ako aj obchodnej spolupráce. \n\nZameranie podujatia: \n\nRiešenia pre priemysel 4.0 a inteligentné továrne\nVýrobné technológie efektívne využívajúce zdroje a energiu\nUdržateľná energia a mobilita\nMeracie nástroje\n\n  \nOrganizácia podujatia: \n\n-11. apríl 2024 – online stretnutia\n-25. apríl 2024 – osobné stretnutia\n\nÚčasť na kooperačnom podujatí je bezplatná\, ale registrácia povinná. \nZaregistrujte sa na podujatie\, vytvorte si profil a pri jeho vypĺňaní si v časti „Settings“ v rámci položky „Support office“ vyberte TUKE ako vašu podpornú inštitúciu. V profile je dôležité vyplniť tzv. Marketplace. Následne vašu prihlášku obratom radi potvrdíme v registračnom systéme podujatia. Ďakujeme. \nTo\, ako postupovať v prípade záujmu o online stretnutia sa dozviete TU. \nKontakt: Enterprise Europe Network pri UVP TECHNICOM\, e-mail: een@uvptechnicom.sk
URL:https://uvptechnicom.sk/event/technology-business-cooperation-days-2024/
CATEGORIES:EEN podujatia,Kooperačné podujatia, veľtrhy, výstavy
ATTACH;FMTTYPE=image/jpeg:https://uvptechnicom.sk/wp-content/uploads/2024/01/Technology-Business-Cooperation-Days-2024.jpg
END:VEVENT
BEGIN:VEVENT
DTSTART;VALUE=DATE:20240417
DTEND;VALUE=DATE:20240420
DTSTAMP:20260423T120359
CREATED:20240201T172330Z
LAST-MODIFIED:20240201T172419Z
UID:30193-1713312000-1713571199@uvptechnicom.sk
SUMMARY:GreenTech Days meet Future of Building 2024
DESCRIPTION:Partneri siete Enterprise Europe Network si vás dovoľujú pozvať na medzinárodné kooperačné podujatie GreenTech Days meet Future of Building 2024\, na ktorom budú spoločnosti a experti z viac ako 80 krajín spájať témy\, produkty a projekty v oblasti zelených technológií a stavebníctva. Prihlášky do 15. apríla 2024. \n\nDátum konania: 17.-19.4. 2024Miesto konania: Viedeň\, RakúskoRegistrácia: https://gtdmeetfob2024.b2match.io/signupWeb stránka podujatia:  https://gtdmeetfob2024.b2match.io/page-461 \n\nTematické zameranie podujatia: \n\nŽivotné prostredie – odpadové hospodárstvo\, recyklácia\, obehové hospodárstvo\, premena odpadu na energiu\, efektívne využívanie zdrojov\, vodné hospodárstvo\, zásobovanie vodou\, čistenie odpadových vôd\, filtračné systémy atď.\nEnergia – vodná energia\, veterná energia\, solárna a fotovoltická energia\, biomasa\, biopalivá\, bioplyn\, tepelné čerpadlá\, geotermálna energia\, vodík\, skladovanie energie atď.\nEfektívnosť/zelená výstavba – plánovacie služby\, architektúra\, urbanizmus\, stavebné technológie\, energeticky účinné budovy\, stavebné materiály\, izolačné materiály atď.\nStavebníctvo/infraštruktúra – najmodernejšie pokroky v oblasti stavebníctva a infraštruktúry\, vrátane najmodernejších stavebných materiálov\, inovatívne stavebné metódy\, plánovacie stratégie zamerané na budúcnosť\, integrácia robotiky\, stavebné techniky z dreva a drevostavieb\, interdisciplinárna spolupráca a mnoho ďalšieho.\n\n\nOrganizácia podujatia: \n17.4.2024 – onsite stretnutia18.4.2024 – online stretnutia19.4.2024 – online stretnutia \n\nPodujatie sa koná v rámci go-international\, spoločnej iniciatívy Rakúskeho spolkového ministerstva práce a hospodárstva a Rakúskej spolkovej hospodárskej komory. \n\nÚčasť je bezplatná\, ďalšie podmienky účasti nájdete na tomto odkaze. \n\nZaregistrujte sa na podujatie\, vytvorte si profil a pri jeho vypĺňaní si v časti „Settings“ v rámci položky „Support office“ vyberte TUKE ako vašu podpornú inštitúciu. V profile je dôležité vyplniť časť „Marketplace“. Následne vašu prihlášku skontrolujeme a potvrdíme v registračnom systéme podujatia. Ďakujeme. \n\nKontakt: Enterprise Europe Network pri UVP TECHNICOM\, e-mail: een@uvptechnicom.sk
URL:https://uvptechnicom.sk/event/greentech-days-meet-future-of-building-2024/
CATEGORIES:EEN podujatia,Kooperačné podujatia, veľtrhy, výstavy
ATTACH;FMTTYPE=image/png:https://uvptechnicom.sk/wp-content/uploads/2024/02/GreenTech-Days-meet-Future-of-Building-2024.png
END:VEVENT
BEGIN:VEVENT
DTSTART;VALUE=DATE:20240417
DTEND;VALUE=DATE:20240420
DTSTAMP:20260423T120359
CREATED:20240310T114750Z
LAST-MODIFIED:20240310T114929Z
UID:30515-1713312000-1713571199@uvptechnicom.sk
SUMMARY:Kooperačné podujatie v rámci INNOFORM®2024
DESCRIPTION:Pozývame vás na hybridné kooperačné podujatie\, ktoré sa uskutoční v rámci veľtrhu INNOFORM®2024 so zameraním na oblasť výroby nástrojov a priemyslu spracovania plastov\, ako aj všetkých priemyselných odvetví spojených s týmito aplikáciami. Prihlášky do 18. apríla 2024. \nDátum konania: 17. – 19. 4. 2024Miesto konania: Bydgoszcz\, Poľsko + on-linePrihláška: https://innoform2024.b2match.io/signupWeb stránka podujatia: https://innoform2024.b2match.io/?fbclid=IwAR2o-FcCOr4u0TYzQu2E7M1oM8voeSLWf-Sa9yIvaKeRnCFZGTg8rDk9Osk \nVďaka tomu\, že je kooperačné podujatie organizované v dvoch formách\, hľadanie obchodnej spolupráce je jednoduchšie ako kedykoľvek predtým. Prečo? Pretože sa môžete zúčastniť na stretnutiach priamo na mieste v Bydgoszczi alebo virtuálne bez toho\, aby ste opustili domov alebo kanceláriu. Je to na vás! \n\nSektorové zameranie podujatia: \n\nkovy\,\nplasty\,\nstroje\,\nelektronika a elektroenergetika\,\nautomobilový priemysel\,\nželeznice\,\nletectvo\,\nlogistika\,\ndomáce spotrebiče\,\nobaly\,\nautomatizácia a robotizácia výroby\,\nIT riešenie pre priemyselný sektor\,\nrecyklácia\niné.\n\n  \nOrganizácia podujatia: \n\n17. apríla 2024 – onsite stretnutia\n18. – 19. apríla 2024 – online stretnutia\n\n  \nÚčasť na B2B podujatí je bezplatná\, ale registrácia je povinná. \n\nPri vypĺňaní prihlášky si v časti „Settings“ v rámci položky „Support office“ vyberte TUKE ako vašu podpornú inštitúciu. Vyplnenie aspoň jednej položky v časti Marketplace je podmienkou. Následne vašu prihlášku skontrolujeme a potvrdíme v registračnom systéme podujatia. Ďakujeme. \nKontakt: Enterprise Europe Network pri UVP TECHNICOM\, e-mail: een@uvptechnicom.sk
URL:https://uvptechnicom.sk/event/kooperacne-podujatie-v-ramci-innoform2024/
CATEGORIES:EEN podujatia,Kooperačné podujatia, veľtrhy, výstavy
ATTACH;FMTTYPE=image/jpeg:https://uvptechnicom.sk/wp-content/uploads/2024/03/Kooperacne-podujatie-v-ramci-INNOFORMR2024.jpg
END:VEVENT
BEGIN:VEVENT
DTSTART;VALUE=DATE:20240418
DTEND;VALUE=DATE:20240420
DTSTAMP:20260423T120359
CREATED:20240201T174943Z
LAST-MODIFIED:20240201T175025Z
UID:30213-1713398400-1713571199@uvptechnicom.sk
SUMMARY:Meet4Business MEGRA 2024
DESCRIPTION:Dovoľujeme si vás pozvať na hybridné kooperačné podujatie (B2B) Meet4Business MEGRA 2024\, ktoré sa uskutoční v rámci 33. medzinárodného veľtrhu stavebníctva. Prihlášky do 15. apríla 2024. \n\nDátum konania: 18.4. – 19.4.2024Miesto konania: Gornja Radgona\, Slovinsko+ onlineRegistrácia: https://www.b2match.com/e/meet4business-megra-2024/sign-upWeb stránka podujatia: https://www.b2match.com/e/meet4business-megra-2024 \n\nTematické zameranie podujatia: \n\nEnergetická obnova budov\nStavebné materiály\nStavebné stroje\, zariadenia a nástroje\nVykurovanie\, vetranie\, klimatizácia\nObnoviteľné zdroje energie\nUdržateľná výstavba\nDigitalizácia v stavebníctve\n\n\nCieľová skupina: \n\nSpoločnosti\, ktoré sa zaujímajú o témy stavebníctva\nSpoločnosti\, ktoré hľadajú partnerov a nové spolupráce\nInovatívne tímy a začínajúce podniky\, ktoré hľadajú nových zákazníkov a partnerov\nOdborníci z oblasti stavebníctva\nAkademici – plánovanie projektov smerom k rozvoju a inováciám v relevantných oblastiach\n\n\nOrganizácia podujatia: \n18.4.2024 – osobné stretnutia (12:00-17:00hod.)19.4.2024 – online stretnutia \n\nÚčasť na B2B je bezplatná. \n\nZaregistrujte sa na podujatie\, vytvorte si profil a pri jeho vypĺňaní si v časti „Settings“ v rámci položky „Support office“ vyberte TUKE ako vašu podpornú inštitúciu. V profile je dôležité vyplniť tzv. Marketplace. Následne vašu prihlášku skontrolujeme a radi potvrdíme v registračnom systéme podujatia. Ďakujeme. \n\nKontakt: Enterprise Europe Network pri UVP TECHNICOM\, e-mail: een@uvptechnicom.sk
URL:https://uvptechnicom.sk/event/meet4business-megra-2024/
CATEGORIES:EEN podujatia,Kooperačné podujatia, veľtrhy, výstavy
ATTACH;FMTTYPE=image/png:https://uvptechnicom.sk/wp-content/uploads/2024/02/Megra-2024.png
END:VEVENT
BEGIN:VEVENT
DTSTART;VALUE=DATE:20240418
DTEND;VALUE=DATE:20240420
DTSTAMP:20260423T120359
CREATED:20240225T184923Z
LAST-MODIFIED:20240225T185019Z
UID:30384-1713398400-1713571199@uvptechnicom.sk
SUMMARY:Open4Business International B2B Matchmaking 2024
DESCRIPTION:Partneri siete Enterprise Europe Network vám už po ôsmykrát prinášajú matchmakingové podujatie Open4Business\, ktorého cieľom je nadviazať spojenie medzi inžinierstvom\, strojárskym a elektronickým priemyslom\, s dôrazom na spoluprácu v oblasti výroby a distribúcie\, spolu so skúmaním medziodvetvových otázok\, ako sú automatizácia\, umelá inteligencia\, udeľovanie licencií a export. \nDátum konania: 18. – 19. 4. 2024Miesto konania: Pécs\, Maďarsko \nPrihláška: https://www.b2match.com/e/open4business-international-b2b-matchmaking-2024/sign-upWeb stránka podujatia: https://www.b2match.com/e/open4business-international-b2b-matchmaking-2024 \nMatchmakingové podujatie sa koná pri príležitosti 18. ročníka Pollack Expo (miesto stretnutia univerzít\, priemyslu a strojárstva)\, ktoré organizuje Fakulta strojárstva a informačných technológií Univerzity v Pécsi. \nKľúčové sektory: \n\nInžinierstvo;\nStrojársky priemysel;\nElektronika;\nAutomatizácia;\nVytváranie klastrov.\n\nVšetci zaregistrovaní účastníci majú bezplatný vstup aj na priemyselný veľtrh. Ako postupovať v prípade záujmu o matchmaking sa dozviete na tomto odkaze. \nPri vypĺňaní prihlášky si v časti „Settings“ v rámci položky „Support office“ vyberte TUKE ako vašu podpornú inštitúciu. Nezabudnite na vyplnenie tzv. Marketplace. Následne vašu prihlášku skontrolujeme a potvrdíme v registračnom systéme podujatia. Ďakujeme. \nKontakt: Enterprise Europe Network pri UVP TECHNICOM\, e-mail: een@uvptechnicom.sk
URL:https://uvptechnicom.sk/event/open4business-international-b2b-matchmaking-2024/
CATEGORIES:EEN podujatia,Kooperačné podujatia, veľtrhy, výstavy
ATTACH;FMTTYPE=image/jpeg:https://uvptechnicom.sk/wp-content/uploads/2024/02/O4B.jpg
END:VEVENT
END:VCALENDAR