BEGIN:VCALENDAR
VERSION:2.0
PRODID:-//UVP TECHNICOM - ECPv6.15.20//NONSGML v1.0//EN
CALSCALE:GREGORIAN
METHOD:PUBLISH
X-ORIGINAL-URL:https://uvptechnicom.sk
X-WR-CALDESC:Events for UVP TECHNICOM
REFRESH-INTERVAL;VALUE=DURATION:PT1H
X-Robots-Tag:noindex
X-PUBLISHED-TTL:PT1H
BEGIN:VTIMEZONE
TZID:Europe/Bratislava
BEGIN:DAYLIGHT
TZOFFSETFROM:+0100
TZOFFSETTO:+0200
TZNAME:CEST
DTSTART:20230326T010000
END:DAYLIGHT
BEGIN:STANDARD
TZOFFSETFROM:+0200
TZOFFSETTO:+0100
TZNAME:CET
DTSTART:20231029T010000
END:STANDARD
BEGIN:DAYLIGHT
TZOFFSETFROM:+0100
TZOFFSETTO:+0200
TZNAME:CEST
DTSTART:20240331T010000
END:DAYLIGHT
BEGIN:STANDARD
TZOFFSETFROM:+0200
TZOFFSETTO:+0100
TZNAME:CET
DTSTART:20241027T010000
END:STANDARD
BEGIN:DAYLIGHT
TZOFFSETFROM:+0100
TZOFFSETTO:+0200
TZNAME:CEST
DTSTART:20250330T010000
END:DAYLIGHT
BEGIN:STANDARD
TZOFFSETFROM:+0200
TZOFFSETTO:+0100
TZNAME:CET
DTSTART:20251026T010000
END:STANDARD
END:VTIMEZONE
BEGIN:VEVENT
DTSTART;VALUE=DATE:20240314
DTEND;VALUE=DATE:20240323
DTSTAMP:20260423T132512
CREATED:20231212T092309Z
LAST-MODIFIED:20231212T092355Z
UID:29917-1710374400-1711151999@uvptechnicom.sk
SUMMARY:Kooperačné podujatie v rámci IPEC 2024
DESCRIPTION:Partneri Enterprise Europe Network pozývajú všetkých zainteresovaných na kooperačné podujatie\, ktoré bude súčasťou konferencie IPEC 2024 so zameraním na tému Katalyzácia zmien: Transformácia priemyslu prostredníctvom umelej inteligencie a obehového hospodárstva. Prihlášky do 22. marca 2024. \nDátum konania: 14.3. – 22.3.22024Miesto konania: onlineRegistrácia: https://ipec-2024.b2match.io/signupWeb stránka podujatia: https://ipec-2024.b2match.io/ \nUž po deviatykrát sa uskutoční medzinárodná konferencia na tému Digitalizácia a udržateľnosť s odkazom na ciele udržateľného rozvoja OSN\, ako sú napr. kvalitné vzdelávanie (SDG 4)\, priemysel\, inovácie a infraštruktúra (SDG 9)\, zodpovedná spotreba a výroba (SDG 12). Nadchádzajúce podujatie sa uskutoční 13. marca 2024 v online formáte. Cieľom IPEC 2024 je podporiť vytváranie sietí a výmenu poznatkov medzi spoločnosťami z Bavorska a medzinárodnými spoločnosťami\, start-upmi a výskumnými inštitúciami. \nÚčasť je bezplatná\, konferencia bude vysielaná prostredníctvom GoToWebinára (13. marca). Vzhľadom na medzinárodné zameranie podujatia bude jazykom konferencie angličtina. \nZameranie konferencie: \n\nStratégie obehového hospodárstva;\nMetriky obehového hospodárstva a vykazovanie;\nEfektívnosť využívania zdrojov na základe umelej inteligencie;\nAnalýza údajov pre udržateľnosť;\nUdržateľné výrobné technológie;\nOptimalizácia dodávateľského reťazca;\nCirkulárne obchodné modely;\nCirkulárny dizajn a inovácie;\nPolitické a regulačné rámce;\n… a mnoho ďalších.\n\nKonferencia (13. marca 2024) \n\n15 – 20 min. vystúpenia z rôznych krajín\, ktoré sa zaoberajú rôznymi aspektmi energie\, dodávateľských reťazcov a výroby zameranej na človeka;\nPitch Session so 6-8 prezentáciami (cca 5 min. a 5 slajdov) na predstavenie nových nápadov.\nCelý program konferencie dostupný TU.\n\nKooperačné podujatie bude prebiehať online formou 14. až 22. marca 2024. \nZaregistrujte sa na podujatie\, vytvorte si profil a pri jeho vypĺňaní si v časti „Settings“ v rámci položky „Support office“ vyberte TUKE ako vašu podpornú inštitúciu. Nezabudnite na vyplnenie tzv. Marketplace. Následne vašu prihlášku obratom radi potvrdíme v registračnom systéme podujatia. Ďakujeme. Bližšie inštrukcie ako uskutočniť online stretnutie nájdete TU. \nKontakt: Enterprise Europe Network pri UVP TECHNICOM\, e-mail: een@uvptechnicom.sk
URL:https://uvptechnicom.sk/event/kooperacne-podujatie-v-ramci-ipec-2024/
LOCATION:Online
CATEGORIES:EEN podujatia,Kooperačné podujatia, veľtrhy, výstavy
ATTACH;FMTTYPE=image/png:https://uvptechnicom.sk/wp-content/uploads/2023/12/ipec_2024.png
END:VEVENT
BEGIN:VEVENT
DTSTART;VALUE=DATE:20240319
DTEND;VALUE=DATE:20240320
DTSTAMP:20260423T132512
CREATED:20240111T115619Z
LAST-MODIFIED:20240111T203725Z
UID:30009-1710806400-1710892799@uvptechnicom.sk
SUMMARY:Open Source for Cloud/Edge to support European Digital Autonomy (RIA)
DESCRIPTION:
URL:https://uvptechnicom.sk/event/open-source-for-cloud-edge-to-support-european-digital-autonomy-ria/
CATEGORIES:Horizont Európa
END:VEVENT
BEGIN:VEVENT
DTSTART;VALUE=DATE:20240319
DTEND;VALUE=DATE:20240320
DTSTAMP:20260423T132512
CREATED:20240111T115707Z
LAST-MODIFIED:20240111T204300Z
UID:30010-1710806400-1710892799@uvptechnicom.sk
SUMMARY:Platform Building\, standardisation and Up-scaling of the ‘Cloud-Edge-IoT’ Solutions
DESCRIPTION:
URL:https://uvptechnicom.sk/event/platform-building-standardisation-and-up-scaling-of-the-cloud-edge-iot-solutions-horizontal-activities-csa/
CATEGORIES:Horizont Európa
ATTACH;FMTTYPE=image/jpeg:https://uvptechnicom.sk/wp-content/uploads/2019/10/uvp_up.jpg
END:VEVENT
BEGIN:VEVENT
DTSTART;VALUE=DATE:20240319
DTEND;VALUE=DATE:20240320
DTSTAMP:20260423T132512
CREATED:20240111T115724Z
LAST-MODIFIED:20240111T203727Z
UID:30011-1710806400-1710892799@uvptechnicom.sk
SUMMARY:Piloting emerging Smart IoT Platforms and decentralized intelligence (IA)
DESCRIPTION:
URL:https://uvptechnicom.sk/event/piloting-emerging-smart-iot-platforms-and-decentralized-intelligence-ia/
CATEGORIES:Horizont Európa
ATTACH;FMTTYPE=image/jpeg:https://uvptechnicom.sk/wp-content/uploads/2019/10/uvp_up.jpg
END:VEVENT
BEGIN:VEVENT
DTSTART;VALUE=DATE:20240319
DTEND;VALUE=DATE:20240320
DTSTAMP:20260423T132512
CREATED:20240111T203546Z
LAST-MODIFIED:20240111T203730Z
UID:30034-1710806400-1710892799@uvptechnicom.sk
SUMMARY:Public recognition scheme for Open Source (CSA)
DESCRIPTION:
URL:https://uvptechnicom.sk/event/public-recognition-scheme-for-open-source-csa/
CATEGORIES:Horizont Európa
END:VEVENT
BEGIN:VEVENT
DTSTART;TZID=Europe/Bratislava:20240319T150000
DTEND;TZID=Europe/Bratislava:20240319T190000
DTSTAMP:20260423T132512
CREATED:20240304T144428Z
LAST-MODIFIED:20240304T150433Z
UID:30485-1710860400-1710874800@uvptechnicom.sk
SUMMARY:Bootcamp 02
DESCRIPTION:Akýkoľvek podnikateľský nápad nemá žiadnu hodnotu\, pokiaľ neprináša konkrétne benefity relevantné pre jednotlivé skupiny cieľových zákazníkov. Ako takú hodnotovú ponuku zostaviť\, ako ju správne zladiť s problémami\, výzvami a očakávaniami vašich zákazníkov? Aj na tieto otázky nám pomôže nájsť odpoveď jednoduchý framework Customer Value Proposition (CVP)\, vďaka ktorému do hĺbky porozumiete vašim zákazníckym skupinám\, načrtnete si ich najčastejšie obavy a očakávania a pripravíte im ponuku\, ktorú neodmietnu. \nREGISTRÁCIA
URL:https://uvptechnicom.sk/event/bootcamp-02/
LOCATION:UVP TECHNICOM\, Boženy Němcovej 5\, Košice\, Slovakia (Slovak Republic)
CATEGORIES:UVP a TUKE
ATTACH;FMTTYPE=image/jpeg:https://uvptechnicom.sk/wp-content/uploads/2024/03/business-concept-dark-grey-table-flat-lay-finger-showing-wooden-cube-with-icon-scaled.jpg
END:VEVENT
END:VCALENDAR