BEGIN:VCALENDAR
VERSION:2.0
PRODID:-//UVP TECHNICOM - ECPv6.15.20//NONSGML v1.0//EN
CALSCALE:GREGORIAN
METHOD:PUBLISH
X-WR-CALNAME:UVP TECHNICOM
X-ORIGINAL-URL:https://uvptechnicom.sk
X-WR-CALDESC:Events for UVP TECHNICOM
REFRESH-INTERVAL;VALUE=DURATION:PT1H
X-Robots-Tag:noindex
X-PUBLISHED-TTL:PT1H
BEGIN:VTIMEZONE
TZID:Europe/Bratislava
BEGIN:DAYLIGHT
TZOFFSETFROM:+0100
TZOFFSETTO:+0200
TZNAME:CEST
DTSTART:20230326T010000
END:DAYLIGHT
BEGIN:STANDARD
TZOFFSETFROM:+0200
TZOFFSETTO:+0100
TZNAME:CET
DTSTART:20231029T010000
END:STANDARD
BEGIN:DAYLIGHT
TZOFFSETFROM:+0100
TZOFFSETTO:+0200
TZNAME:CEST
DTSTART:20240331T010000
END:DAYLIGHT
BEGIN:STANDARD
TZOFFSETFROM:+0200
TZOFFSETTO:+0100
TZNAME:CET
DTSTART:20241027T010000
END:STANDARD
BEGIN:DAYLIGHT
TZOFFSETFROM:+0100
TZOFFSETTO:+0200
TZNAME:CEST
DTSTART:20250330T010000
END:DAYLIGHT
BEGIN:STANDARD
TZOFFSETFROM:+0200
TZOFFSETTO:+0100
TZNAME:CET
DTSTART:20251026T010000
END:STANDARD
END:VTIMEZONE
BEGIN:VEVENT
DTSTART;VALUE=DATE:20240112
DTEND;VALUE=DATE:20240315
DTSTAMP:20260423T144358
CREATED:20240123T121702Z
LAST-MODIFIED:20240123T121823Z
UID:30129-1705017600-1710460799@uvptechnicom.sk
SUMMARY:Matchmakingová online platforma k 6. výzve programu Eurostars
DESCRIPTION:Predstavujeme vám matchmakingovú online platformu k 6. výzve programu Eurostars zriadenej na podporu pri predkladaní návrhov na spoločné projekty výskumu a vývoja. \nPlatnosť: 12.1.2024 – 14.3.2024 \nRegistrácia: https://eurostars-6th-call-matchmaking.b2match.io/signup \nWeb: https://eurostars-6th-call-matchmaking.b2match.io/ \nTáto platforma poskytuje online priestor na vyhľadávanie a publikovanie projektových príležitostí. Zaregistrujte sa\, vytvorte profil a dohodnite si stretnutia so zaregistrovanými účastníkmi. Až do 14.marca 2024 máte možnosť prostredníctvom tohto online priestoru diskutovať o potenciálnej spolupráci s ostatnými zaregistrovanými. \nTematické zameranie (v rámci 6. výzvy programu Eurostars): \n\nEnergetika\, energetická účinnosť a skladovanie energie;\nPoľnohospodárstvo: potraviny/krmivá;\nDoprava a mobilita;\nVýroba;\nPokročilé technológie.\n\nÚčasť na tejto platforme je bezplatná. \nAko postupovať pri registrácií\, ako vytvoriť profil a realizovať stretnutia sa dozviete TU. Medzinárodné usmernenia ako aj usmernenia pre jednotlivé krajiny nájdete na tomto odkaze. \nZaregistrujte sa na platformu\, vytvorte si profil a pri jeho vypĺňaní si v časti „Settings“ v rámci položky „Support office“ vyberte TUKE ako vašu podpornú inštitúciu. V profile je dôležité vyplniť tzv. Marketplace\, pričom podmienkou je vyplnenie aspoň 1 položky. Následne vašu prihlášku skontrolujeme a radi v registračnom systéme potvrdíme. Ďakujeme. \nKontakt: Enterprise Europe Network pri UVP TECHNICOM\, e-mail: een@uvptechnicom.sk
URL:https://uvptechnicom.sk/event/matchmakingova-online-platforma-k-6-vyzve-programu-eurostars/
CATEGORIES:EEN podujatia,Kooperačné podujatia, veľtrhy, výstavy
ATTACH;FMTTYPE=image/jpeg:https://uvptechnicom.sk/wp-content/uploads/2024/01/eurostars.jpg
END:VEVENT
BEGIN:VEVENT
DTSTART;VALUE=DATE:20240209
DTEND;VALUE=DATE:20240212
DTSTAMP:20260423T144358
CREATED:20240117T155438Z
LAST-MODIFIED:20240117T155544Z
UID:30076-1707436800-1707695999@uvptechnicom.sk
SUMMARY:Kooperačné podujatie Innovent Forum 2024
DESCRIPTION:Technika pre ľudstvo\nPozývame vás na HYBRIDNÉ VEDECKO-TECHNICKÉ kooperačné podujatie Innovent Forum 2024\, ktorého cieľom je podporiť a vyzdvihnúť inovatívne technologické riešenia v prospech ľudstva\, prostredníctvom vytvárania sietí a spolupráce. Prihlášky do 9. februára 2024. \n\nDátum konania: 9.2. – 11.2.2024Miesto konania: Larissa\, Grécko + onlineRegistrácia: https://innovent-2024.b2match.io/signupWeb stránka podujatia: https://innovent-2024.b2match.io/home \n\nOrganizácia podujatia:\nKooperačné podujatie sa bude konať počas Innovent Forum 2024 v dňoch 9.\, 10.\, a 11. februára 2024 a to osobne v inovačnom parku JOIST v gréckej Larisse a online. \n\nPre koho je podujatie určené?\nToto hybridné podujatie je určené pre pokrokovo zmýšľajúcich podnikateľov\, výskumníkov\, kľúčové zainteresované strany\, členov akademickej obce a jednotlivcov\, ktorí si chcú nielen vymieňať prevratné myšlienky\, ale aj objavovať nové cesty\, podporovať kontakty a využívať strategickú spoluprácu. \n\nHlavné témy podujatia:\n\nVzdelávanie\nŽivotné prostredie a energetika\nSociálne podnikanie\nVerejný sektor/vláda\nVýroba\nUmenie a kultúra\nInteligentné mestá\nStavebníctvo\nGaming\nTechnológie a kvalita života\nInovačné centrá\nInovatívne podnikateľské návrhy a plány (startupy a študenti)\n\n\nSpojme budúcnosť s ľudským pokrokom! Účasť na B2B je bezplatná. \nZaregistrujte sa na podujatie\, vytvorte si profil a pri jeho vypĺňaní si v časti „Settings“ v rámci položky „Support office“ vyberte TUKE ako vašu podpornú inštitúciu. V profile je dôležité vyplniť tzv. Marketplace\, pričom podmienkou je vyplnenie aspoň 1 položky. Následne vašu prihlášku skontrolujeme a radi potvrdíme v registračnom systéme podujatia. Ďakujeme. \nKontakt: Enterprise Europe Network pri UVP TECHNICOM\, e-mail: een@uvptechnicom.sk
URL:https://uvptechnicom.sk/event/kooperacne-podujatie-innovent-forum-2024/
CATEGORIES:EEN podujatia,Kooperačné podujatia, veľtrhy, výstavy
ATTACH;FMTTYPE=image/png:https://uvptechnicom.sk/wp-content/uploads/2024/01/Kooperacne-podujatie-Innovent-Forum-2024.png
END:VEVENT
BEGIN:VEVENT
DTSTART;VALUE=DATE:20240209
DTEND;VALUE=DATE:20240210
DTSTAMP:20260423T144358
CREATED:20231123T093636Z
LAST-MODIFIED:20231123T093712Z
UID:29846-1707436800-1707523199@uvptechnicom.sk
SUMMARY:Matchmakingové podujatie Meet the Buyers Stavebníctvo\, strojárstvo a udržateľná energia
DESCRIPTION:Partneri siete Enterprise Europe Network vás pozývajú na matchmakingové podujatie Meet the Buyers so zameraním na stavebníctvo\, strojárstvo a udržateľnú energiu\, ktoré sa uskutoční 9. februára 2024 v Írsku. Prihlášky do 8. februára 2024. \nDátum konania: 9.2.2024Miesto konania: Daingean\, Írsko + onlineRegistrácia otvorená do: 8.2.2024Registrácia: https://www.b2match.com/e/enterprise-europe-network-sustainable-construction/sign-upWeb stránka podujatia: https://www.b2match.com/e/enterprise-europe-network-sustainable-construction \nNa hybridnom podujatí sa zúčastní množstvo najinovatívnejších a najrýchlejšie sa rozvíjajúcich spoločností z Írska či Európy\, pôsobiacich v oblasti čistých energií\, udržateľného stavebníctva a pokročilého strojárstva. \nProgram podujatia bude kombinovať plenárne zasadnutia\, na ktorých sa budú skúmať nové príležitosti v odvetví existujúce v Európe a v Spojenom kráľovstve\, a stretnutia v rámci B2B “Meet the Buyer”\, na ktorých sa stavebné\, strojárske a udržateľné energetické spoločnosti priamo spoja s nákupcami. \nPodujatie je vhodné pre mikropodniky\, malé a stredné podniky a veľké podniky\, ktoré aktívne hľadajú nové možnosti predaja a vývozu s kupujúcimi z Írska a celej Európy. \n\nPrečo sa zúčastniť?\n\nOBCHODNÉ PRÍLEŽITOSTI: Podujatie poskytuje skvelú príležitosť stretnúť sa a nadviazať kontakt s inovatívnymi spoločnosťami a poprednými nákupcami\, ktorí sú pripravení obchodovať v roku 2024.\nPRESKÚMAJTE NOVÉ PRODUKTY A SLUŽBY: Podujatie predstaví najlepšie inovatívne írske spoločnosti\, ktoré aktívne hľadajú nových obchodných partnerov na medzinárodných trhoch pre svoje špičkové svetové výrobky a služby.\nBUDOVAŤ POVEDOMIE O ZNAČKE: Ak ste majiteľom firmy alebo podnikateľom\, účasť na podujatí môže byť skvelým spôsobom\, ako budovať povedomie o značke u nákupcov z trhov EÚ a Spojeného kráľovstva.\nZDIEĽANIE VEDOMOSTÍ: Na podujatí vystúpia odborní rečníci\, ktorí sa podelia o svoje postrehy a poznatky o nových trendoch v týchto rozvíjajúcich sa odvetviach. Získajte prístup k týmto osobám a učte sa z ich skúseností a názorov.\n\nOsobné aj online stretnutia budú prebiehať v čase 11:00-13:00hod. a 14:20-16:45hod. \nProgram celého podujatia nájdete TU. \nÚčasť na B2B podujatí je bezplatná.  \nZaregistrujte sa na podujatie\, vytvorte si profil a pri jeho vypĺňaní si v časti „Settings“ v rámci položky „Support office“ vyberte TUKE ako vašu podpornú inštitúciu. Nezabudnite na vyplnenie tzv. Marketplace. Následne vašu prihlášku obratom radi potvrdíme v registračnom systéme podujatia. Ďakujeme. \nKontakt: Enterprise Europe Network pri UVP TECHNICOM\, e-mail: een@uvptechnicom.sk
URL:https://uvptechnicom.sk/event/matchmakingove-podujatie-meet-the-buyers-stavebnictvo-strojarstvo-a-udrzatelna-energia/
CATEGORIES:EEN podujatia,Kooperačné podujatia, veľtrhy, výstavy
ATTACH;FMTTYPE=image/png:https://uvptechnicom.sk/wp-content/uploads/2023/11/Meet-the-buyer.png
END:VEVENT
BEGIN:VEVENT
DTSTART;VALUE=DATE:20240209
DTEND;VALUE=DATE:20240210
DTSTAMP:20260423T144358
CREATED:20240128T114025Z
LAST-MODIFIED:20240128T114025Z
UID:30170-1707436800-1707523199@uvptechnicom.sk
SUMMARY:Výzva na podporu energetickej efektívnosti a využívania OZE vo verejných budovách
DESCRIPTION:
URL:https://uvptechnicom.sk/event/vyzva-na-podporu-energetickej-efektivnosti-a-vyuzivania-oze-vo-verejnych-budovach/
CATEGORIES:Program Slovensko
END:VEVENT
END:VCALENDAR