BEGIN:VCALENDAR
VERSION:2.0
PRODID:-//UVP TECHNICOM - ECPv6.15.20//NONSGML v1.0//EN
CALSCALE:GREGORIAN
METHOD:PUBLISH
X-WR-CALNAME:UVP TECHNICOM
X-ORIGINAL-URL:https://uvptechnicom.sk
X-WR-CALDESC:Events for UVP TECHNICOM
REFRESH-INTERVAL;VALUE=DURATION:PT1H
X-Robots-Tag:noindex
X-PUBLISHED-TTL:PT1H
BEGIN:VTIMEZONE
TZID:Europe/Bratislava
BEGIN:DAYLIGHT
TZOFFSETFROM:+0100
TZOFFSETTO:+0200
TZNAME:CEST
DTSTART:20220327T010000
END:DAYLIGHT
BEGIN:STANDARD
TZOFFSETFROM:+0200
TZOFFSETTO:+0100
TZNAME:CET
DTSTART:20221030T010000
END:STANDARD
BEGIN:DAYLIGHT
TZOFFSETFROM:+0100
TZOFFSETTO:+0200
TZNAME:CEST
DTSTART:20230326T010000
END:DAYLIGHT
BEGIN:STANDARD
TZOFFSETFROM:+0200
TZOFFSETTO:+0100
TZNAME:CET
DTSTART:20231029T010000
END:STANDARD
BEGIN:DAYLIGHT
TZOFFSETFROM:+0100
TZOFFSETTO:+0200
TZNAME:CEST
DTSTART:20240331T010000
END:DAYLIGHT
BEGIN:STANDARD
TZOFFSETFROM:+0200
TZOFFSETTO:+0100
TZNAME:CET
DTSTART:20241027T010000
END:STANDARD
END:VTIMEZONE
BEGIN:VEVENT
DTSTART;VALUE=DATE:20231207
DTEND;VALUE=DATE:20231209
DTSTAMP:20260423T175451
CREATED:20231122T075615Z
LAST-MODIFIED:20231122T075753Z
UID:29838-1701907200-1702079999@uvptechnicom.sk
SUMMARY:Match4Industry 2023
DESCRIPTION:“Rozšírte svoju sieť\, rozšírte svoje podnikanie” \nKooperačné podujatie Match4Industry ponúka dva dni exkluzívnych obchodných stretnutí s účastníkmi z celého sveta. 12. ročník sa uskutoční v kongresovom centre Kocaeli (osobná účasť)\, kde bude predstavený bohatý turecký priemysel. Prihlášky do 1. decembra 2023. \n\nDátum konania: 7.12.2023 – 8.12.2023Miesto konania: Kocaeli\, Turecko \nRegistrácia prebieha do: 1.12.2023Registrácia: https://match4industry2023.b2match.io/signupWeb stránka podujatia: https://match4industry2023.b2match.io/home \n\nHlavnými organizátormi podujatia sú ABİGEM East Marmara\, priemyselná komora Kocaeli a partneri siete Enterprise Europe Network. \n\nZameranie podujatia: \n\nDodávky pre automobilový priemysel\nKovy a stroje\nPlasty a guma\nPneumatiky\nChemikálie (automobilové farby\, nátery a ošetrovacie prostriedky)\nStavebníctvo a stavebné materiály\nEnergetika\nŽivotné prostredie\nElektrina a elektronika\nInformačné a komunikačné technológie\n\n  \nÚčasť na kooperačnom podujatí je bezplatná. \n\nZahrnuté služby: \n\nMiestne transfery na miesta stretnutia\nPreklad z angličtiny do turečtiny a z turečtiny do angličtiny\nObedy\, občerstvenie a uvítacia večera\nNáklady na ubytovanie pre jedného zástupcu z každej zúčastnenej spoločnosti hradí Turecké ministerstvo obchodu na základe toho\, že spoločnosti predložia svoje žiadosti prostredníctvom Tureckého obchodného atašé vo svojej domovskej krajine. Ubytovanie zahŕňa 3 noci v päťhviezdičkovom hoteli. Termín na bezplatné ubytovanie je 24. november 2023.\n\n\nZaregistrujte sa na podujatie\, vytvorte si profil a pri jeho vypĺňaní si v časti „Settings“ v rámci položky „Support office“ vyberte TUKE ako vašu podpornú inštitúciu. Nezabudnite na vyplnenie tzv. Marketplace. Následne vašu prihlášku obratom radi potvrdíme v registračnom systéme podujatia. Ďakujeme. \n\nKontakt: Enterprise Europe Network pri UVP TECHNICOM\, e-mail: een@uvptechnicom.sk
URL:https://uvptechnicom.sk/event/match4industry-2023/
CATEGORIES:EEN podujatia,Kooperačné podujatia, veľtrhy, výstavy
ATTACH;FMTTYPE=image/png:https://uvptechnicom.sk/wp-content/uploads/2023/11/Match4Indrustry.png
END:VEVENT
BEGIN:VEVENT
DTSTART;TZID=Europe/Bratislava:20231207T143000
DTEND;TZID=Europe/Bratislava:20231207T200000
DTSTAMP:20260423T175451
CREATED:20230818T181028Z
LAST-MODIFIED:20231122T073822Z
UID:29027-1701959400-1701979200@uvptechnicom.sk
SUMMARY:Financie (UVP Bootcamp)
DESCRIPTION:
URL:https://uvptechnicom.sk/event/financie-uvp-bootcamp/
LOCATION:UVP TECHNICOM\, Boženy Němcovej 5\, Košice\, Slovakia (Slovak Republic)
CATEGORIES:UVP a TUKE
ATTACH;FMTTYPE=image/jpeg:https://uvptechnicom.sk/wp-content/uploads/2023/08/AP-uprava-04-scaled.jpg
END:VEVENT
END:VCALENDAR