BEGIN:VCALENDAR
VERSION:2.0
PRODID:-//UVP TECHNICOM - ECPv6.15.20//NONSGML v1.0//EN
CALSCALE:GREGORIAN
METHOD:PUBLISH
X-ORIGINAL-URL:https://uvptechnicom.sk
X-WR-CALDESC:Events for UVP TECHNICOM
REFRESH-INTERVAL;VALUE=DURATION:PT1H
X-Robots-Tag:noindex
X-PUBLISHED-TTL:PT1H
BEGIN:VTIMEZONE
TZID:Europe/Bratislava
BEGIN:DAYLIGHT
TZOFFSETFROM:+0100
TZOFFSETTO:+0200
TZNAME:CEST
DTSTART:20220327T010000
END:DAYLIGHT
BEGIN:STANDARD
TZOFFSETFROM:+0200
TZOFFSETTO:+0100
TZNAME:CET
DTSTART:20221030T010000
END:STANDARD
BEGIN:DAYLIGHT
TZOFFSETFROM:+0100
TZOFFSETTO:+0200
TZNAME:CEST
DTSTART:20230326T010000
END:DAYLIGHT
BEGIN:STANDARD
TZOFFSETFROM:+0200
TZOFFSETTO:+0100
TZNAME:CET
DTSTART:20231029T010000
END:STANDARD
BEGIN:DAYLIGHT
TZOFFSETFROM:+0100
TZOFFSETTO:+0200
TZNAME:CEST
DTSTART:20240331T010000
END:DAYLIGHT
BEGIN:STANDARD
TZOFFSETFROM:+0200
TZOFFSETTO:+0100
TZNAME:CET
DTSTART:20241027T010000
END:STANDARD
END:VTIMEZONE
BEGIN:VEVENT
DTSTART;VALUE=DATE:20231123
DTEND;VALUE=DATE:20231125
DTSTAMP:20260423T193214
CREATED:20231109T091905Z
LAST-MODIFIED:20231109T092021Z
UID:29739-1700697600-1700870399@uvptechnicom.sk
SUMMARY:Medzinárodné dni mobility 2023
DESCRIPTION:Partneri Enterprise Europe Network vás pozývajú na hybridné podujatie Medzinárodné dni mobility – #imdays2023\, ktoré sa budú konať 23.-24. novembra 2023 vo Viedni. Registrácia otvorená do 20. novembra 2023.  \n  \nDátum konania: 23.-24.11.2023 (onsite) \nVirtuálne stretnutia: 26.11.-31.12.2023Miesto konania: Viedeň\, Rakúsko + onlineRegistrácia: https://www.mobility-days.at/signupWeb stránka podujatia: https://www.mobility-days.at/ \n\nHybridné podujatie vám prináša príležitosť spoznať viac ako 60 vystavovateľov\, 300 účastníkov a viac ako 1000 spoločností sledujúcich podujatie online. \n\nV priebehu 2 dní môžete uskutočniť 1:1 stretnutia s potenciálnymi obchodnými partnermi\, spoznať nové inovácie\, trendy a obchodné príležitosti a navštíviť popredné rakúske spoločnosti pôsobiace v oblasti mobility. \n\nPre koho je podujatie určené: \n\nRakúski globálni lídri\, skrytí šampióni atď.\nAutomobilový OEM\, Tier 1\nPrevádzkovatelia železničnej dopravy\, výrobcovia\nNámorné a letecké prístavy\nÚrady pre cestnú dopravu\, bezpečnosť a ochranu\nPoskytovatelia telekomunikačných a dátových služieb\n\n\nŠpecifická cieľová skupina Rakúsko \nRakúski vystavovatelia a zúčastnené spoločnosti pokrývajú širokú škálu produktov a služieb v oblasti mobility. Na tejto platforme chcú rozvíjať nové obchodné vzťahy so zahraničnými účastníkmi. \n\nVýrobcovia automobilov a dodávatelia dielov;\nVýrobcovia a dodávatelia dielov pre železnice;\nVýrobcovia a dodávatelia dielov pre námorníctvo;\nSpoločnosti z oblasti IKT\, IOT\, ITS a MaaS mobility;\nTelekomunikačný a softvérový priemysel;\nLogistické a dopravné spoločnosti;\nKonzultačné a inžinierske kancelárie;\nVýrobcovia dopravnej infraštruktúry\, systémov kontroly\, mýta\, systémov dostupnosti a riadenia;\nVýrobcovia dopravných bezpečnostných systémov (vrátane kybernetickej bezpečnosti);\nVýrobcovia vizuálnych signalizačných systémov\, svetelnej signalizácie a telematických systémov;\nVýrobcovia a dodávatelia z oblasti elektrotechniky\, elektroniky\, senzorov\, telematických systémov a navigácie;\nVýrobcovia a dodávatelia systémov pre predaj cestovných lístkov a platobných systémov;\nVýrobcovia a dodávatelia parkovacích a nabíjacích riešení;\nVýrobcovia a dodávatelia v sektore mikro a mestskej mobility;\nStavebné spoločnosti pre dopravnú infraštruktúru;\nVývojári softvéru\, IT špecialisti\, inžinieri a vývojári;\nVýrobcovia inteligentných gadgetov;\nPoskytovatelia dát a služieb;\nPoskytovatelia pripojenia;\nPoskytovatelia platforiem mobility;\nUniverzity a aplikovaný výskum;\nStart-upy.\n\n\nOrganizácia podujatia:  \n\nKongresová časť – živé vysielanie 23.11.2023 9:00 – 10.30hod.\nB2B stretnutia – video hovory s vystavovateľmi 26.11.-31.12.2023\nB2B stretnutia – video hovory so zaregistrovanými účastníkmi 26.11.-31.12.2023\nÚčasť je pre online účastníkov bezplatná\n\n\nZaregistrujte sa na podujatie\, vytvorte si profil a pri jeho vypĺňaní si v časti „Settings“ v rámci položky „Support office“ vyberte TUKE ako vašu podpornú inštitúciu. Nezabudnite na vyplnenie tzv. Marketplace. Následne vašu prihlášku obratom radi potvrdíme v registračnom systéme podujatia. Ďakujeme. \n\nKontakt: Enterprise Europe Network pri UVP TECHNICOM\, e-mail: een@uvptechnicom.sk
URL:https://uvptechnicom.sk/event/medzinarodne-dni-mobility-2023/
CATEGORIES:EEN podujatia,Kooperačné podujatia, veľtrhy, výstavy
ATTACH;FMTTYPE=image/jpeg:https://uvptechnicom.sk/wp-content/uploads/2023/11/Medzinarodne-dni-mobility.jpg
END:VEVENT
BEGIN:VEVENT
DTSTART;VALUE=DATE:20231123
DTEND;VALUE=DATE:20231125
DTSTAMP:20260423T193214
CREATED:20231116T115317Z
LAST-MODIFIED:20231116T115446Z
UID:29796-1700697600-1700870399@uvptechnicom.sk
SUMMARY:Inovatívne trendy vo vysokoškolskom vzdelávaní
DESCRIPTION:Zámerom konferencie je vytvoriť priestor pre učenie sa o nových trendov vo vysokoškolskom vzdelávaní\, zdieľanie skúseností pre pedagógov a pedagogičky TUKE  a sieťovanie aktívnej pedagogickej komunity naprieč fakultami TUKE. \nVzhľadom na obmedzené možnosti priestorov\, na workshopy a konferenciu je potrebné sa registrovať cez formulár. \nProgram: \nŠtvrtok 23.11.2023 / Workshopy \n\n9:30 – 13:00   SCRUM vo vzdelávaní / Deutsche Telekom IT Solutions Slovakia\n9:30 – 12:30   Pedagóg ako pozitívny líder / Suvko-Coaching\n9:30 – 11:00   Peer Evaluation and Assessment / Yucel Ger\, HH Porvoo Campus\n14:00 – 16:00 Čo ponúka YouTube pre vaše prednášky / Miroslav Biňas\, FEI\, TUKE\n13:30 – 16:00 Orchestrace efektívnych porad / Dávid Pešek\, ČVUT\n16:30 – 18:30 Mindfullness / Psychológ Matej Hrabovský\n\nPiatok 24.11.2023 / Konferencia \n\n8:00 Registrácia spojená s rannou kávou.\n8:30 Otvorenie konferencie\, Prorektor TUKE pre vzdelávanie Miroslav Kelemen\n8:50 – 9:25   Yucel Ger\, Inquiry-based Learning as Part of a Learner-centred Education: Haaga-Helia Porvoo Campus Practices\n9:25 – 10:00 Gabriela Pleschová\, Podpora kvality vzdelávania na Univerzite Komenského\n10:00 – 10:35 Martin Kuruc\, Kam sa stráca motivácia študentov učiť sa a čo s tým?\n10:35 – 11:10 Dávid Pešek\, (Ne)vzdelávanie ku podnikavosti\, skúsenosti z ČVUT Praha\n11:10 – 11:40 Prestávka\n11:40 – 12:40 Panelová diskusia\n12:40 – 13:30 Obed\n13:30 – 14:05 Jana Pócsová\, Metóda active learning v inžinierskom vzdelávaní\n14:05 – 14:40 Marek Blizco\, Príležitosti a výzvy AI vo vzdelávaní\n14:40 – 15:15 Alena Galajdová\, Skúsenosti s inkluzívnym vzdelávaním na TUKE\n15:15 – 15:50 Radka Čopková\, “Nie sú v pohode”\, Dôležitosť investície zdrojov do podpory mentálneho zdravia študentov\n\nKontakt: miriam.sebova@tuke.sk \nViac informácií: educationmatters.ekf.tuke.sk
URL:https://uvptechnicom.sk/event/inovativne-trendy-vo-vysokoskolskom-vzdelavani/
LOCATION:UVP TECHNICOM\, Boženy Němcovej 5\, Košice\, Slovakia (Slovak Republic)
CATEGORIES:UVP a TUKE
ATTACH;FMTTYPE=image/jpeg:https://uvptechnicom.sk/wp-content/uploads/2023/11/Inovativne-trendy-vo-vysokoskolskom-vzdelavani_banner-na-web-TUKE_1530x557px_SK-2-1.jpg
END:VEVENT
BEGIN:VEVENT
DTSTART;VALUE=DATE:20231124
DTEND;VALUE=DATE:20231125
DTSTAMP:20260423T193214
CREATED:20231027T142829Z
LAST-MODIFIED:20231027T142958Z
UID:29693-1700784000-1700870399@uvptechnicom.sk
SUMMARY:Kooperačné podujatie počas ISM 2023
DESCRIPTION:Priemysel 4.0 prináša revolúciu a oživuje všetky priemyselné aktivity vo viacerých sektoroch. Podniky\, startupy\, ako aj univerzity a výskumné centrá musia čeliť novým a zložitým výzvam\, no zároveň môžu využívať nové príležitosti. \n\nDátum konania: 24.11.2023Miesto konania: Lisabon\, Portugalsko + onlineRegistrácia otvorená do: 22.11.2023Prihláška: https://brokerage-event-at-ism-2023.b2match.io/signupWeb stránka podujatia: https://brokerage-event-at-ism-2023.b2match.io/home   \n\nHybridné kooperačné podujatie B2B/B2S BE@ISM2023\, ktoré sa uskutoční v rámci International Conference on Industry 4.0 and Smart Manufacturing (ISM)\, je dokonalým a jedinečným prostredím pre vytváranie sietí a nadväzovanie nových partnerských príležitostí. \n\nPre koho je kooperačné podujatie určené: \n\nPodniky\nStart-upy\nVýskumné organizácie\nUniverzity\nVýskumné laboratóriá\nKlastre\nVerejné združenia/agentúry\nInvestori\n\nPozn.: Konzultačné spoločnosti sa môžu zúčastniť na B2B len v prípade\, že sú schopné ponúknuť špecifickú odbornosť v oblastiach priemyslu 4.0/inteligentnej výroby. Táto odbornosť musí byť jasne opísaná v profile vytvorenom počas registrácie (v časti marketplace). \n\nTematické zameranie podujatia: \n\nAditívna výroba;\nVýroba s využitím umelej inteligencie;\nAutonómna výroba;\nAnalýza veľkých dát vo výrobe a logistike;\nBlockchain pre výrobu a logistiku;\nCloud computing;\nKyberneticko – fyzikálne výrobné systémy;\nKybernetická bezpečnosť;\nDigitálne dvojčatá;\nEkonomika a obchodné modely;\nPriemyselné inžinierstvo – vzdelávanie 4.0;\nErgonómia a sociálny faktor;\nInterakcia človek – stroj;\nPriemyselný internet vecí;\nInteligentné a digitálne dodávateľské reťazce;\nÚdržba a riadenie životného cyklu;\nVýrobné technológie;\nDizajn produktov a procesov;\nInžinierstvo výrobných systémov a dodávateľských sietí;\nProjektový a rizikový manažment;\nRiadenie a zabezpečenie kvality;\nRobotika v priemysle;\nBezpečnosť a ochrana zdravia pri práci;\nSimulácia vo výrobe a logistike;\nInteligentní operátori a systémy orientované na človeka;\nVýroba orientovaná na udržateľnosť;\nAplikácie VR/AR v priemysle.\n\n  \nÚčasť na kooperačnom podujatí je bezplatná! Upozorňujeme\, že bezplatná účasť na B2B/B2S BE@ISM2023 vám umožňuje prístup LEN do priestoru bilaterálnych stretnutí. Ak máte záujem zúčastniť sa aj na aktivitách konferencie\, musíte sa zaregistrovať na konferenciu ISM 2023\, ako je uvedené na webovej stránke konferencie\, a zaplatiť príslušný poplatok. Pre ďalšie informácie ohľadom konferencie kontaktujte jej organizátorov. \n  \nAko postupovať\, ak máte záujem zúčastniť sa B2B? \nZaregistrujte sa na b2match platforme podujatia\, vytvorte profil vašej spoločnosti\, nezabudnite na vyplnenie „Marketplace“ a vyberte TUKE ako vašu podpornú inštitúciu v časti „Settings“ v rámci položky „Support office“. Ďakujeme. Po vašej registrácii vám bude profil aktivovaný. Následne si môžete prezerať profily zaregistrovaných účastníkov a žiadať ich o stretnutia. \n\nTáto aktivita je financovaná Európskou komisiou a v rámci tejto aktivity sa vyžaduje spätná väzba o vašej účasti. Preto vás žiadame\, aby ste vášmu „Support office“ oznámili všetky nadviazané spolupráce\, ktoré uzavriete s inými účastníkmi kooperačného podujatia (aj mimo tejto platformy). Tieto informácie budú považované za dôverné. \n\nKontakt: Enterprise Europe Network pri UVP TECHNICOM\, e-mail: een@uvptechnicom.sk
URL:https://uvptechnicom.sk/event/kooperacne-podujatie-pocas-ism-2023/
CATEGORIES:EEN podujatia,Kooperačné podujatia, veľtrhy, výstavy
ATTACH;FMTTYPE=image/png:https://uvptechnicom.sk/wp-content/uploads/2023/10/Kooperacne-podujatie-pocas-ISM-2023.png
END:VEVENT
END:VCALENDAR