BEGIN:VCALENDAR
VERSION:2.0
PRODID:-//UVP TECHNICOM - ECPv6.15.20//NONSGML v1.0//EN
CALSCALE:GREGORIAN
METHOD:PUBLISH
X-ORIGINAL-URL:https://uvptechnicom.sk
X-WR-CALDESC:Events for UVP TECHNICOM
REFRESH-INTERVAL;VALUE=DURATION:PT1H
X-Robots-Tag:noindex
X-PUBLISHED-TTL:PT1H
BEGIN:VTIMEZONE
TZID:Europe/Bratislava
BEGIN:DAYLIGHT
TZOFFSETFROM:+0100
TZOFFSETTO:+0200
TZNAME:CEST
DTSTART:20220327T010000
END:DAYLIGHT
BEGIN:STANDARD
TZOFFSETFROM:+0200
TZOFFSETTO:+0100
TZNAME:CET
DTSTART:20221030T010000
END:STANDARD
BEGIN:DAYLIGHT
TZOFFSETFROM:+0100
TZOFFSETTO:+0200
TZNAME:CEST
DTSTART:20230326T010000
END:DAYLIGHT
BEGIN:STANDARD
TZOFFSETFROM:+0200
TZOFFSETTO:+0100
TZNAME:CET
DTSTART:20231029T010000
END:STANDARD
BEGIN:DAYLIGHT
TZOFFSETFROM:+0100
TZOFFSETTO:+0200
TZNAME:CEST
DTSTART:20240331T010000
END:DAYLIGHT
BEGIN:STANDARD
TZOFFSETFROM:+0200
TZOFFSETTO:+0100
TZNAME:CET
DTSTART:20241027T010000
END:STANDARD
END:VTIMEZONE
BEGIN:VEVENT
DTSTART;VALUE=DATE:20231108
DTEND;VALUE=DATE:20231123
DTSTAMP:20260423T193214
CREATED:20231027T143038Z
LAST-MODIFIED:20231027T143100Z
UID:29694-1699401600-1700697599@uvptechnicom.sk
SUMMARY:Kooperačné podujatie HORECA\, GASTROFOOD\, ENOEXPO 2023
DESCRIPTION:Partneri siete Enterprise Europe Network pozývajú organizácie pôsobiace v oblasti gastronómie\, dodávateľov IT riešení a zariadení pre túto oblasť na online kooperačné podujatie HORECA\, GASTROFOOD\, ENOEXPO 2023. Prihlášky do 6.11.2023. \n\nDátum konania: 08. – 22.11.2023Miesto konania: onlineRegistrácia otvorená do: 6.11.2023Prihláška: https://horeca-gastrofood-enoexpo-2023.b2match.io/signupWeb stránka podujatia: https://horeca-gastrofood-enoexpo-2023.b2match.io/ \n\nKooperačné podujatie bude prebiehať počas 30. ročníka International Trade Fair of Hotel and Catering Equipment HORECA® v spolupráci s veľtrhom Food and Drinks for Catering Trade Fair GASTROFOOD®. \n  \nTematické zameranie podujatia: \n\nVýroba potravín a nápojov: tradičné\, ekologické\, “free from”\, funkčné atď.;\nMrazené potraviny\, zmrzliny;\nObilniny\, cestoviny\, výrobky z múky;\nPečené jedlá;\nOvocie a zelenina (čerstvé\, sušené\, konzervované);\nTukové výrobky;\nSladkosti a cukrovinky;\nNealkoholické nápoje\, káva\, čaj;\nGastronomický turizmus a vínna turistika;\nDovozcovia a distribútori vína;\nŠpecialisti na nákup vína;\nŠpecializované predajne vína;\nVýrobcovia vína;\nProdukty a komponenty pre sektor Ho.Re.Ca;\nZariadenia pre hotely\, reštaurácie\, kaviarne;\nCukrárne\, pekárne a gastro predajne\, hotely a pod.;\nHotelierstvo: služby pre hotely a ubytovacie zariadenia\, inžinierska a architektonická činnosť\, dizajn;\nMarketing\, komunikácia a poradenstvo;\nObalové riešenia;\nPredajné automaty;\nInteriérový a exteriérový nábytok a dizajn;\nRiad;\nPočítačové systémy a softvér pre hotely a stravovacie služby;\nAudiovizuálne zariadenia a telekomunikácie.\n\n  \nÚčasť na kooperačnom podujatí je bezplatná. Počet účastníkov je limitovaný na 250\, preto sa zaregistrujte prosím čo najskôr! Pokiaľ by ste mali záujem o osobnú účasť na veľtrhu\, riaďte sa prosím informáciami o poplatkoch uvedenými na stránke veľtrhu.  \n  \nAko postupovať v prípade záujmu o B2B? \nZaregistrujte sa na b2match platforme podujatia\, vytvorte profil vašej spoločnosti\, nezabudnite na vyplnenie „Marketplace“ a vyberte TUKE ako vašu podpornú inštitúciu v časti „Settings“ v rámci položky „Support office“. Ďakujeme. Po vašej registrácii vám bude profil aktivovaný. Následne si môžete prezerať profily zaregistrovaných účastníkov a žiadať ich o stretnutia. \n\nTáto aktivita je financovaná Európskou komisiou a v rámci tejto aktivity sa vyžaduje spätná väzba o vašej účasti. Preto vás žiadame\, aby ste vášmu „Support office“ oznámili všetky nadviazané spolupráce\, ktoré uzavriete s inými účastníkmi kooperačného podujatia (aj mimo tejto platformy). Tieto informácie budú považované za dôverné. \n\nKontakt: Enterprise Europe Network pri UVP TECHNICOM\, e-mail: een@uvptechnicom.sk
URL:https://uvptechnicom.sk/event/kooperacne-podujatie-horeca-gastrofood-enoexpo-2023/
CATEGORIES:EEN podujatia,Kooperačné podujatia, veľtrhy, výstavy
ATTACH;FMTTYPE=image/png:https://uvptechnicom.sk/wp-content/uploads/2023/10/Kooperacne-podujatie-HORECA-GASTROFOOD-ENOEXPO-2023.png
END:VEVENT
BEGIN:VEVENT
DTSTART;VALUE=DATE:20231114
DTEND;VALUE=DATE:20231115
DTSTAMP:20260423T193214
CREATED:20231008T193852Z
LAST-MODIFIED:20231008T194038Z
UID:29556-1699920000-1700006399@uvptechnicom.sk
SUMMARY:Space Tech Expo B2B Matchmaking 2023
DESCRIPTION:Space Tech Expo & Conference Europe je najväčším európskym veľtrhom zameraným na vesmírne technológie. V rámci veľtrhu a konferencie vás partneri Enterprise Europe Network pozývajú na trojdňové kooperačné podujatie Space Tech Expo B2B Matchmaking 2023\, ktoré bude ich súčasťou. \nDátum konania: 14. – 16.11.2023Miesto konania: Bremen\, NemeckoRegistrácia otvorená do: 16.11.2023Prihláška: https://space-tech-expo-b2b-matchmaking23.b2match.io/registrationWeb stránka podujatia: https://space-tech-expo-b2b-matchmaking23.b2match.io/home \nVeľtrh je miestom pre stretnutia zainteresovaných strán pôsobiacich v oblasti vesmírneho podnikania\, technológií a inovácií a predstaví najnovšie poznatky od skúsených technických projektantov\, dodávateľov subsystémov\, výrobcov komponentov až po systémových integrátorov pre civilný\, vojenský a komerčný vesmír. \nPodujatie poskytne európskemu vesmírnemu priemyslu priestor pre návrh\, výrobu a testovanie vesmírnych lodí\, satelitov\, nosných rakiet a technológií súvisiacich s vesmírom\, na ktorom sa stretnú inžinieri\, vedúci predstavitelia priemyslu\, špecifikátori\, nákupcovia\, výrobcovia a globálni rozhodovatelia z celého dodávateľského reťazca. \nSpace Tech Expo B2B Matchmaking sa bude konať vo výstavnej hale 5 (B2B Matchmaking Area 1) a vo výstavnej hale 6 (B2B Matchmaking Area 2). \nPre účasť na veľtrhu The Space Tech Expo Europe je potrebná samostatná registrácia TU! \nAko postupovať\, ak máte záujem zúčastniť sa B2B? \nZaregistrujte sa na b2match platforme podujatia\, vytvorte profil vašej spoločnosti\, nezabudnite na vyplnenie „Marketplace“ a vyberte TUKE ako Vašu podpornú inštitúciu v časti „Settings“ v rámci položky „Support office“. Ďakujeme. Po vašej registrácii vám bude profil aktivovaný. Následne si môžete prezerať profily zaregistrovaných účastníkov a žiadať ich o stretnutia. \nTáto aktivita je financovaná Európskou komisiou a v rámci tejto aktivity sa vyžaduje spätná väzba o vašej účasti. Preto vás žiadame\, aby ste vášmu „Support office“ oznámili všetky nadviazané spolupráce\, ktoré uzavriete s inými účastníkmi kooperačného podujatia (aj mimo tejto platformy). Tieto informácie budú považované za dôverné. \nKontakt: Enterprise Europe Network pri UVP TECHNICOM\, e-mail: een@uvptechnicom.sk
URL:https://uvptechnicom.sk/event/space-tech-expo-b2b-matchmaking-2023/
CATEGORIES:EEN podujatia,Kooperačné podujatia, veľtrhy, výstavy
ATTACH;FMTTYPE=image/png:https://uvptechnicom.sk/wp-content/uploads/2023/10/space_tech_expo_b2b_matchmaking_2023_photo.png
END:VEVENT
BEGIN:VEVENT
DTSTART;VALUE=DATE:20231114
DTEND;VALUE=DATE:20231118
DTSTAMP:20260423T193214
CREATED:20230816T072314Z
LAST-MODIFIED:20230816T072438Z
UID:29007-1699920000-1700265599@uvptechnicom.sk
SUMMARY:Kooperačné podujatie ENERGY GLOBAL EXPO & CONGRESS
DESCRIPTION:Enterprise Europe Network vás pozýva na kooperačné podujatie\, ktoré sa uskutoční v rámci EGEC’23 so zameraním na aktuálne výzvy v oblasti energetiky a klímy\, na súčasnú energetickú transformáciu\, ako aj na technológie\, riešenia a nástroje na zmiernenie energetickej krízy a urýchlenie ekologickej transformácie. Prihlášky do 15. novembra 2023. \nDátum konania:14.-15.11.2023 – osobné stretnutia17.11.2023 – online stretnutia \nMiesto konania: Valenia\, Španielsko/online \nRegistrácia otvorená do: 15.11.2023 \nPrihláška: https://energy-global-expo-congress-b2b.b2match.io/signup \nWeb stránka podujatia: https://energy-global-expo-congress-b2b.b2match.io/ \nEGEC´23 Kongres predstavuje jedinečný priestor na nájdenie spolupráce\, synergií\, spoločných záujmov\, ktoré pomáhajú plánovať a rozvíjať nové projekty a riešenia. \nEGEC´23 Fórum predstavuje oveľa viac ako len výstavný a kongresový priestor. Ponúka množstvo aktivít a odborných stretnutí\, kde sa vytvára priestor pre nadväzovanie nových kontaktov a rozširovanie obchodu. \nZameranie podujatia: \n\nSkladovanie energie;\nVlastná spotreba;\nBiomasa;\nEnergetické komunity;\nDigitalizácia energie;\nEnergetická účinnosť;\nMorská energia;\nVietor;\nObnoviteľné plyny;\nHydraulika;\nMobilita;\nRopa/plyn;\nSolárna fotovoltika/ solárne termálne zariadenia;\nObnova energie\n\nPri vypĺňaní prihlášky si v rámci položky „Support office“ vyberte TUKE ako Vašu podpornú inštitúciu. Následne Vašu prihlášku obratom radi potvrdíme v registračnom systéme podujatia. Nezabudnite prosím na vyplnenie tzv. Marketplace. Ďakujeme. \nTáto aktivita je financovaná Európskou komisiou a v rámci tejto aktivity sa vyžaduje spätná väzba o vašej účasti. Preto vás žiadame\, aby ste vášmu „Support office“ oznámili všetky nadviazané spolupráce\, ktoré uzavriete s inými účastníkmi kooperačného podujatia (aj mimo tejto platformy). Tieto informácie budú považované za dôverné. \nKontakt: Enterprise Europe Network pri UVP TECHNICOM\, e-mail: een@uvptechnicom.sk
URL:https://uvptechnicom.sk/event/kooperacne-podujatie-energy-global-expo-congress/
CATEGORIES:EEN podujatia,Kooperačné podujatia, veľtrhy, výstavy
ATTACH;FMTTYPE=image/png:https://uvptechnicom.sk/wp-content/uploads/2023/08/kooperacne_podujatie_energy_global_expo_congress.png
END:VEVENT
END:VCALENDAR