BEGIN:VCALENDAR
VERSION:2.0
PRODID:-//UVP TECHNICOM - ECPv6.15.20//NONSGML v1.0//EN
CALSCALE:GREGORIAN
METHOD:PUBLISH
X-ORIGINAL-URL:https://uvptechnicom.sk
X-WR-CALDESC:Events for UVP TECHNICOM
REFRESH-INTERVAL;VALUE=DURATION:PT1H
X-Robots-Tag:noindex
X-PUBLISHED-TTL:PT1H
BEGIN:VTIMEZONE
TZID:Europe/Bratislava
BEGIN:DAYLIGHT
TZOFFSETFROM:+0100
TZOFFSETTO:+0200
TZNAME:CEST
DTSTART:20220327T010000
END:DAYLIGHT
BEGIN:STANDARD
TZOFFSETFROM:+0200
TZOFFSETTO:+0100
TZNAME:CET
DTSTART:20221030T010000
END:STANDARD
BEGIN:DAYLIGHT
TZOFFSETFROM:+0100
TZOFFSETTO:+0200
TZNAME:CEST
DTSTART:20230326T010000
END:DAYLIGHT
BEGIN:STANDARD
TZOFFSETFROM:+0200
TZOFFSETTO:+0100
TZNAME:CET
DTSTART:20231029T010000
END:STANDARD
BEGIN:DAYLIGHT
TZOFFSETFROM:+0100
TZOFFSETTO:+0200
TZNAME:CEST
DTSTART:20240331T010000
END:DAYLIGHT
BEGIN:STANDARD
TZOFFSETFROM:+0200
TZOFFSETTO:+0100
TZNAME:CET
DTSTART:20241027T010000
END:STANDARD
END:VTIMEZONE
BEGIN:VEVENT
DTSTART;VALUE=DATE:20231108
DTEND;VALUE=DATE:20231110
DTSTAMP:20260423T193142
CREATED:20230731T093345Z
LAST-MODIFIED:20230731T093548Z
UID:28938-1699401600-1699574399@uvptechnicom.sk
SUMMARY:Kooperačné podujatie MEET at The Greener Manufacturing Show 2023
DESCRIPTION:Pozývame vás na podujatie The Greener Manufacturing Show 2023\, ktoré je jedným z najdôležitejších veľtrhov v oblasti udržateľnej výroby. Prihlášky do 9. novembra 2023. \nDátum konania: 8.-9.11.2023Miesto konania: Kolín\, Nemecko (osobná účasť)Registrácia: do 9.11.2023 na https://gms2023.b2match.io/signupWeb stránka podujatia: https://gms2023.b2match.io/ \nSúčasťou veľtrhu je kooperačné podujatie MEET at The Greener Manufacturing Show 2023\, na ktorom máte príležitosť stretnúť potenciálnych obchodných partnerov počas vopred dohodnutých 1:1 stretnutí. Hlavným organizátorom kooperačného podujatie je sieť Enterprise Europe Network zo Severného Porýnia-Vestfálska. Účasť na kooperačnom podujatí je bezplatná. \nZameranie podujatia: \n\nUdržateľné materiály\, ako sú biopolyméry a bioplasty\, prírodné suroviny\, recyklované a druhotné suroviny\, lepidlá\, živice alebo mazivá a nátery na biologickej báze;\nZelené a udržateľné chemikálie\, ako sú chemikálie na biologickej báze\, obnoviteľné chemikálie\, rozpúšťadlá na biologickej báze\, biopalivá\, technológie biorafinérií\, technológie spracovania alebo laboratórne testovacie zariadenia;\nTovárenské riešenia\, ako sú umelá inteligencia\, blockchain\, internet vecí\, softvér na podávanie správ o udržateľnosti a životnom prostredí\, 3D tlač\, technológie automatizácie výroby alebo efektívne výrobné zariadenia;\nEnergia a zdroje\, ako sú mikrosiete\, skladovanie energie\, rekuperácia odpadového tepla\, výroba energie z odpadu\, systémy kombinovanej výroby tepla a elektriny\, technológie recyklácie vody alebo vodné hospodárstvo;\nZnižovanie emisií\, napríklad zachytávanie a ukladanie uhlíka\, technológie na kontrolu priemyselných emisií\, služby znižovania emisií uhlíka alebo spracovanie prchavých organických látok;\nObehové hospodárstvo\, ako sú riešenia pre obehovú výrobu\, riadenie výrobného odpadu\, analýza životného cyklu\, testovanie kompostovateľnosti\, hodnotenie obehovosti alebo hodnota odpadu.\n\nPrečo sa zúčastniť? \n\nMáte možnosť nájsť partnerov ponúkajúcich inovatívne riešenia a technológie;\nPríležitosť nájsť nových partnerov pre aplikáciu vašich ekologických technológií;\nSkontaktujte sa so zástupcami výskumných a vývojových projektov;\nZískajte kontakt na príslušné klastrové projekty\, sprostredkovateľov a sektorové sieťové združenia.\n\nZaregistrujte sa na podujatie\, vytvorte si profil a pri jeho vypĺňaní si v časti „Settings“ v rámci položky „Support office“ vyberte TUKE ako vašu podpornú inštitúciu. Následne vašu prihlášku obratom radi potvrdíme v registračnom systéme podujatia. Nezabudnite na vyplnenie tzv. Marketplace. Ďakujeme. \nKontakt: Enterprise Europe Network pri UVP TECHNICOM\, e-mail: een@uvptechnicom.sk
URL:https://uvptechnicom.sk/event/kooperacne-podujatie-meet-at-the-greener-manufacturing-show-2023/
CATEGORIES:EEN podujatia,Kooperačné podujatia, veľtrhy, výstavy
ATTACH;FMTTYPE=image/png:https://uvptechnicom.sk/wp-content/uploads/2023/07/kooperacne_podujatie_meet_at_the_greener_manufacturing_show_2023.png
END:VEVENT
BEGIN:VEVENT
DTSTART;VALUE=DATE:20231108
DTEND;VALUE=DATE:20231123
DTSTAMP:20260423T193142
CREATED:20231027T143038Z
LAST-MODIFIED:20231027T143100Z
UID:29694-1699401600-1700697599@uvptechnicom.sk
SUMMARY:Kooperačné podujatie HORECA\, GASTROFOOD\, ENOEXPO 2023
DESCRIPTION:Partneri siete Enterprise Europe Network pozývajú organizácie pôsobiace v oblasti gastronómie\, dodávateľov IT riešení a zariadení pre túto oblasť na online kooperačné podujatie HORECA\, GASTROFOOD\, ENOEXPO 2023. Prihlášky do 6.11.2023. \n\nDátum konania: 08. – 22.11.2023Miesto konania: onlineRegistrácia otvorená do: 6.11.2023Prihláška: https://horeca-gastrofood-enoexpo-2023.b2match.io/signupWeb stránka podujatia: https://horeca-gastrofood-enoexpo-2023.b2match.io/ \n\nKooperačné podujatie bude prebiehať počas 30. ročníka International Trade Fair of Hotel and Catering Equipment HORECA® v spolupráci s veľtrhom Food and Drinks for Catering Trade Fair GASTROFOOD®. \n  \nTematické zameranie podujatia: \n\nVýroba potravín a nápojov: tradičné\, ekologické\, “free from”\, funkčné atď.;\nMrazené potraviny\, zmrzliny;\nObilniny\, cestoviny\, výrobky z múky;\nPečené jedlá;\nOvocie a zelenina (čerstvé\, sušené\, konzervované);\nTukové výrobky;\nSladkosti a cukrovinky;\nNealkoholické nápoje\, káva\, čaj;\nGastronomický turizmus a vínna turistika;\nDovozcovia a distribútori vína;\nŠpecialisti na nákup vína;\nŠpecializované predajne vína;\nVýrobcovia vína;\nProdukty a komponenty pre sektor Ho.Re.Ca;\nZariadenia pre hotely\, reštaurácie\, kaviarne;\nCukrárne\, pekárne a gastro predajne\, hotely a pod.;\nHotelierstvo: služby pre hotely a ubytovacie zariadenia\, inžinierska a architektonická činnosť\, dizajn;\nMarketing\, komunikácia a poradenstvo;\nObalové riešenia;\nPredajné automaty;\nInteriérový a exteriérový nábytok a dizajn;\nRiad;\nPočítačové systémy a softvér pre hotely a stravovacie služby;\nAudiovizuálne zariadenia a telekomunikácie.\n\n  \nÚčasť na kooperačnom podujatí je bezplatná. Počet účastníkov je limitovaný na 250\, preto sa zaregistrujte prosím čo najskôr! Pokiaľ by ste mali záujem o osobnú účasť na veľtrhu\, riaďte sa prosím informáciami o poplatkoch uvedenými na stránke veľtrhu.  \n  \nAko postupovať v prípade záujmu o B2B? \nZaregistrujte sa na b2match platforme podujatia\, vytvorte profil vašej spoločnosti\, nezabudnite na vyplnenie „Marketplace“ a vyberte TUKE ako vašu podpornú inštitúciu v časti „Settings“ v rámci položky „Support office“. Ďakujeme. Po vašej registrácii vám bude profil aktivovaný. Následne si môžete prezerať profily zaregistrovaných účastníkov a žiadať ich o stretnutia. \n\nTáto aktivita je financovaná Európskou komisiou a v rámci tejto aktivity sa vyžaduje spätná väzba o vašej účasti. Preto vás žiadame\, aby ste vášmu „Support office“ oznámili všetky nadviazané spolupráce\, ktoré uzavriete s inými účastníkmi kooperačného podujatia (aj mimo tejto platformy). Tieto informácie budú považované za dôverné. \n\nKontakt: Enterprise Europe Network pri UVP TECHNICOM\, e-mail: een@uvptechnicom.sk
URL:https://uvptechnicom.sk/event/kooperacne-podujatie-horeca-gastrofood-enoexpo-2023/
CATEGORIES:EEN podujatia,Kooperačné podujatia, veľtrhy, výstavy
ATTACH;FMTTYPE=image/png:https://uvptechnicom.sk/wp-content/uploads/2023/10/Kooperacne-podujatie-HORECA-GASTROFOOD-ENOEXPO-2023.png
END:VEVENT
BEGIN:VEVENT
DTSTART;TZID=Europe/Bratislava:20231108T140000
DTEND;TZID=Europe/Bratislava:20231108T180000
DTSTAMP:20260423T193142
CREATED:20230818T181023Z
LAST-MODIFIED:20231024T214915Z
UID:29025-1699452000-1699466400@uvptechnicom.sk
SUMMARY:Predaj a marketing (UVP Bootcamp)
DESCRIPTION:
URL:https://uvptechnicom.sk/event/biznis-model-uvp-bootcamp-2/
LOCATION:UVP TECHNICOM\, Boženy Němcovej 5\, Košice\, Slovakia (Slovak Republic)
CATEGORIES:UVP a TUKE
ATTACH;FMTTYPE=image/jpeg:https://uvptechnicom.sk/wp-content/uploads/2023/08/digital-marketing-1433427_1280.jpg
END:VEVENT
END:VCALENDAR