BEGIN:VCALENDAR
VERSION:2.0
PRODID:-//UVP TECHNICOM - ECPv6.15.20//NONSGML v1.0//EN
CALSCALE:GREGORIAN
METHOD:PUBLISH
X-WR-CALNAME:UVP TECHNICOM
X-ORIGINAL-URL:https://uvptechnicom.sk
X-WR-CALDESC:Events for UVP TECHNICOM
REFRESH-INTERVAL;VALUE=DURATION:PT1H
X-Robots-Tag:noindex
X-PUBLISHED-TTL:PT1H
BEGIN:VTIMEZONE
TZID:Europe/Bratislava
BEGIN:DAYLIGHT
TZOFFSETFROM:+0100
TZOFFSETTO:+0200
TZNAME:CEST
DTSTART:20220327T010000
END:DAYLIGHT
BEGIN:STANDARD
TZOFFSETFROM:+0200
TZOFFSETTO:+0100
TZNAME:CET
DTSTART:20221030T010000
END:STANDARD
BEGIN:DAYLIGHT
TZOFFSETFROM:+0100
TZOFFSETTO:+0200
TZNAME:CEST
DTSTART:20230326T010000
END:DAYLIGHT
BEGIN:STANDARD
TZOFFSETFROM:+0200
TZOFFSETTO:+0100
TZNAME:CET
DTSTART:20231029T010000
END:STANDARD
BEGIN:DAYLIGHT
TZOFFSETFROM:+0100
TZOFFSETTO:+0200
TZNAME:CEST
DTSTART:20240331T010000
END:DAYLIGHT
BEGIN:STANDARD
TZOFFSETFROM:+0200
TZOFFSETTO:+0100
TZNAME:CET
DTSTART:20241027T010000
END:STANDARD
END:VTIMEZONE
BEGIN:VEVENT
DTSTART;VALUE=DATE:20231106
DTEND;VALUE=DATE:20231107
DTSTAMP:20260423T193056
CREATED:20230323T215935Z
LAST-MODIFIED:20230323T220344Z
UID:27222-1699228800-1699315199@uvptechnicom.sk
SUMMARY:WCM (World Class Manufacturing) mission in Japan
DESCRIPTION:Centrum pre priemyselnú spoluprácu medzi EÚ a Japonskom po dvoch rokoch opäť spúšťa svoje misie WCM v Japonsku! \nOd prvého ročníka v roku 1992 sa na tomto praktickom školení zúčastnilo viac ako 900 účastníkov zo všetkých členských štátov EÚ. \nPäťdňová školiaca misia World Class Manufacturing poskytuje hĺbkovú analýzu japonskej výrobnej metodiky a je určená výlučne manažérom z EÚ so znalosťami o WCM a technickým vzdelaním. \nPomáha účastníkom lepšie pochopiť postupy TQC (Total Quality Control)\, TQM (Total Quality Management)\, TPM (Total Productive Maintenance)\, JIT (Just In Time)\, TIE (Total Industrial Engineering) a súčasné výrobné metódy KAIZEN. \nŠkolenie pozostáva z prednášok\, workshopov a návštev niektorých z najvyspelejších továrni na svete v Japonsku s cieľom pochopiť skutočnú “Gembu” (výrobné miesto)\, hovoriť priamo s ich výrobnými manažérmi a pozorovať efektívne zavádzanie výrobných metód. Tento kurz poskytne jeho účastníkom podrobné pochopenie súčasných japonských prístupov\, ktoré si môžu prispôsobiť a napomôcť tak svojim spoločnostiam. \nNajbližšie školenie: 6.-10. november 2023 \nTermín pre podávanie prihlášok: do 7. júna 2023 \nRegistrácia na https://forms.eu-japan.eu/230643687347363 \nKto sa môže zúčastniť: \n\nZamestnanci organizácií\, ktorí majú dôležitú strategickú úlohu vo firme ako napr. riaditelia\, manažéri\, vedúci prevádzky a logistiky\, vedúci závodu\, vedúci kvality alebo generálni riaditelia atď.)\nZáujemca musí pracovať pre organizáciu\, ktorá je právnickou osobou so sídlom v EÚ alebo partnerskej krajine COSME\, alebo na Ukrajine\nZáujemca musí byť podporovaný svojím zamestnávateľom\, musí byť schopný zúčastniť sa na celom programe\, musí dobre ovládať anglický jazyk a mať znalosti a prax v oblasti excelentnej výroby\nPrihlásiť sa môžu záujemcovia z akéhokoľvek priemyselného odvetvia\n\nPočet účastníkov je limitový a výber sa uskutoční na základe týchto kritérií: \n\nodborné a vzdelanostné predpoklady uchádzača\nstratégia spoločnosti účastníka týkajúca sa implementácie metodík WCM\n\nOblasť činnosti nie je dôležitá\, avšak uchádzači z poradenského sektora budú mať pri výbere nižšiu prioritu. \n\nProgram: \nŠtudijný blok I: prednášky\, semináre a panelové diskusie\, ktoré budú prednášať odborníci z japonského priemyslu na témy ako: \n– Skrátenie času realizácie prostredníctvom zefektívnenia tokov informácií a výrobkov – Zavedenie politiky\, riadenie ľudských zdrojov a osvedčené postupy motivácie zamestnancov – Neustále zlepšovanie služieb zákazníkom podporované WCM – Štíhle myslenie a prístup WCM v Japonsku – TQC\, TQM\, TPM\, JIT a TIE – Atraktívna tvorba kvality – Vyrovnaný výrobný systém – Variabilita výrobku – Množstevná výroba na uspokojenie kolísania dopytu – Synchronizovaný výrobný systém (od objednávky po dodávku) – Flexibilná výroba realizovaná QCD – Zlepšenie celkovej výrobnej kapacity. \nŠtudijný blok II: návštevy podnikov – príprava na návštevy podnikov a preskúmanie po návšteve. \nMedzi odvetvia činnosti spoločností\, ktoré sa majú navštíviť\, patria okrem iného: – chemické výrobky a plasty – strojárstvo – výrobky z ocele – automobilový priemysel \nCieľová skupina: Ľudia s technickým alebo vedeckým vzdelaním\, ktorí sú schopní ovplyvňovať výrobnú stratégiu svojej spoločnosti\, alebo rovnocenné osoby. \nÚčastnícky poplatok – zrušenie \nCentrum EU-Japonsko hradí všetky náklady priamo súvisiace s misiou WCM\, ktoré zahŕňajú: \n\nnávštevy niektorých z najmodernejších tovární na svete v Japonsku\nmiesto konania seminárov a skupinových diskusií\nautobusovú dopravu z jedného pracoviska na druhé\n\nÚčastníci si hradia cestovné náklady a náklady na ubytovanie. Pred začiatkom misie sú povinní zaplatiť zálohu vo výške 1 000 EUR\, ktorá im zaručí miesto na misii (po skončení misie v Japonsku bude MSP a startupom záloha vrátená). \nV prípade\, že záloha nebude prevedená do termínu stanoveného centrom\, môže byť ponuka miesta zrušená. Záloha bude vrátená do týždňa po ukončení misie. \nBližšie informácie na https://www.eu-japan.eu/events/world-class-manufacturing-mission-I
URL:https://uvptechnicom.sk/event/wcm-world-class-manufacturing-mission-in-japan/
CATEGORIES:EEN podujatia
ATTACH;FMTTYPE=image/jpeg:https://uvptechnicom.sk/wp-content/uploads/2023/03/pipes-1875808_1280.jpg
END:VEVENT
END:VCALENDAR