BEGIN:VCALENDAR
VERSION:2.0
PRODID:-//UVP TECHNICOM - ECPv6.15.20//NONSGML v1.0//EN
CALSCALE:GREGORIAN
METHOD:PUBLISH
X-WR-CALNAME:UVP TECHNICOM
X-ORIGINAL-URL:https://uvptechnicom.sk
X-WR-CALDESC:Events for UVP TECHNICOM
REFRESH-INTERVAL;VALUE=DURATION:PT1H
X-Robots-Tag:noindex
X-PUBLISHED-TTL:PT1H
BEGIN:VTIMEZONE
TZID:Europe/Bratislava
BEGIN:DAYLIGHT
TZOFFSETFROM:+0100
TZOFFSETTO:+0200
TZNAME:CEST
DTSTART:20220327T010000
END:DAYLIGHT
BEGIN:STANDARD
TZOFFSETFROM:+0200
TZOFFSETTO:+0100
TZNAME:CET
DTSTART:20221030T010000
END:STANDARD
BEGIN:DAYLIGHT
TZOFFSETFROM:+0100
TZOFFSETTO:+0200
TZNAME:CEST
DTSTART:20230326T010000
END:DAYLIGHT
BEGIN:STANDARD
TZOFFSETFROM:+0200
TZOFFSETTO:+0100
TZNAME:CET
DTSTART:20231029T010000
END:STANDARD
BEGIN:DAYLIGHT
TZOFFSETFROM:+0100
TZOFFSETTO:+0200
TZNAME:CEST
DTSTART:20240331T010000
END:DAYLIGHT
BEGIN:STANDARD
TZOFFSETFROM:+0200
TZOFFSETTO:+0100
TZNAME:CET
DTSTART:20241027T010000
END:STANDARD
END:VTIMEZONE
BEGIN:VEVENT
DTSTART;VALUE=DATE:20231016
DTEND;VALUE=DATE:20231031
DTSTAMP:20260423T210442
CREATED:20230616T115124Z
LAST-MODIFIED:20230616T115210Z
UID:28610-1697414400-1698710399@uvptechnicom.sk
SUMMARY:VIRTUAL BROKERAGE EVENT @ INNOVATION VILLAGE 2023
DESCRIPTION:Pozývame vás na virtuálne sprostredkovateľské podujatie VIRTUAL BROKERAGE EVENT @ INNOVATION VILLAGE 2023 so zameraním na nové technológie a riešenia pre dosiahnutie takzvaného “dvojitého” (zeleného a digitálneho) prechodu na bezuhlíkové\, bezodpadové hospodárstvo. Podujatie sa koná v rámci Innovation Village 2023  Prihlášky do 15.10.2023. \n\nDátum konania: 16.– 30. október 2023Miesto konania: Taliansko/on-lineRegistrácia otvorená do: 15. október 2023Prihláška: https://innovation-village-2023.b2match.io/signupWeb stránka podujatia: https://innovation-village-2023.b2match.io/ \n\nZameranie podujatia: \n\nLetecký priemysel\, Udržateľná mobilita\, Logistika\, Inteligentné mestá\nKultúrne dedičstvo\, Cestovný ruch\, Kreatívny priemysel\, Sociálne inovácie\, Digitálne vzdelávanie\nDigitálne technológie a aplikácie pre šport\nEnergia\, Životné prostredie\, Udržateľná výstavba\, Modrý rast\nPotraviny\, Udržateľné poľnohospodárstvo\, Agritech\nBiologické vedy\, Biotechnológie a Zdravotníctvo\nNové materiály\, Pokročilé materiály\, Digitálna výroba\nInteligentné technológie\, Robotika\, Internet vecí\, IKT\, Umelá inteligencia\, Blockchain a kvantová výpočtová technika\n\nPodujatie je určené pre súkromné ​​spoločnosti\, MSP\, Start-upy\, Spin-offy\, výskumné centrá\, univerzity\, zainteresované strany so záujmom nájsť nových obchodných či technologických partnerov\, so záujmom rozšíriť svoje podnikanie do zahraničia\, prezentovať svoje nové nápady a projekty a pod. \nÚčasť na podujatí je bezplatná\, ale registrácia a aktivácia profilu sú povinné. Preto pri vypĺňaní prihlášky si v časti „Settings“ v rámci položky „Support office“ vyberte TUKE ako Vašu podpornú inštitúciu. Následne Vašu prihlášku obratom radi potvrdíme v registračnom systéme podujatia. Nezabudnite na vyplnenie tzv. Marketplace. Ďakujeme. \n\nKontakt: Enterprise Europe Network pri UVP TECHNICOM\, e-mail: een@uvptechnicom.sk
URL:https://uvptechnicom.sk/event/virtual-brokerage-event-innovation-village-2023/
CATEGORIES:EEN podujatia,Kooperačné podujatia, veľtrhy, výstavy
ATTACH;FMTTYPE=image/jpeg:https://uvptechnicom.sk/wp-content/uploads/2023/06/VIRTUAL-BROKERAGE-EVENT-@-INNOVATION-VILLAGE-2023.jpg
END:VEVENT
BEGIN:VEVENT
DTSTART;VALUE=DATE:20231023
DTEND;VALUE=DATE:20231027
DTSTAMP:20260423T210442
CREATED:20230822T112814Z
LAST-MODIFIED:20230822T113238Z
UID:29080-1698019200-1698364799@uvptechnicom.sk
SUMMARY:Ulysseus – DaNang Education\, Research & Innovation Forum
DESCRIPTION:Cieľom Európskej univerzity Ulysseus je nadväzovať spoluprácu aj mimo priestoru Európskej únie. Jedným z krokov je vytvorenie úzkej výskumnej spolupráce s Univerzitou DaNang vo Vietname. Výskumníci z TUKE\, ktorá je členom aliancie Ulysseus\, majú možnosť zúčastniť sa spoločného podujatia Ulysseus – DaNang Education\, Research & Innovation Forum\, ktoré sa bude konať v termíne 23. až 26. októbra 2023. Zámerom fóra je definovať oblasti výskumnej spolupráce s cieľom prípravy spoločných medzinárodných projektov v nasledujúcich témach: \n\nGreen Urbanism and Smart City\nArtificial Intelligence\nData Collection\, Usage\, Analysis\, Curation\, Transmission and Policies\nSustainable Tourism\, Art and Heritage\nSustainable Energy\nSmart Education\nInnovation and Entrepreneurship\nEnvironment and Agriculture\nFood and Public Health\n\n			\n				\n				\n				\n				\n				\n			\n				\n				\n				\n				\n				Program bude zahŕňať návštevu odborných pracovísk Univerzity DaNang\, plenárnu prezentáciu možných spoločných výskumných tém a co-creation workshop jednotlivých tematických pracovných skupín s cieľom definovať spoločné projektové zámery. \nNáklady spojené s cestou budú vybraným výskumníkom\, ktorí sa podujatia zúčastnia\, preplatené z projektu Ulysseus. V prípade záujmu pripojiť sa k delegácii\, je potrebné vyplniť tento formulár najneskôr do 25.8.2023. Bez vyplnenia formulára nie je možné vziať prípadný záujem výskumníka do úvahy. Finálny výber kandidátov bude selektovaný príslušnými prodekanmi fakúlt. \nViac informácií o podujatí: Ing. Tomáš Pavlik\, PhD. (tomas.pavlik@uvptechnicom.sk) \nEurópska univerzita Ulysseus podpísala v júni 2023 s Univerzitou DaNang memorandum o spolupráci\, ktoré znamená otvorenie spolupráce v oblasti vzdelávania\, výskumu a ďalších spoločných aktivít. Ďalšie informácie: ulysseus.eu/sk/news/internationalization-danang-laval/. \nAliancia európskych univerzít Ulysseus\nAliancia Ulysseus\, jedna zo 44 európskych univerzít vybraných Európskou komisiou za univerzity budúcnosti\, otvára možnosti pre študentov\, učiteľov a výskumníkov z partnerských univerzít pre ich vzdelávanie\, vzájomné mobility a nové špičkové výskumné projekty  Aliancia vznikla v roku 2020 a jej členmi sú Univerzita v  Seville (Španielsko\, koordinátor aliancie)\, Univerzita v Janove (Taliansko)\, Univerzita Côte d’Azur (Francúzsko)\, Technická univerzita v Košiciach\, univerzita MCI | The Entrepreneurial School® (Rakúsko) a Univerzita aplikovaných vied Haaga-Helia (Fínsko). Od novembra 2023 sa Európska univerzita Ulysseus rozširuje o dvoch nových členov: Univerzitu v Münsteri (Nemecko) a Univerzitu Čierna Hora (Čierna Hora). \nĎalšie informácie o aliancii Ulysseus: www.ulysseus.eu
URL:https://uvptechnicom.sk/event/ulysseus-danang-education-research-innovation-forum/
LOCATION:Univerzity DaNang\, Da Nang\, Viet Nam
CATEGORIES:Odporúčame účasť
ATTACH;FMTTYPE=image/jpeg:https://uvptechnicom.sk/wp-content/uploads/2023/08/view-2843338_1280.jpg
END:VEVENT
BEGIN:VEVENT
DTSTART;VALUE=DATE:20231026
DTEND;VALUE=DATE:20231028
DTSTAMP:20260423T210442
CREATED:20230816T072422Z
LAST-MODIFIED:20230816T072537Z
UID:29010-1698278400-1698451199@uvptechnicom.sk
SUMMARY:Kooperačné podujatie Chem-Match: Corporates meet Startups 2023 "Green & Digital"
DESCRIPTION:Pozývame organizácie pôsobiace v oblasti chemického priemyslu a startupy na kooperačné podujatie Chem-Match: Corporates meet Startups 2023 “Green & Digital”\, ktoré sa bude konať v rámci konferencie CIEX Europe 2023. Prihlášky do 27. októbra 2023. \nDátum konania: 26.-27.10.2023Miesto konania: Frankfurt\, Nemecko/onlinePrihláška: https://chem-match2023.b2match.io/signupWeb stránka podujatia: https://chem-match2023.b2match.io/home \nCieľom kooperačného podujatia je spájať korporácie so startupmi pôsobiacimi v oblasti chémie\, biotechnológie\, bioelektroniky\, environmentálnych technológií a udržateľnosti\, riadenia digitálnych procesov a digitálnych inovácií. \nÚčasť na kooperačnom podujatí je pre všetky spoločnosti bezplatná. Okrem toho má 10 startupov s potvrdenými stretnutiami možnosť získať bezplatný vstup na konferenciu CIEX Europe 2023 v dňoch 25. a 26. októbra 2023. \nOrganizácia podujatia: \nŠtvrtok\, 26. októbra 2023 \n08:00 – 08:30   Check-in na podujatie Chem-Match 2023 \n08:30 – 10:30   Osobné stretnutia  (6 slotov po 20 min.) \n12:45 – 13:45   Online stretnutia (3 sloty po 20 min.) \n17:30 – 18:30   Online stretnutia (3 sloty po 20 min.) \nPiatok\, 27. októbra 2023 \n09:00 – 13:00   Online stretnutia (12 slotov po 20 min.) \n13:00 – 16:00   Online stretnutia (9 slotov po 20 min.) \nOnline stretnutia budú prebiehať prostredníctvom b2match platformy. Nie je potrebný žiaden ďalší softvér\, iba aktuálny webový prehliadač (odporúčame Google Chrome alebo Edge)\, mikrofón a web kamera. \nŠpeciálne podmienky pre startupy \nStartupy s akceptovanými stretnutiami môžu získať benefit bezplatnej účasti na konferencii CIEX v dňoch 25. a 26. októbra. Priestor je obmedzený a preto túto možnosť má 10 startupov (1 účastník na firmu) s najvyšším počtom akceptovaných stretnutí. \nPri registrácii na kooperačné podujatie si v časti „Settings“ v rámci položky „Support office“ vyberte TUKE ako Vašu podpornú inštitúciu. Následne Vašu prihlášku obratom radi potvrdíme v registračnom systéme podujatia. Nezabudnite na vyplnenie tzv. Marketplace. Ďakujeme. \nTáto aktivita je financovaná Európskou komisiou a v rámci tejto aktivity sa vyžaduje spätná väzba o vašej účasti. Preto vás žiadame\, aby ste vášmu „Support office“ oznámili všetky nadviazané spolupráce\, ktoré uzavriete s inými účastníkmi kooperačného podujatia (aj mimo b2match platformy). Tieto informácie budú považované za dôverné. \nAk sa chcete zúčastniť konferencie CIEX 2023\, môžete sa prihlásiť TU. Všetky začínajúce podniky majú vstupné s 30% zľavou. Pre viac informácií kontaktujte organizátorov konferencie CIEX Europe 2023 na jens@merlien.org. \nKontakt: Enterprise Europe Network pri UVP TECHNICOM\, email: een@uvptechnicom.sk
URL:https://uvptechnicom.sk/event/kooperacne-podujatie-chem-match-corporates-meet-startups-2023-green-digital/
CATEGORIES:EEN podujatia,Kooperačné podujatia, veľtrhy, výstavy
ATTACH;FMTTYPE=image/png:https://uvptechnicom.sk/wp-content/uploads/2023/08/kooperacne_podujatie_chem-match_0.png
END:VEVENT
BEGIN:VEVENT
DTSTART;VALUE=DATE:20231026
DTEND;VALUE=DATE:20231027
DTSTAMP:20260423T210442
CREATED:20231008T193850Z
LAST-MODIFIED:20231008T194032Z
UID:29555-1698278400-1698364799@uvptechnicom.sk
SUMMARY:The International Matchmaking Event 2023 - Ready for change?
DESCRIPTION:Enterprise Europe Network vás pozýva na kooperačné podujatie The International Matchmaking Event 2023 – “Ready for Change?\, ktoré sa uskutoční v rámci 13. ročníka Európskeho kongresu malých a stredných podnikov. \nDátum konania: 26. – 27.10.2023Miesto konania: Katowice\, Poľsko/onlineRegistrácia otvorená do: 25.10.2023Prihláška: https://katowice-b2b-2023.b2match.io/signupWeb stránka podujatia: https://katowice-b2b-2023.b2match.io/ \nTohtoročný kongres MSP bude zameraný na najdôležitejšie zmeny a výzvy ovplyvňujúce dnešný svet a ich dôsledky\, ktoré majú vplyv na podnikateľov pôsobiacich v Európe. Medzi takéto zmeny patria napríklad cudzinci na trhu práce; umelá inteligencia v procese náboru zamestnancov; starnutie ekonomiky; veľká čipová vojna\, nový zvrat v súperení veľmocí; riadenie podniku v nestabilnom ekonomickom prostredí; nové modely vzdelávania vo svete; kľúčové právne zmeny v roku 2024; kryptomeny – výstrelok alebo budúcnosť peňazí; príležitosti a výzvy finančnej perspektívy EÚ na roky 2021 – 2027\, bezpečné investovanie v čase zmien; inteligentná doprava a logistika; bezpečnosť medzinárodných dohôd. \nB2B stretnutia\, ktoré vám kooperačné podujatie umožňuje sú skvelou príležitosťou ako prepojiť všetky zainteresované strany (podniky\, klastre\, univerzity a iné) z celej Európy s cieľom nájsť alternatívne spôsoby\, ako (znovu) vybudovať dodávateľský reťazec\, nájsť spoľahlivých partnerov a posilniť obchodné vzťahy v súčasnom prostredí ovplyvnenom dôsledkami Covid 19 či vojnou na Ukrajine. \nÚčasť je BEZPLATNÁ A NIE JE OBMEDZENÁ NA KONKRÉTNE SEKTORY. \nPrečo sa zúčastniť? Podujatie môže byť pre vás zaujímavé\, ak hľadáte: \n\nvýrobcov\, subdodávateľov;\nHR\, ponuka práce;\nmateriály\, zásoby;\nobchodných partnerov\, projektové výzvy;\nfinancie\, záujem o predaj firmy;\nvývoj produktov\, inovácie a pod.\n\nAko postupovať? \nZaregistrujte sa na b2match platforme podujatia\, vytvorte profil vašej spoločnosti\, nezabudnite na vyplnenie „Marketplace“ a vyberte TUKE ako Vašu podpornú inštitúciu v časti „Settings“ v rámci položky „Support office“. Ďakujeme. Po vašej registrácii vám bude profil aktivovaný. Následne si môžete prezerať profily zaregistrovaných účastníkov a žiadať ich o stretnutia. \nTáto aktivita je financovaná Európskou komisiou a v rámci tejto aktivity sa vyžaduje spätná väzba o vašej účasti. Preto vás žiadame\, aby ste vášmu „Support office“ oznámili všetky nadviazané spolupráce\, ktoré uzavriete s inými účastníkmi kooperačného podujatia (aj mimo tejto platformy). Tieto informácie budú považované za dôverné. \nKontakt: Enterprise Europe Network pri UVP TECHNICOM\, e-mail: een@uvptechnicom.sk
URL:https://uvptechnicom.sk/event/the-international-matchmaking-event-2023-ready-for-change/
CATEGORIES:EEN podujatia,Kooperačné podujatia, veľtrhy, výstavy
ATTACH;FMTTYPE=image/jpeg:https://uvptechnicom.sk/wp-content/uploads/2023/10/ready_for_change_2023.jpg
END:VEVENT
END:VCALENDAR