BEGIN:VCALENDAR
VERSION:2.0
PRODID:-//UVP TECHNICOM - ECPv6.15.20//NONSGML v1.0//EN
CALSCALE:GREGORIAN
METHOD:PUBLISH
X-WR-CALNAME:UVP TECHNICOM
X-ORIGINAL-URL:https://uvptechnicom.sk
X-WR-CALDESC:Events for UVP TECHNICOM
REFRESH-INTERVAL;VALUE=DURATION:PT1H
X-Robots-Tag:noindex
X-PUBLISHED-TTL:PT1H
BEGIN:VTIMEZONE
TZID:Europe/Bratislava
BEGIN:DAYLIGHT
TZOFFSETFROM:+0100
TZOFFSETTO:+0200
TZNAME:CEST
DTSTART:20220327T010000
END:DAYLIGHT
BEGIN:STANDARD
TZOFFSETFROM:+0200
TZOFFSETTO:+0100
TZNAME:CET
DTSTART:20221030T010000
END:STANDARD
BEGIN:DAYLIGHT
TZOFFSETFROM:+0100
TZOFFSETTO:+0200
TZNAME:CEST
DTSTART:20230326T010000
END:DAYLIGHT
BEGIN:STANDARD
TZOFFSETFROM:+0200
TZOFFSETTO:+0100
TZNAME:CET
DTSTART:20231029T010000
END:STANDARD
BEGIN:DAYLIGHT
TZOFFSETFROM:+0100
TZOFFSETTO:+0200
TZNAME:CEST
DTSTART:20240331T010000
END:DAYLIGHT
BEGIN:STANDARD
TZOFFSETFROM:+0200
TZOFFSETTO:+0100
TZNAME:CET
DTSTART:20241027T010000
END:STANDARD
END:VTIMEZONE
BEGIN:VEVENT
DTSTART;VALUE=DATE:20231006
DTEND;VALUE=DATE:20231007
DTSTAMP:20260423T210345
CREATED:20230614T191708Z
LAST-MODIFIED:20230614T191904Z
UID:28568-1696550400-1696636799@uvptechnicom.sk
SUMMARY:Kooperačné podujatie FARMAFORUM 2023
DESCRIPTION:Enterprise Europe Network vás pozýva na kooperačné podujatie FARMAFORUM 2023 so zameraním na tieto oblasti: farmaceutika\, biofarma\, kozmetika\, biotechnológie\, laboratórne technológie a výskum. Prihlášky do 20.9.2023. \nDátum konania: 21.9.2023 (onsite); 6.10.2023 (online)Miesto konania: Madrid\, ŠpanielskoRegistrácia: https://farmaforum2023.b2match.io/signupWeb stránka podujatia: https://farmaforum2023.b2match.io/ \nCieľom kooperačného podujatia\, ktoré sa uskutoční v rámci medzinárodných kongresov FARMAFORUM\, COSMETICAFORUM a HEALTH&RESEARCH FORUM 2023\, je výmena informácií medzi potenciálnymi technologickými partnermi z celého sveta. \nProstredníctvom b2match platformy majú zástupcovia výskumných ústavov\, univerzít a ďalších organizácií príležitosť vopred si dohodnúť stretnutia\, ktoré budú prebiehať nielen online ale aj osobne v Madride. \nZameranie podujatia: \n\nFarmaceutika\nZdravie\nKozmetika\nBiopriemysel\nBiotechnológie v kozmetike\nSúvisiace odvetvia: logistika\, nariadenia/predpisy\, kvalita a výroba\n\nPre koho je podujatie určené: \n\nFarmaceutické a kozmetické spoločnosti\nBiotechnologický\, diagnostický priemysel a priemysel klinických skúšok\nDodávatelia laboratórií\nUniverzity\, ústavy a iné organizácie hľadajúce obchodných\, technologických alebo výskumných partnerov z Európy a mimo nej\n\nDôležité termíny: \n\nRegistrácia: 16.5.2023 – 20.9.2023\nVýber stretnutí: 1.6.2023 – 21.9.2023\nOnsite účasť: 21.9.2023\, 10:30 – 18:00\, IFEMA – Pavilón 14\, Madrid\nOnline účasť: 6.10.2023\, 10:30 – 18:00\nJazyk: angličtina\, španielčina\n\nÚčasť na podujatí je bezplatná\, ale registrácia a aktivácia profilu sú povinné. Preto pri vypĺňaní prihlášky si v časti „Settings“ v rámci položky „Support office“ vyberte TUKE ako Vašu podpornú inštitúciu. Následne Vašu prihlášku obratom radi potvrdíme v registračnom systéme podujatia. Nezabudnite na vyplnenie tzv. Marketplace. Ďakujeme. \nKontakt: Enterprise Europe Network pri UVP TECHNICOM\, email: een@uvptechnicom.sk
URL:https://uvptechnicom.sk/event/kooperacne-podujatie-farmaforum-2023/
CATEGORIES:EEN podujatia,Kooperačné podujatia, veľtrhy, výstavy
ATTACH;FMTTYPE=image/jpeg:https://uvptechnicom.sk/wp-content/uploads/2023/06/kooperacne_podujatie_farmaforum_2023.jpg
END:VEVENT
END:VCALENDAR