BEGIN:VCALENDAR
VERSION:2.0
PRODID:-//UVP TECHNICOM - ECPv6.15.20//NONSGML v1.0//EN
CALSCALE:GREGORIAN
METHOD:PUBLISH
X-ORIGINAL-URL:https://uvptechnicom.sk
X-WR-CALDESC:Events for UVP TECHNICOM
REFRESH-INTERVAL;VALUE=DURATION:PT1H
X-Robots-Tag:noindex
X-PUBLISHED-TTL:PT1H
BEGIN:VTIMEZONE
TZID:Europe/Bratislava
BEGIN:DAYLIGHT
TZOFFSETFROM:+0100
TZOFFSETTO:+0200
TZNAME:CEST
DTSTART:20220327T010000
END:DAYLIGHT
BEGIN:STANDARD
TZOFFSETFROM:+0200
TZOFFSETTO:+0100
TZNAME:CET
DTSTART:20221030T010000
END:STANDARD
BEGIN:DAYLIGHT
TZOFFSETFROM:+0100
TZOFFSETTO:+0200
TZNAME:CEST
DTSTART:20230326T010000
END:DAYLIGHT
BEGIN:STANDARD
TZOFFSETFROM:+0200
TZOFFSETTO:+0100
TZNAME:CET
DTSTART:20231029T010000
END:STANDARD
BEGIN:DAYLIGHT
TZOFFSETFROM:+0100
TZOFFSETTO:+0200
TZNAME:CEST
DTSTART:20240331T010000
END:DAYLIGHT
BEGIN:STANDARD
TZOFFSETFROM:+0200
TZOFFSETTO:+0100
TZNAME:CET
DTSTART:20241027T010000
END:STANDARD
END:VTIMEZONE
BEGIN:VEVENT
DTSTART;VALUE=DATE:20230920
DTEND;VALUE=DATE:20230929
DTSTAMP:20260423T224939
CREATED:20230702T160251Z
LAST-MODIFIED:20230702T160409Z
UID:28672-1695168000-1695945599@uvptechnicom.sk
SUMMARY:Kooperačné podujatie SIDO 2023
DESCRIPTION:Enterprise Europe Network pri UVP Technicom vás pozýva na kooperačné podujatie SIDO 2023 so zameraním na oblasť internetu vecí (IoT)\, umelej inteligencie (AI)\, robotiky a rozšírenej reality (XR). Prihlášky do 4. októbra 2023. \n\nDátum konania: \n20.-21.9.2023  osobné stretnutia v meste Lyon27.-28.9.2023  online stretnutia \nMiesto konania: Lyon\, Francúzsko/online \nRegistrácia otvorená do: do 4.10.2023Prihláška: https://sido-2023.b2match.io/signupWeb stránka podujatia:  https://sido-2023.b2match.io/homeWeb stránka veľtrhu: https://www.sido-lyon.com/en/ \n\nPodujatie je určené pre všetky typy spoločnosti a inštitúcie z oblasti výskumu a vývoja. Prináša jedinečnú príležitosť stretnúť sa s odborníkmi a startupmi pôsobiacimi v oblasti internetu vecí\, umelej inteligencie\, robotických riešení a zmiešanej/rozšírenej/virtuálnej reality. \n\nÚčasť na kooperačnom podujatí je bezplatná. Zaregistrujte sa na b2match platforme podujatia\, vytvorte profil vašej spoločnosti\, nezabudnite na vyplnenie „Marketplace“ a vyberte TUKE ako Vašu podpornú inštitúciu v časti „Settings“ v rámci položky „Support office“. Ďakujeme. Po vašej registrácii vám bude profil aktivovaný. Následne si môžete prezerať profily zaregistrovaných účastníkov a žiadať ich o stretnutia. \nZúčastnite sa aj ďalších aktivít SIDO 2023 – čakajú na vás inšpiratívne keynotes\, workshopy a objavte najnovšie trendy v odvetviach IoT\, AI\, robotiky a XR. \nNa predvádzací priestor a ďalšie aktivity sa môžete zaregistrovať kliknutím na tento odkaz. \nKontakt: Enterprise Europe Network pri UVP TECHNICOM\, e-mail: een@uvptechnicom.sk
URL:https://uvptechnicom.sk/event/kooperacne-podujatie-sido-2023/
CATEGORIES:EEN podujatia,Kooperačné podujatia, veľtrhy, výstavy
ATTACH;FMTTYPE=image/png:https://uvptechnicom.sk/wp-content/uploads/2023/07/Kooperacne-podujatie-SIDO-2023.png
END:VEVENT
BEGIN:VEVENT
DTSTART;VALUE=DATE:20230921
DTEND;VALUE=DATE:20230923
DTSTAMP:20260423T224939
CREATED:20230410T193946Z
LAST-MODIFIED:20230615T191744Z
UID:27455-1695254400-1695427199@uvptechnicom.sk
SUMMARY:DISA2023 - World Symposium on Digital Intelligence for Systems and Machines
DESCRIPTION:Pridajte sa k nám na veľmi očakávanú konferenciu DISA 2023. Toto prestížne podujatie sa bude konať od 21. septembra do 22. septembra 2023 a je určené pre odborníkov z oblasti umelej inteligencie (AI). Viac v anglickom jazyku: \n\nAs an IEEE conference\, DISA 2023 is organized by leading institutions\, including the National AI Platform in Slovakia\, Technical University of Kosice\, IEEE Czech and Slovak Section\, and IEEE CS Computational Intelligence Chapter. This collaboration ensures a top-tier event designed to foster cutting-edge discussions and knowledge exchange in the AI sector. \nArtificial Intelligence has become an essential part of our daily lives\, revolutionizing various industries and shaping the future of technology. DISA 2023 aims to address fundamental research and explore practical applications of AI across diverse areas. By attending this conference\, you’ll gain invaluable insights into the latest trends and advancements in the AI domain. We are proud to feature a roster of esteemed invited speakers from around the world\, including Japan\, USA\, UK\, Finland\, Austria\, Slovakia\, Czech Republic\, the Netherlands\, and other countries. Discover the full list of speakers and their expertise by visiting https://www.disa2023.org/program-2/. DISA 2023 will cover a broad spectrum of AI-related topics\, fostering an environment for dynamic discussions and debates on the most critical issues and developments in the field. Don’t miss this unique opportunity to connect with international experts\, share your knowledge\, and contribute to shaping the future of AI. \n  \nImportant Notice: The deadline for contributions is June 30\, 2023. Don’t miss your chance to showcase your research and ideas to a global audience. \nEmbark on this exciting journey of discovery and innovation at DISA 2023\, held in the beautiful city of Kosice\, the cultural center of Eastern Slovakia. Secure your place now and be part of this transformative experience. We look forward to welcoming you! \nVisit www.disa2023.org to register and learn more about the conference program\, speakers\, and venue. See you in Kosice!
URL:https://uvptechnicom.sk/event/disa2023-world-symposium-on-digital-intelligence-for-systems-and-machines/
LOCATION:Univerzitná knižnica TUKE\, Boženy Němcovej 7\, Košice\, Slovakia (Slovak Republic)
CATEGORIES:Odporúčame účasť,UVP a TUKE
ATTACH;FMTTYPE=image/jpeg:https://uvptechnicom.sk/wp-content/uploads/2023/04/TUKE_budova.jpg
END:VEVENT
END:VCALENDAR