BEGIN:VCALENDAR
VERSION:2.0
PRODID:-//UVP TECHNICOM - ECPv6.15.20//NONSGML v1.0//EN
CALSCALE:GREGORIAN
METHOD:PUBLISH
X-WR-CALNAME:UVP TECHNICOM
X-ORIGINAL-URL:https://uvptechnicom.sk
X-WR-CALDESC:Events for UVP TECHNICOM
REFRESH-INTERVAL;VALUE=DURATION:PT1H
X-Robots-Tag:noindex
X-PUBLISHED-TTL:PT1H
BEGIN:VTIMEZONE
TZID:Europe/Bratislava
BEGIN:DAYLIGHT
TZOFFSETFROM:+0100
TZOFFSETTO:+0200
TZNAME:CEST
DTSTART:20220327T010000
END:DAYLIGHT
BEGIN:STANDARD
TZOFFSETFROM:+0200
TZOFFSETTO:+0100
TZNAME:CET
DTSTART:20221030T010000
END:STANDARD
BEGIN:DAYLIGHT
TZOFFSETFROM:+0100
TZOFFSETTO:+0200
TZNAME:CEST
DTSTART:20230326T010000
END:DAYLIGHT
BEGIN:STANDARD
TZOFFSETFROM:+0200
TZOFFSETTO:+0100
TZNAME:CET
DTSTART:20231029T010000
END:STANDARD
BEGIN:DAYLIGHT
TZOFFSETFROM:+0100
TZOFFSETTO:+0200
TZNAME:CEST
DTSTART:20240331T010000
END:DAYLIGHT
BEGIN:STANDARD
TZOFFSETFROM:+0200
TZOFFSETTO:+0100
TZNAME:CET
DTSTART:20241027T010000
END:STANDARD
END:VTIMEZONE
BEGIN:VEVENT
DTSTART;VALUE=DATE:20230919
DTEND;VALUE=DATE:20230921
DTSTAMP:20260424T002243
CREATED:20230720T075804Z
LAST-MODIFIED:20230720T080217Z
UID:28899-1695081600-1695254399@uvptechnicom.sk
SUMMARY:Robte networking úspešne a cielene na “SlovakiaTech Brokerage: AI\, Green and Trust” v Košiciach
DESCRIPTION:Premeňte svoje nové kontakty na cielenú spoluprácu na najväčšej technologickej konferencii na Slovensku – SlovakiaTech Forum-Expo 2023\, ktorú môžete navštíviť 19. a 20.septembra v Košiciach. \nEnterprise Europe Network (EEN) poskytuje jedinečnú platformu pre SlovakiaTech\, kde si môžete pozrieť profil ostatných registrovaných účastníkov\, ktorí majú záujem spolupracovať a pripojiť sa k platforme na plánovanie stretnutí. Tešíme sa z mnohých úspešných príbehov\, kde sa prostredníctvom vytvárania sietí dosiahli zmysluplné projekty a obchodná spolupráca. Objavte tajomstvá efektívneho networkingu – zaregistrujte sa teraz a využite príležitosti\, ktoré vám táto konferencia ponúka. \nPodujatie okrem podnikateľského potenciálu podporí aj projektovú spoluprácu na medzinárodných projektoch či vytváranie konzorcií v programe Horizont Európa. \nPrečo dať o sebe vedieť?\nZverejnením profilu vašej organizácie dáte účastníkom podujatia vedieť\, čomu sa venujete a o akú formu spolupráce máte záujem. Podnecujete tak záujem o rokovania s vami a zvyšujete šance na budúcu spoluprácu. Kooperatívne podujatie deanonymizuje účastníkov a dáva príležitosť stretnúť sa s potenciálnymi partnermi za konkrétnym účelom. \n\nPríležitosti na networking: Podujatie poskytuje skvelú príležitosť stretnúť sa a spojiť sa s podobne zmýšľajúcimi jednotlivcami\, ako aj s odborníkmi vo vašej oblasti. Môžete nadviazať cenné kontakty\, ktoré vám pomôžu rásť v kariére alebo podnikaní.\nVýzvy a partnerstvo v rámci Horizont Európa: Tento rok podujatie doplníme o konkrétne prezentácie o nadchádzajúcich výzvach Horizont Európa z oblasti digitalizácia\, priemysel a suroviny. Nepremeškajte túto príležitosť nájsť si partnera a získať financie na svoj projekt.\nZdieľanie znalostí: Na podujatí vystupujú experti\, ktorí sa podelia o svoje postrehy a znalosti na konkrétnu tému. To môže účastníkom poskytnúť nové nápady\, perspektívy a stratégie\, ktoré môžu uplatniť vo svojom pracovnom alebo osobnom živote.\nInšpirácia: Účasť na podujatí môže byť inšpirujúca\, poskytuje účastníkom nové nápady a motiváciu na dosiahnutie svojich cieľov.\nBuďte informovaní o trendoch v odvetví: Podujatie predstavuje najnovšie produkty\, služby\, inovácie a trendy v konkrétnom odvetví alebo oblasti. Svojou účasťou zostanete informovaní o tom\, čo je nové a čo je na obzore.\nMnoho ďalších výhod…\n\nTémy na spoluprácu\nRok 2023 sa na konferencii SlovakiaTech nesie v sloganoch AI\, GreenTech\, TrustTech a spája významných domácich a svetových aktérov nielen z priemyslu\, ale aj z akademickej obce\, výskumu\, samospráv\, mimovládneho a vládneho sektora. \nJednotlivé tematické kategórie zahŕňajú spomínané 3 témy\, no svoje miesto si pri nadväzovaní novej spolupráce nájde každý bez ohľadu na tematické zameranie: \n\nAI EVERYWHERE: Challenges & Regulations | Education & Jobs | Manufacturing & Retail | Creativity and society | Healthcare\nGreen TECH: Advanced Nuclear Technologies | Renewable energy & storage | Sustainable transportation | Green hydrogen | Waste reduction\nTrust TECH: Cybersecurity Hacking | Identity & Privacy | Finance & Blockchain | Defence Tech\n\nKoho môžete stretnúť?\nNa kooperačnom podujatí sa stretnú aktéri rôznych sektorov z viacerých európskych krajín s vysokým vplyvom na rozhodovanie v organizácii. Je to jedinečná príležitosť získať nové obchodné kontakty\, spoluprácu\, projekty a zmluvy. \nModel poskytnutý „SlovakiaTech Brokerage: AI\, Green and Trust!“ je časovo a nákladovo efektívny a prináša reálne výsledky. Stretnutia sa budú konať fyzicky\, virtuálne alebo hybridne vo vyhradenom priestore a budú vopred dohodnuté prostredníctvom platformy B2Match. \nNa podujatí sa budete môcť prednostne stretnúť s: \n\npodnikateľmi\, malými a strednými podnikmi (MSP)\,\nvýskumníkmi a ľuďmi z akademickej obce\,\nmimovládnymi organizáciami a samosprávami\,\nregionálnymi a národnými orgánmi (ministerstvá a ich organizácie).\n\nProgram stretnutí\nBrokerage podujatie je zamerané na úspešné dosiahnutie spolupráce prostredníctvom cielených bilaterálnych stretnutí. Nosná časť teda pozostáva z dvoch dní\, počas ktorých majú účastníci možnosť dohodnúť si 30-minútové stretnutia: \n\nUtorok\, 19. September 2023 | Popoludní od 13:00 hod. do 16:00 hod.: 6 rezervovaných stolov na bilaterálne stretnutia (30 minút každé stretnutie)\nStreda\, 20. september 2023 | Dopoludnia od 9:00 hod. do 12:00 hod.: 6 rezervovaných stolov na bilaterálne stretnutia (30 minút každé stretnutie)\n\nOkrem toho bude v prvý deň podujatia\, 19. Septembra\, pre účastníkov dostupný sprievodný program: \n\n9:00 – 10:30 hod. | Financovanie z programu Horizont Európa: Najbližšie výzvy v oblasti digitalizácia\, priemysel a nerastné suroviny\n11:00 – 12:00 hod. | Úspešní žiadatelia: Ako to funguje v praxi?\n12:00 – 12:45 hod. | Workshop na hľadanie partnerov\n\nVšetko sa bude realizovať v prostredí konferencie SlovakiaTech Forum-Expo\, ktorá bude mať bohatý program. Aktuálny program zastrešujúcej konferencie si môžete pozrieť na https://www.slovakiatech.sk/ \nKedy a kde?\n\nPodujatie sa bude konať od 19. do 20. septembra 2023\, kedy zároveň prebiehajú aj osobné stretnutia\nMiesto: Kulturpark\, Kukučínova 2\, 040 01 Košice\, Slovakia (map)\n\nRegistrácia\n\nKaždý účastník Brokerage podujatia sa musí zaregistrovať prostredníctvom platformy B2Match na https://www.b2match.com/e/slovakiatech-brokerage-ai-green-and/sign-up.\nAk sa podujatia zúčastníte osobne v Košiciach\, musíte sa zaregistrovať aj na stránke SlovakiaTech. Táto dodatočná registrácia zabezpečuje\, že každý účastník získa visačku a neobmedzený prístup do všetkých sekcií konferencie v areáli Kulturparku.\n\nV prípade akýchkoľvek otázok kontaktujte organizačný tím na een@uvptechnicom.sk. Tešíme sa na Vašu účasť! \nKontaktná osoba\nTomáš Pavlik\, e-mail: tomas.pavlik@tuke.skEnterprise Europe Network\, Univerzitný vedecký park TechnicomTechnická univerzita v Košiciach\, Nemcovej 5\, 042 00 Košice\, SlovakiaWeb: https://uvptechnicom.sk/een
URL:https://uvptechnicom.sk/event/robte-networking-uspesne-a-cielene-na-slovakiatech-brokerage-ai-green-and-trust-v-kosiciach/
CATEGORIES:EEN podujatia,Kooperačné podujatia, veľtrhy, výstavy,UVP a TUKE
ATTACH;FMTTYPE=image/jpeg:https://uvptechnicom.sk/wp-content/uploads/2023/07/airev-scaled.jpg
END:VEVENT
END:VCALENDAR