BEGIN:VCALENDAR
VERSION:2.0
PRODID:-//UVP TECHNICOM - ECPv6.15.20//NONSGML v1.0//EN
CALSCALE:GREGORIAN
METHOD:PUBLISH
X-ORIGINAL-URL:https://uvptechnicom.sk
X-WR-CALDESC:Events for UVP TECHNICOM
REFRESH-INTERVAL;VALUE=DURATION:PT1H
X-Robots-Tag:noindex
X-PUBLISHED-TTL:PT1H
BEGIN:VTIMEZONE
TZID:Europe/Bratislava
BEGIN:DAYLIGHT
TZOFFSETFROM:+0100
TZOFFSETTO:+0200
TZNAME:CEST
DTSTART:20220327T010000
END:DAYLIGHT
BEGIN:STANDARD
TZOFFSETFROM:+0200
TZOFFSETTO:+0100
TZNAME:CET
DTSTART:20221030T010000
END:STANDARD
BEGIN:DAYLIGHT
TZOFFSETFROM:+0100
TZOFFSETTO:+0200
TZNAME:CEST
DTSTART:20230326T010000
END:DAYLIGHT
BEGIN:STANDARD
TZOFFSETFROM:+0200
TZOFFSETTO:+0100
TZNAME:CET
DTSTART:20231029T010000
END:STANDARD
BEGIN:DAYLIGHT
TZOFFSETFROM:+0100
TZOFFSETTO:+0200
TZNAME:CEST
DTSTART:20240331T010000
END:DAYLIGHT
BEGIN:STANDARD
TZOFFSETFROM:+0200
TZOFFSETTO:+0100
TZNAME:CET
DTSTART:20241027T010000
END:STANDARD
END:VTIMEZONE
BEGIN:VEVENT
DTSTART;VALUE=DATE:20230113
DTEND;VALUE=DATE:20230629
DTSTAMP:20260424T033851
CREATED:20230219T195642Z
LAST-MODIFIED:20230612T131302Z
UID:26864-1673568000-1687996799@uvptechnicom.sk
SUMMARY:Akceleračný program
DESCRIPTION:13.01.2023 – HODNOTENIE POBYTU STARTUPOV v Startup centre UVP TECHNICOM20.01.2023 – 16. kolo súťaže startupov08.02.2023 – Úvodné stretnutie startupov (16. akceleračný program)14.02.2023 – Pracovné stretnutie so startupmi16.02.2023 – Ako vybudovať zdravú a rozumnú firmu22.02.2023 – Validácia ideí22.02.2023 – Startup Connect01.03.2023 – Projektové riadenie08.03.2023 – Ochrana vynálezov a počítačových programov v podnikaní15.03.2023 – Motivačná prednáška úspešnej firmy22.03.2023 – Finančné zdroje pre startup a cash-flow28.03.2023 – Outfit\, infit a komunikácia29.03.2023 – Biznis fórum29.03.2023 – Startup Connect04.04.2023 – Finančný trh05.04.2023 – Biznis model Canvas – praktické riešenie12.04.2023 – Na čo nesmeme zabudnúť pri budovaní svojej značky18.04.2023 – Účtovníctvo19.04.2023 – Getting things done26.04.2023 – Biznis fórum09.05.2023 – Typológia osobnosti10.05.2023 – Digitálny marketing na soc.sieťach24.05.2023 – Elevator Pitch31.05.2023 – Biznis fórum31.05.2023 – Startup Connect07.06.2023 – Prezentačné zručnosti14.06.2023 – Príprava na finálnu prezentáciu21.06.2023 – Ako si založiť firmu26.06.2023 – Súťaž startupov 17.kolo „Máš nápad„28.06.2023 – Prehodnotenie startupov28.06.2023 – Startup Connect
URL:https://uvptechnicom.sk/event/akceleracny-program-2023/
LOCATION:UVP TECHNICOM a online\, Němcovej 5\, Košice\, Slovakia (Slovak Republic)
CATEGORIES:UVP a TUKE
ATTACH;FMTTYPE=image/jpeg:https://uvptechnicom.sk/wp-content/uploads/2023/02/dev-program-sk-06.jpg
END:VEVENT
BEGIN:VEVENT
DTSTART;VALUE=DATE:20230602
DTEND;VALUE=DATE:20230904
DTSTAMP:20260424T033851
CREATED:20230607T133826Z
LAST-MODIFIED:20230607T133902Z
UID:28468-1685664000-1693785599@uvptechnicom.sk
SUMMARY:Pozývame Vás na B2B podujatie CLUSTER Health – Horizon Europe Brokerage Event 2024
DESCRIPTION:Európska sieť  HNN3.0 spolu s Európskou komisiou\, sieťou Enterprise Europe Network a NCP WideraNet organizujú ďalšie sprostredkovateľské podujatie programu Horizon Európa\, týkajúce sa výziev na predkladanie návrhov v oblasti zdravia v rámci Klastra 1 na rok 2024. Výzvy na rok 2024 sú už otvorené – pôjde o druhé kolo výziev CL1 v programovacom období 2023 – 2024. \n\nDátum konania: 2.6.2023 – 3.9.2023Miesto konania:  on-lineRegistrácia: do 3.9.2023 cez https://cluster-health-horizon-europe-brokerage2024.b2match.io/signupWeb stránka podujatia: https://cluster-health-horizon-europe-brokerage2024.b2match.io/ \n  \nDôležité: Vzhľadom k tomu\, že účasť na podujatí bola predĺžená do 3 septembra 2023\, niektoré termíny uvedené na stránke nie sú platné. Registrácia na B2B podujatie je však stále otvorená\, rovnako ako aj možnosť rezervovať a realizovať stretnutia\, až do 3.septembra 2023.  \n\nÚčastníci B2B podujatia majú možnosť získať  všetky potrebné informácie o nadchádzajúcich výzvach programu Horizont Európa oblasti Cluster Health ako aj stretnúť sa s potenciálnymi partnermi z Európy i mimo nej. \n\nÚčasť na podujatí je bezplatná\, ale registrácia a aktivácia profilu sú povinné. \nPri vypĺňaní prihlášky si v časti „Settings“ v rámci položky „Support office“ vyberte TUKE ako Vašu podpornú inštitúciu. Následne Vašu prihlášku obratom radi potvrdíme v registračnom systéme podujatia. Ďakujeme. \nKontakt: Enterprise Europe Network pri UVP TECHNICOM\, email: een@uvptechnicom.sk
URL:https://uvptechnicom.sk/event/pozyvame-vas-na-b2b-podujatie-cluster-health-horizon-europe-brokerage-event-2024/
CATEGORIES:EEN podujatia,Kooperačné podujatia, veľtrhy, výstavy
ATTACH;FMTTYPE=image/jpeg:https://uvptechnicom.sk/wp-content/uploads/2023/06/CLUSTER-Helath-Horizon-Europe-Brokerage-Event-2024.jpg
END:VEVENT
BEGIN:VEVENT
DTSTART;VALUE=DATE:20230608
DTEND;VALUE=DATE:20230610
DTSTAMP:20260424T033851
CREATED:20230523T155651Z
LAST-MODIFIED:20230523T155735Z
UID:28307-1686182400-1686355199@uvptechnicom.sk
SUMMARY:Kooperačné podujatie Circular Economy B2B@FORWARD GREEN
DESCRIPTION:Bezplatné cestovné a ubytovanie pre kupujúcich\nEnterprise Europe Network pri UVP Technicom\, Technická univerzita v Košiciach pozýva podnikateľov na kooperačné podujatie B2B @FORWARD GREEN so zameraním na cirkulárnu ekonomiku. Prihlášky do 5. júna 2023. \n\nDátum konania: 8.-9.6.2023Miesto konania: Thessaloniki\, GréckoRegistrácia otvorená do: 5.6.2023Prihláška: https://circular-economy-b2bforward-green-fair.b2match.io/signupWeb stránka podujatia: https://circular-economy-b2bforward-green-fair.b2match.io/home \n\nKooperačné podujatie bude súčasťou konferencie Forward Green (FG Expo)\, ktorej hlavnými organizátormi sú Federácia priemyslu Grécka a TIF HELEXPO S.A. \nCieľom podujatia je prispieť k implementácii nového podnikateľského myslenia založenom na obehovom hospodárstve\, zelenom rozvoji a transformácii obchodných modelov s cieľom zachovať prírodné zdroje a smerovať k trvalo udržateľnému rozvoju. \n\nPre koho je podujatie určené\nPodujatie je určené spoločnostiam\, agentúram\, organizáciám a vládnym predstaviteľom\, ktorí si osvojujú moderné postupy využívania surovín\, stavebných materiálov\, technológií\, energie\, recyklácie a obalov. \n\nSektorové zameranie:\n– Obnoviteľné zdroje energie– Špičkové a energeticky úsporné systémy– Systémy recyklácie\, obehovej ekonomiky a odpadového hospodárstvo– Moderné stavebné materiály a udržateľné obalové materiály– Úprava vody \nBližšie informácie o sektorovom zameraní TU. \n\nInformácie pre účastníkov:\nOrganizátor ponúka možnosť zapojiť sa do bezplatného programu pre kupujúcich (t. j. dovozcov\, veľkoobchodníkov\, distribútorov\, obchodné reťazce alebo zástupcov supermarketov atď.) \n\nAko to funguje:\n– Zaregistrujte sa na webovej stránke\, vyplňte celý firemný profil vrátane aspoň jednej položky z Marketplace a požiadajte o zaradenie do programu “Hosted buyers”. Vaša žiadosť bude následne vyhodnotená formou “first come\, first served”. \n– Ak bude schválená\, dostanete e-mail s pokynmi\, ako postupovať pri rezervácii vašich B2B stretnutí cez webstránku. Podmienkou je výber minimálne 5 stretnutí. Okrem toho si spoločnosť HELEXPO vyhradzuje právo zabezpečiť pre vás ďalšie stretnutia podľa oblastí vášho záujmu a požiadaviek vystavovateľov. \n– Ak bude schválená\, vaše ubytovanie a/alebo let bude zabezpečený a pokrytý HELEXPO\, tak isto aj transfer z a na letisko + z hotela na výstavisko a späť. \n– V prípade nepotvrdenia vašej návštevy (údaje o hoteli a letenkách) a vašich B2B stretnutí\, najneskôr päť dní pred prvým dňom B2B podujatia\, bude vaša účasť v programe Hosted Buyers automaticky zrušená. \n\nPri vypĺňaní prihlášky si v časti „Settings“ v rámci položky „Support office“ vyberte TUKE ako Vašu podpornú inštitúciu. Následne Vašu prihlášku obratom radi potvrdíme v registračnom systéme podujatia. Ďakujeme. \n\nKontakt: Enterprise Europe Network pri UVP TECHNICOM\, e-mail: een@uvptechnicom.sk
URL:https://uvptechnicom.sk/event/kooperacne-podujatie-circular-economy-b2bforward-green/
CATEGORIES:EEN podujatia,Kooperačné podujatia, veľtrhy, výstavy
ATTACH;FMTTYPE=image/jpeg:https://uvptechnicom.sk/wp-content/uploads/2023/05/B2B-Circular-economy.jpg
END:VEVENT
END:VCALENDAR