BEGIN:VCALENDAR
VERSION:2.0
PRODID:-//UVP TECHNICOM - ECPv6.15.20//NONSGML v1.0//EN
CALSCALE:GREGORIAN
METHOD:PUBLISH
X-ORIGINAL-URL:https://uvptechnicom.sk
X-WR-CALDESC:Events for UVP TECHNICOM
REFRESH-INTERVAL;VALUE=DURATION:PT1H
X-Robots-Tag:noindex
X-PUBLISHED-TTL:PT1H
BEGIN:VTIMEZONE
TZID:Europe/Bratislava
BEGIN:DAYLIGHT
TZOFFSETFROM:+0100
TZOFFSETTO:+0200
TZNAME:CEST
DTSTART:20220327T010000
END:DAYLIGHT
BEGIN:STANDARD
TZOFFSETFROM:+0200
TZOFFSETTO:+0100
TZNAME:CET
DTSTART:20221030T010000
END:STANDARD
BEGIN:DAYLIGHT
TZOFFSETFROM:+0100
TZOFFSETTO:+0200
TZNAME:CEST
DTSTART:20230326T010000
END:DAYLIGHT
BEGIN:STANDARD
TZOFFSETFROM:+0200
TZOFFSETTO:+0100
TZNAME:CET
DTSTART:20231029T010000
END:STANDARD
BEGIN:DAYLIGHT
TZOFFSETFROM:+0100
TZOFFSETTO:+0200
TZNAME:CEST
DTSTART:20240331T010000
END:DAYLIGHT
BEGIN:STANDARD
TZOFFSETFROM:+0200
TZOFFSETTO:+0100
TZNAME:CET
DTSTART:20241027T010000
END:STANDARD
END:VTIMEZONE
BEGIN:VEVENT
DTSTART;VALUE=DATE:20230113
DTEND;VALUE=DATE:20230629
DTSTAMP:20260424T033853
CREATED:20230219T195642Z
LAST-MODIFIED:20230612T131302Z
UID:26864-1673568000-1687996799@uvptechnicom.sk
SUMMARY:Akceleračný program
DESCRIPTION:13.01.2023 – HODNOTENIE POBYTU STARTUPOV v Startup centre UVP TECHNICOM20.01.2023 – 16. kolo súťaže startupov08.02.2023 – Úvodné stretnutie startupov (16. akceleračný program)14.02.2023 – Pracovné stretnutie so startupmi16.02.2023 – Ako vybudovať zdravú a rozumnú firmu22.02.2023 – Validácia ideí22.02.2023 – Startup Connect01.03.2023 – Projektové riadenie08.03.2023 – Ochrana vynálezov a počítačových programov v podnikaní15.03.2023 – Motivačná prednáška úspešnej firmy22.03.2023 – Finančné zdroje pre startup a cash-flow28.03.2023 – Outfit\, infit a komunikácia29.03.2023 – Biznis fórum29.03.2023 – Startup Connect04.04.2023 – Finančný trh05.04.2023 – Biznis model Canvas – praktické riešenie12.04.2023 – Na čo nesmeme zabudnúť pri budovaní svojej značky18.04.2023 – Účtovníctvo19.04.2023 – Getting things done26.04.2023 – Biznis fórum09.05.2023 – Typológia osobnosti10.05.2023 – Digitálny marketing na soc.sieťach24.05.2023 – Elevator Pitch31.05.2023 – Biznis fórum31.05.2023 – Startup Connect07.06.2023 – Prezentačné zručnosti14.06.2023 – Príprava na finálnu prezentáciu21.06.2023 – Ako si založiť firmu26.06.2023 – Súťaž startupov 17.kolo „Máš nápad„28.06.2023 – Prehodnotenie startupov28.06.2023 – Startup Connect
URL:https://uvptechnicom.sk/event/akceleracny-program-2023/
LOCATION:UVP TECHNICOM a online\, Němcovej 5\, Košice\, Slovakia (Slovak Republic)
CATEGORIES:UVP a TUKE
ATTACH;FMTTYPE=image/jpeg:https://uvptechnicom.sk/wp-content/uploads/2023/02/dev-program-sk-06.jpg
END:VEVENT
BEGIN:VEVENT
DTSTART;VALUE=DATE:20230522
DTEND;VALUE=DATE:20230607
DTSTAMP:20260424T033853
CREATED:20230518T193229Z
LAST-MODIFIED:20230518T194142Z
UID:28153-1684713600-1686095999@uvptechnicom.sk
SUMMARY:Webináre Compass na najbližší mesiac
DESCRIPTION:Aliancia Ulysseus v rámci satelitného projektu Compass organizuje pravidelné webináre na rôzne témy s cieľom poskytnúť výskumníkom na inštitúciách prehľad v oblasti aktuálnych tém\, čo prispeje ku kariérnemu rozvoju. Ponúkame vám prehľad najbližších webinárov\, na ktoré sa môžete registrovať a zúčastniť online. \nWebinar: From Research to entrepreneurship… It can work!\nDátum: 22. máj 2023 od 12:00 hod.Organizuje: Univerzita aplikovaných vied\, Haaga-Helia\, Fínsko \nČo znamená začať podnikať? Ako to skombinovať s výskumom? \nPripojte sa k tomuto interaktívnemu webináru\, aby ste sa dozvedeli viac o podnikaní a mohli začať podnikať. Obsah bude nasledovný: \n\nPrenosné zručnosti (od výskumu k podnikaniu)\nFalošné mýty o podnikaní\, o ktorých by ste mali vedieť.\nKde nájsť podporu a poradenstvo (ľudia\, zdroje\, nástroje)\nSkutočný príbeh od výskumníka podnikateľa Miroslava Michalka\, CSO z Ceelabs\n\nNezáleží na tom\, či o tejto téme nemáte potuchy alebo už formujete svoj inovatívny nápad. Tento webinár je pre všetkých výskumníkov alebo zvedavých ľudí\, ktorí sa zaujímajú o začatie podnikateľskej kariéry. \n\nViac informácií o webinári\nRegistrácia na webinar\n\n			\n				\n				\n				\n				\n				\n			\n				\n				\n				\n				\n				Webinar: Is a 100% renewable electricity sector really possible?\nDátum: 23. máj 2023 od 12:00 hod.Organizuje: Univerzita v Seville\, Španielsko \nVypuknutie vojny na Ukrajine spôsobilo\, že prehodnotenie energetickej politiky v Európskej únii bolo oveľa potrebnejšie vzhľadom na zraniteľnosť\, ktorú predstavuje v dôsledku jej závislosti od zahraničnej energie\, najmä od ruského plynu a ropy. Táto situácia nás núti ešte viac vsádzať na obnoviteľné zdroje energie\, ktoré sú nielen účinným nástrojom v boji proti klimatickým zmenám\, ale aj silným receptom Európskej únie na dosiahnutie energetickej autonómie. \nTohto webinára sa zúčastnia štyria odborníci\, dvaja odborníci na právo (Roberto Galán-Vioque\, profesor verejného práva na Univerzite v Seville a Maria Bertel\, profesorka verejného práva na Karl-Franzens–University of Graz) a dvaja z odboru inžinierstva (Ángel Arcos-Vargas a Antonio Gómez-Expósito\, obaja profesori a výskumní pracovníci na Katedre elektrotechniky Univerzity v Seville). \n\nViac informácií o webinári\nRegistrácia na webinár\n\n			\n				\n				\n				\n				\n				\n			\n				\n				\n				\n				\n				Webinar: Industrial Sustainability: Challenges\, Perspectives\, Actions\nDátum: 25. máj 2023 od 12:30 hod.Organizuje: MCI Entrepreneurial School\, Innsbruck\, Rakúsko \nUdržateľný manažment sa zameriava na riešenie environmentálnych a sociálnych problémov\, ako sú klimatické zmeny\, vyčerpávanie zdrojov a nerovnosť. Podporou udržateľných praktík môžu podniky znížiť svoj vplyv na životné prostredie\, zlepšiť svoju povesť a vytvoriť nové príležitosti pre inovácie a rast. \nOkrem toho môže udržateľné riadenie znížiť prevádzkové náklady a zvýšiť ziskovosť elimináciou odpadu a efektívnejším využívaním zdrojov\, čím sa vytvorí konkurenčná výhoda na trhu. \nPripojte sa k nám na pútavú a poučnú diskusiu a zistite\, ako je udržateľné riadenie nevyhnutné na vytvorenie odolnejšieho a spravodlivejšieho hospodárstva\, ktoré dokáže uspokojiť potreby súčasných a budúcich generácií. \n\nViac informácií o webinári\nRegistrácia na webinár\n\n			\n				\n				\n				\n				\n				\n			\n				\n				\n				\n				\n				Webinar: Meet the Ulysseus Post-docs in Ageing and Well-being\nDátum: 6. jún 2023 od 12:00 hod.Organizuje: Univerzita v Nice\, Francúzsko \nInovačný Hub pre Ageing & Wellbeing v Nice udelilo v roku 2022 štyri postdoktorandské štipendiá. Sme nadšení\, že môžeme predstaviť týchto štipendistov a poskytnúť im príležitosť predviesť svoju prácu. \nPrvým rečníkom je Flavio Da Silva\, ktorý predstaví svoju prácu a bude diskutovať o dôležitosti zvažovania motorickej stratégie pri vykonávaní pohybov zo sedu do stoja\, aby sa presnejšie posúdil pokles fyzickej funkcie súvisiaci s vekom. \nDruhým rečníkom je Bogdan Grigorash\, ktorý odprezentuje zistenia svojej štúdie\, ktoré zdôrazňujú výhody zníženia počtu senescentných buniek p16High počas 4-faktorového čiastočného preprogramovania a položia základ pre budúce štúdie omladzovania tkanív. \nTreťou rečníčkou je Giulia Allavena\, ktorá bude hovoriť o úlohe cGAS-STING v mikroprostredí starnúceho nádoru. Zistite\, ako zebrafish s deficitom telomerázy slúži ako model predčasného starnutia a ako je dráha vrodenej imunity cGAS-STING kľúčovým regulátorom sekrečného fenotypu spojeného so starnutím (SASP). Dozviete sa o nedávnych experimentoch\, ktoré odhaľujú cGAS-STING\, ako je potrebné pre fenotyp starnutia telomerázových mutantov a potenciálne dôsledky pre prevenciu rakoviny. \nPoslednou rečníčkou je Claudia Zoller\, ktorá pracuje v oblasti behaviorálnej ekonómie zdravia so zameraním na podporu zdravého správania. Bude diskutovať o svojom výskume o tom\, ako podporovať zdravé správanie u starnúcich dospelých\, s osobitným zameraním na fyzickú aktivitu a stravu. Predstaví výsledky svojej štúdie\, ktorej cieľom je poskytnúť pohľad na faktory správania\, ktoré môžu prispieť k zdravému starnutiu. \n\nViac informácií o webinári\nRegistrácia na webinár\n\n\n\nO projekte Compass\nProjekt COMPASS\, ako tzv. satelitný projekt aliancie Ulysseus\, pripravuje alianciu k tomu\, aby sa stala modelom excelentnosti európskej univerzity prostredníctvom výskumu a inovácií. Ide o projekt financovaný z programu Horizont 2020 a je vlajkovou loďou pre spoločnú výskumnú a inovačnú stratégiu aliancie Ulysseus. Projekt\, ktorý je súčasťou programu Veda so spoločnosťou a pre spoločnosť programu Horizont 2020 (SwafS)\, uľahčí transformačný proces aliancie Ulysseus smerom k tomu\, aby sa stala európskou univerzitou prostredníctvom spoločnej stratégie výskumu a inovácií\, ktorá následne skonsoliduje jej inovačný ekosystém. \n			\n				\n				\n				\n				\n				\n			\n				\n				\n				\n				\n				Viac informácií: ulysseus.eu/compass
URL:https://uvptechnicom.sk/event/webinare-compass-na-najblizsi-mesiac/
LOCATION:Online
CATEGORIES:Odporúčame účasť,Ulysseus
ATTACH;FMTTYPE=image/png:https://uvptechnicom.sk/wp-content/uploads/2023/05/c1.png
END:VEVENT
BEGIN:VEVENT
DTSTART;VALUE=DATE:20230529
DTEND;VALUE=DATE:20230601
DTSTAMP:20260424T033853
CREATED:20230215T153856Z
LAST-MODIFIED:20230215T154651Z
UID:26773-1685318400-1685577599@uvptechnicom.sk
SUMMARY:Obchodné stretnutia v oblasti solárnej energie
DESCRIPTION:VII Solar Energy Hybrid Business Mixer B2B meetings\nPozývame vás na kooperačné podujatie VII Solar Energy Hybrid Business Mixer organizované poľskou fotovoltickou asociáciou so zameraním na oblasť fotovoltiky. Prihlášky do 31. mája 2023. \nDátum konania: 29.-.31.5.2023Miesto konania: Varšava\, Poľsko/onlineRegistrácia otvorená do: 31.5.2023Prihláška: https://vii-solar-energy-business-mixer.b2match.io/signupWeb stránka podujatia: https://vii-solar-energy-business-mixer.b2match.io/ \n  \nDynamický rozvoj fotovoltického priemyslu v Poľsku\, rýchlo sa meniace obchodné modely a ich podmienky si vyžadujú neustále monitorovanie zmien na trhu. Kooperačné podujatie prináša množstvo poznatkov a obchodných kontaktov. \nStretnutia B2B sú určené pre podnikateľov a organizácie pôsobiace v oblasti fotovoltiky. Vítané sú najmä spoločnosti vytvárajúce dodávateľský reťazec\, t. j. výrobcovia komponentov\, servisné spoločnosti\, konzultanti\, spoločnosti pôsobiace v oblasti stavebníctva\, predajcovia energie\, dodávatelia materiálov a komponentov\, kremíka a článkov\, modulov\, systémov a iné. \nAko funguje B2B Matchmaking? Ako postupovať? \n\nZaregistrujte sa online a zverejnite svoj návrh spolupráce – vytvorte si profil a vyplňte marketplace.\nPrezrite si zoznam zaregistrovaných účastníkov a rezervujte si stretnutia s účastníkmi\, ktorí vás zaujímajú.\nPred podujatím dostanete svoj osobný individuálny plán stretnutí\, ktorých sa zúčastníte osobne alebo online v závislosti od organizácie podujatia.\n\nOrganizácia podujatia \n\nmája – on-line stretnutia\nmája – on-line stretnutia\nmája – on-line stretnutia a na mieste\n\nÚčasť na podujatí je bezplatná ale registrácia povinná. \nPri vypĺňaní prihlášky si v časti „Settings“ v rámci položky „Support office“ vyberte TUKE ako Vašu podpornú inštitúciu. Následne Vašu prihlášku obratom radi potvrdíme v registračnom systéme podujatia. Ďakujeme. \nKontakt: Enterprise Europe Network pri UVP TECHNICOM\, e-mail: een@uvptechnicom.sk
URL:https://uvptechnicom.sk/event/obchodne-stretnutia-v-oblasti-solarnej-energie/
CATEGORIES:EEN podujatia,Kooperačné podujatia, veľtrhy, výstavy
ATTACH;FMTTYPE=image/jpeg:https://uvptechnicom.sk/wp-content/uploads/2023/02/Obchodne-stretnutia-v-oblasti-solarnej-energie.jpg
END:VEVENT
BEGIN:VEVENT
DTSTART;VALUE=DATE:20230530
DTEND;VALUE=DATE:20230601
DTSTAMP:20260424T033853
CREATED:20230412T071556Z
LAST-MODIFIED:20230412T071703Z
UID:27469-1685404800-1685577599@uvptechnicom.sk
SUMMARY:Kooperačné podujatie Textile Connect 2023
DESCRIPTION:Hľadáte partnerov na výrobu alebo môžete poskytnúť služby v oblasti textilnej výroby? \n\nPozývame Vás na online stretnutie v oblasti textilnej výroby „Textile Connect 2023“\, ktoré organizuje spoločnosť Almi Företagspartner Jönköping AB vo Švédsku a Kaunaská komora obchodu\, priemyslu a remesiel v Litve v spolupráci s Enterprise Europe Network. \n  \nTextile Connect je online platforma\, ktorá zjednodušuje prepojenie medzi spoločnosťami\, dizajnérmi a výrobnými partnermi v textilnom priemysle. Už po štvrtýkrát bude organizované online matchmakingové podujatie\, na ktorom sa môžu stretnúť a spolupracovať nákupcovia a dodávatelia. \n\nDátum konania: 30.5 – 31.5 2023Miesto konania: on – lineRegistrácia: do 31.5.2023 link: https://textileconnect23.b2match.io/signupWeb stránka podujatia: https://textileconnect23.b2match.io/ \n\nPodujatie je určené pre:  \n\nDizajnérov alebo nákupcov v textilnom priemysle\, ktorí hľadajú nových partnerov na výrobu\nDodávateľov a/alebo výrobcov látok alebo iných textilných materiálov\nVšetkých\, ktorí ponúkajú služby pre textilný priemysel ako je šitie\, farbenie\, potlač atď.\n\n\nÚčasť na podujatí je bezplatná\, ale registrácia a aktivácia profilu sú povinné. \n\nPri vypĺňaní prihlášky si v časti „Settings“ v rámci položky „Support office“ vyberte TUKE ako Vašu podpornú inštitúciu. Následne Vašu prihlášku obratom radi potvrdíme v registračnom systéme podujatia. Ďakujeme. \n\nKontakt: Enterprise Europe Network pri UVP TECHNICOM\, email: een@uvptechnicom.sk
URL:https://uvptechnicom.sk/event/kooperacne-podujatie-textile-connect-2023/
CATEGORIES:EEN podujatia,Kooperačné podujatia, veľtrhy, výstavy
ATTACH;FMTTYPE=image/jpeg:https://uvptechnicom.sk/wp-content/uploads/2023/04/Textile-connect-2023.jpg
END:VEVENT
BEGIN:VEVENT
DTSTART;VALUE=DATE:20230531
DTEND;VALUE=DATE:20230601
DTSTAMP:20260424T033853
CREATED:20230314T212947Z
LAST-MODIFIED:20230314T213429Z
UID:27077-1685491200-1685577599@uvptechnicom.sk
SUMMARY:CONNECT DAY 2023
DESCRIPTION:Enterprise Europe Network vás pozýva na matchmakingové podujatie CONNECT DAY 2023\, ktoré spája start-upy s korporátmi a investormi. Prihlášky do 29. mája 2023. \n\nDátum konania: 31.5.2023Miesto konania: Viedeň\, RakúskoRegistrácia otvorená do: 29.5.2023Prihláška: https://www.connectday.at/signupWeb stránka podujatia: https://www.connectday.at/ \n\nPodujatie sa zameriava na korporácie\, ktoré hľadajú inovatívne produkty a služby poskytované startupmi. Okrem toho podujatie podporuje vybrané začínajúce podniky\, aby sa dostali do kontaktu s investormi zameranými na investície v ranom štádiu a rizikový kapitál. \n\nÚčasť na matchmakingu je bezplatná\, ale registrácia\, vytvorenie profilu a marketpace sú povinné. \n\nPri vypĺňaní prihlášky si v časti „Settings“ v rámci položky „Support office“ vyberte TUKE ako Vašu podpornú inštitúciu. Následne Vašu prihlášku obratom radi potvrdíme v registračnom systéme podujatia. Ďakujeme. \nKontakt: Enterprise Europe Network pri UVP TECHNICOM\, e-mail: een@uvptechnicom.sk
URL:https://uvptechnicom.sk/event/connect-day-2023/
CATEGORIES:EEN podujatia,Kooperačné podujatia, veľtrhy, výstavy
ATTACH;FMTTYPE=image/jpeg:https://uvptechnicom.sk/wp-content/uploads/2023/03/Connect-2023.jpg
END:VEVENT
BEGIN:VEVENT
DTSTART;VALUE=DATE:20230531
DTEND;VALUE=DATE:20230603
DTSTAMP:20260424T033853
CREATED:20221111T115811Z
LAST-MODIFIED:20221111T120006Z
UID:25144-1685491200-1685750399@uvptechnicom.sk
SUMMARY:Príležitosť pre študentov - European Student Assembly 2023
DESCRIPTION:Milí študenti\, \nKomunita Európskych univerzít spúšťa ďalší ročník Európskeho študentského zhromaždenia – European Student Assembly [#ESA23]. \nEurópske študentské zhromaždenie je iniciatívou\, ktorá už druhý rok ponúka študentov aliancií Európskych univerzít (EUA) priestor pre diskusiu o aktuálnych výzvach týkajúcich sa budúcnosti Európy. Zhromaždenie pripravuje odporúčania pre orgány Európskej komisie a je koordinované tímom študentov a kolegov z vysokých škôl zapojených do EUA iniciatívy. TUKE je súčasťou aliancie Ulysseus a tento rok bolo na zhromaždení reprezentované dvojicou študentov. \nVybraní študenti pre nový ročník budú od marca do mája 2023 pracovať online spoločne na definovaných témach a pripravia odporúčanie (stanovisko)\, ktoré budú prezentovať na 3 dňovom medzinárodnom zhromaždení v Štrasburgu (31.5.-2.6.2023). \nŠtudenti TUKE majú možnosť prihlásiť sa a zapojiť sa do tejto iniciatívy. Je to pre vás príležitosť prezentovať svoje názory a postoje a prispieť tak k formovaniu budúcnosti Európskej únie. Náklady na ubytovanie počas podujatia v Štrasburgu hradí ESA a náklady na cestovné z európskych krajín hradí projekt Ulysseus. Termín na podanie prihlášky je 4. December 2022 23:59 CET: https://www.euc-initiative.com/european-student-assembly/esa23-how-to-apply/ \nĎalšie informácie o iniciatíve a o postupe prihlásenia nájdete na ulysseus.eu a v príručke : #ESA23 handbook \nwww.euc-initiative.com | EUC-ESA Instagram | EUC-ESA Facebook | EUC_ESA Twitter | EUC Linkedin \n\nO aliancii Ulysseus \nAliancia Ulysseus je jednou zo 41 európskych univerzít\, ktoré Európska komisia vybrala za univerzity budúcnosti. Členmi aliancie sú Univerzita v  Seville (Španielsko\, koordinátor aliancie)\, Univerzita v Janove (Taliansko)\, Univerzita Côte d’Azur (Francúzsko)\, Technická univerzita v Košiciach\, univerzita MCI | The Entrepreneurial School® (Rakúsko) a Univerzita aplikovaných vied Haaga-Helia (Fínsko). \nAliancia otvára možnosti pre študentov\, učiteľov a výskumníkov z partnerských univerzít pre ich vzdelávanie\, vzájomné mobility a nové špičkové výskumné projekty. \nViac informácií o aliancii Ulysseus: www.ulysseus.eu
URL:https://uvptechnicom.sk/event/prilezitost-pre-studentov-european-student-assembly-2023/
LOCATION:Strasbourg\, Strasbourg\, France
CATEGORIES:Odporúčame účasť
ATTACH;FMTTYPE=image/jpeg:https://uvptechnicom.sk/wp-content/uploads/2022/11/1667206413331.jpeg
END:VEVENT
BEGIN:VEVENT
DTSTART;TZID=Europe/Bratislava:20230531T140000
DTEND;TZID=Europe/Bratislava:20230531T160000
DTSTAMP:20260424T033853
CREATED:20230316T133538Z
LAST-MODIFIED:20230322T102836Z
UID:27126-1685541600-1685548800@uvptechnicom.sk
SUMMARY:Biznis fórum
DESCRIPTION: 
URL:https://uvptechnicom.sk/event/biznis-forum-7/
LOCATION:UVP TECHNICOM a online\, Němcovej 5\, Košice\, Slovakia (Slovak Republic)
CATEGORIES:UVP a TUKE
ATTACH;FMTTYPE=image/jpeg:https://uvptechnicom.sk/wp-content/uploads/2023/03/Res_64131b273706c313344374.jpg
END:VEVENT
BEGIN:VEVENT
DTSTART;TZID=Europe/Bratislava:20230531T160000
DTEND;TZID=Europe/Bratislava:20230531T180000
DTSTAMP:20260424T033853
CREATED:20230316T133647Z
LAST-MODIFIED:20230322T102837Z
UID:27129-1685548800-1685556000@uvptechnicom.sk
SUMMARY:Startup Connect
DESCRIPTION: 
URL:https://uvptechnicom.sk/event/startup-connect-8/
LOCATION:UVP TECHNICOM\, Boženy Němcovej 5\, Košice\, Slovakia (Slovak Republic)
CATEGORIES:UVP a TUKE
ATTACH;FMTTYPE=image/jpeg:https://uvptechnicom.sk/wp-content/uploads/2023/03/Res_64131b6cbf585895878145.jpg
END:VEVENT
END:VCALENDAR