BEGIN:VCALENDAR
VERSION:2.0
PRODID:-//UVP TECHNICOM - ECPv6.15.20//NONSGML v1.0//EN
CALSCALE:GREGORIAN
METHOD:PUBLISH
X-ORIGINAL-URL:https://uvptechnicom.sk
X-WR-CALDESC:Events for UVP TECHNICOM
REFRESH-INTERVAL;VALUE=DURATION:PT1H
X-Robots-Tag:noindex
X-PUBLISHED-TTL:PT1H
BEGIN:VTIMEZONE
TZID:Europe/Bratislava
BEGIN:DAYLIGHT
TZOFFSETFROM:+0100
TZOFFSETTO:+0200
TZNAME:CEST
DTSTART:20220327T010000
END:DAYLIGHT
BEGIN:STANDARD
TZOFFSETFROM:+0200
TZOFFSETTO:+0100
TZNAME:CET
DTSTART:20221030T010000
END:STANDARD
BEGIN:DAYLIGHT
TZOFFSETFROM:+0100
TZOFFSETTO:+0200
TZNAME:CEST
DTSTART:20230326T010000
END:DAYLIGHT
BEGIN:STANDARD
TZOFFSETFROM:+0200
TZOFFSETTO:+0100
TZNAME:CET
DTSTART:20231029T010000
END:STANDARD
BEGIN:DAYLIGHT
TZOFFSETFROM:+0100
TZOFFSETTO:+0200
TZNAME:CEST
DTSTART:20240331T010000
END:DAYLIGHT
BEGIN:STANDARD
TZOFFSETFROM:+0200
TZOFFSETTO:+0100
TZNAME:CET
DTSTART:20241027T010000
END:STANDARD
END:VTIMEZONE
BEGIN:VEVENT
DTSTART;VALUE=DATE:20230113
DTEND;VALUE=DATE:20230629
DTSTAMP:20260424T050952
CREATED:20230219T195642Z
LAST-MODIFIED:20230612T131302Z
UID:26864-1673568000-1687996799@uvptechnicom.sk
SUMMARY:Akceleračný program
DESCRIPTION:13.01.2023 – HODNOTENIE POBYTU STARTUPOV v Startup centre UVP TECHNICOM20.01.2023 – 16. kolo súťaže startupov08.02.2023 – Úvodné stretnutie startupov (16. akceleračný program)14.02.2023 – Pracovné stretnutie so startupmi16.02.2023 – Ako vybudovať zdravú a rozumnú firmu22.02.2023 – Validácia ideí22.02.2023 – Startup Connect01.03.2023 – Projektové riadenie08.03.2023 – Ochrana vynálezov a počítačových programov v podnikaní15.03.2023 – Motivačná prednáška úspešnej firmy22.03.2023 – Finančné zdroje pre startup a cash-flow28.03.2023 – Outfit\, infit a komunikácia29.03.2023 – Biznis fórum29.03.2023 – Startup Connect04.04.2023 – Finančný trh05.04.2023 – Biznis model Canvas – praktické riešenie12.04.2023 – Na čo nesmeme zabudnúť pri budovaní svojej značky18.04.2023 – Účtovníctvo19.04.2023 – Getting things done26.04.2023 – Biznis fórum09.05.2023 – Typológia osobnosti10.05.2023 – Digitálny marketing na soc.sieťach24.05.2023 – Elevator Pitch31.05.2023 – Biznis fórum31.05.2023 – Startup Connect07.06.2023 – Prezentačné zručnosti14.06.2023 – Príprava na finálnu prezentáciu21.06.2023 – Ako si založiť firmu26.06.2023 – Súťaž startupov 17.kolo „Máš nápad„28.06.2023 – Prehodnotenie startupov28.06.2023 – Startup Connect
URL:https://uvptechnicom.sk/event/akceleracny-program-2023/
LOCATION:UVP TECHNICOM a online\, Němcovej 5\, Košice\, Slovakia (Slovak Republic)
CATEGORIES:UVP a TUKE
ATTACH;FMTTYPE=image/jpeg:https://uvptechnicom.sk/wp-content/uploads/2023/02/dev-program-sk-06.jpg
END:VEVENT
BEGIN:VEVENT
DTSTART;VALUE=DATE:20230522
DTEND;VALUE=DATE:20230607
DTSTAMP:20260424T050952
CREATED:20230518T193229Z
LAST-MODIFIED:20230518T194142Z
UID:28153-1684713600-1686095999@uvptechnicom.sk
SUMMARY:Webináre Compass na najbližší mesiac
DESCRIPTION:Aliancia Ulysseus v rámci satelitného projektu Compass organizuje pravidelné webináre na rôzne témy s cieľom poskytnúť výskumníkom na inštitúciách prehľad v oblasti aktuálnych tém\, čo prispeje ku kariérnemu rozvoju. Ponúkame vám prehľad najbližších webinárov\, na ktoré sa môžete registrovať a zúčastniť online. \nWebinar: From Research to entrepreneurship… It can work!\nDátum: 22. máj 2023 od 12:00 hod.Organizuje: Univerzita aplikovaných vied\, Haaga-Helia\, Fínsko \nČo znamená začať podnikať? Ako to skombinovať s výskumom? \nPripojte sa k tomuto interaktívnemu webináru\, aby ste sa dozvedeli viac o podnikaní a mohli začať podnikať. Obsah bude nasledovný: \n\nPrenosné zručnosti (od výskumu k podnikaniu)\nFalošné mýty o podnikaní\, o ktorých by ste mali vedieť.\nKde nájsť podporu a poradenstvo (ľudia\, zdroje\, nástroje)\nSkutočný príbeh od výskumníka podnikateľa Miroslava Michalka\, CSO z Ceelabs\n\nNezáleží na tom\, či o tejto téme nemáte potuchy alebo už formujete svoj inovatívny nápad. Tento webinár je pre všetkých výskumníkov alebo zvedavých ľudí\, ktorí sa zaujímajú o začatie podnikateľskej kariéry. \n\nViac informácií o webinári\nRegistrácia na webinar\n\n			\n				\n				\n				\n				\n				\n			\n				\n				\n				\n				\n				Webinar: Is a 100% renewable electricity sector really possible?\nDátum: 23. máj 2023 od 12:00 hod.Organizuje: Univerzita v Seville\, Španielsko \nVypuknutie vojny na Ukrajine spôsobilo\, že prehodnotenie energetickej politiky v Európskej únii bolo oveľa potrebnejšie vzhľadom na zraniteľnosť\, ktorú predstavuje v dôsledku jej závislosti od zahraničnej energie\, najmä od ruského plynu a ropy. Táto situácia nás núti ešte viac vsádzať na obnoviteľné zdroje energie\, ktoré sú nielen účinným nástrojom v boji proti klimatickým zmenám\, ale aj silným receptom Európskej únie na dosiahnutie energetickej autonómie. \nTohto webinára sa zúčastnia štyria odborníci\, dvaja odborníci na právo (Roberto Galán-Vioque\, profesor verejného práva na Univerzite v Seville a Maria Bertel\, profesorka verejného práva na Karl-Franzens–University of Graz) a dvaja z odboru inžinierstva (Ángel Arcos-Vargas a Antonio Gómez-Expósito\, obaja profesori a výskumní pracovníci na Katedre elektrotechniky Univerzity v Seville). \n\nViac informácií o webinári\nRegistrácia na webinár\n\n			\n				\n				\n				\n				\n				\n			\n				\n				\n				\n				\n				Webinar: Industrial Sustainability: Challenges\, Perspectives\, Actions\nDátum: 25. máj 2023 od 12:30 hod.Organizuje: MCI Entrepreneurial School\, Innsbruck\, Rakúsko \nUdržateľný manažment sa zameriava na riešenie environmentálnych a sociálnych problémov\, ako sú klimatické zmeny\, vyčerpávanie zdrojov a nerovnosť. Podporou udržateľných praktík môžu podniky znížiť svoj vplyv na životné prostredie\, zlepšiť svoju povesť a vytvoriť nové príležitosti pre inovácie a rast. \nOkrem toho môže udržateľné riadenie znížiť prevádzkové náklady a zvýšiť ziskovosť elimináciou odpadu a efektívnejším využívaním zdrojov\, čím sa vytvorí konkurenčná výhoda na trhu. \nPripojte sa k nám na pútavú a poučnú diskusiu a zistite\, ako je udržateľné riadenie nevyhnutné na vytvorenie odolnejšieho a spravodlivejšieho hospodárstva\, ktoré dokáže uspokojiť potreby súčasných a budúcich generácií. \n\nViac informácií o webinári\nRegistrácia na webinár\n\n			\n				\n				\n				\n				\n				\n			\n				\n				\n				\n				\n				Webinar: Meet the Ulysseus Post-docs in Ageing and Well-being\nDátum: 6. jún 2023 od 12:00 hod.Organizuje: Univerzita v Nice\, Francúzsko \nInovačný Hub pre Ageing & Wellbeing v Nice udelilo v roku 2022 štyri postdoktorandské štipendiá. Sme nadšení\, že môžeme predstaviť týchto štipendistov a poskytnúť im príležitosť predviesť svoju prácu. \nPrvým rečníkom je Flavio Da Silva\, ktorý predstaví svoju prácu a bude diskutovať o dôležitosti zvažovania motorickej stratégie pri vykonávaní pohybov zo sedu do stoja\, aby sa presnejšie posúdil pokles fyzickej funkcie súvisiaci s vekom. \nDruhým rečníkom je Bogdan Grigorash\, ktorý odprezentuje zistenia svojej štúdie\, ktoré zdôrazňujú výhody zníženia počtu senescentných buniek p16High počas 4-faktorového čiastočného preprogramovania a položia základ pre budúce štúdie omladzovania tkanív. \nTreťou rečníčkou je Giulia Allavena\, ktorá bude hovoriť o úlohe cGAS-STING v mikroprostredí starnúceho nádoru. Zistite\, ako zebrafish s deficitom telomerázy slúži ako model predčasného starnutia a ako je dráha vrodenej imunity cGAS-STING kľúčovým regulátorom sekrečného fenotypu spojeného so starnutím (SASP). Dozviete sa o nedávnych experimentoch\, ktoré odhaľujú cGAS-STING\, ako je potrebné pre fenotyp starnutia telomerázových mutantov a potenciálne dôsledky pre prevenciu rakoviny. \nPoslednou rečníčkou je Claudia Zoller\, ktorá pracuje v oblasti behaviorálnej ekonómie zdravia so zameraním na podporu zdravého správania. Bude diskutovať o svojom výskume o tom\, ako podporovať zdravé správanie u starnúcich dospelých\, s osobitným zameraním na fyzickú aktivitu a stravu. Predstaví výsledky svojej štúdie\, ktorej cieľom je poskytnúť pohľad na faktory správania\, ktoré môžu prispieť k zdravému starnutiu. \n\nViac informácií o webinári\nRegistrácia na webinár\n\n\n\nO projekte Compass\nProjekt COMPASS\, ako tzv. satelitný projekt aliancie Ulysseus\, pripravuje alianciu k tomu\, aby sa stala modelom excelentnosti európskej univerzity prostredníctvom výskumu a inovácií. Ide o projekt financovaný z programu Horizont 2020 a je vlajkovou loďou pre spoločnú výskumnú a inovačnú stratégiu aliancie Ulysseus. Projekt\, ktorý je súčasťou programu Veda so spoločnosťou a pre spoločnosť programu Horizont 2020 (SwafS)\, uľahčí transformačný proces aliancie Ulysseus smerom k tomu\, aby sa stala európskou univerzitou prostredníctvom spoločnej stratégie výskumu a inovácií\, ktorá následne skonsoliduje jej inovačný ekosystém. \n			\n				\n				\n				\n				\n				\n			\n				\n				\n				\n				\n				Viac informácií: ulysseus.eu/compass
URL:https://uvptechnicom.sk/event/webinare-compass-na-najblizsi-mesiac/
LOCATION:Online
CATEGORIES:Odporúčame účasť,Ulysseus
ATTACH;FMTTYPE=image/png:https://uvptechnicom.sk/wp-content/uploads/2023/05/c1.png
END:VEVENT
BEGIN:VEVENT
DTSTART;VALUE=DATE:20230524
DTEND;VALUE=DATE:20230526
DTSTAMP:20260424T050952
CREATED:20230413T151021Z
LAST-MODIFIED:20230413T151106Z
UID:27484-1684886400-1685059199@uvptechnicom.sk
SUMMARY:Kooperačné podujatie Speed Match 2023
DESCRIPTION:Enterprise Europe Network vás pozýva na medzinárodné podujatie Speed Match 2023 zamerané  na letecký\, železničný a automobilový sektor. Cieľom podujatia je nadviazanie vzájomných vzťahov a rozšírenia svojich obchodných sietí medzi spoločnosťami s podobnými výrobnými kapacitami. \nMiesto konania: Eskişehir\, Turkey\, on-lineDátum konania: 24.5 – 25.5. 2023Registrácia: do 23.5.2023 link: https://speedmatch2023.b2match.io/registration/profileWeb stránka podujatia: https://speedmatch2023.b2match.io/ \nPodujatie Speed Match 2023 poskytne veľkým spoločnostiam\, malým a stredným podnikom\, komorám\, klastrom\, investorom\, verejným inštitúciám a združeniam jedinečnú príležitosť nadviazať obchodné a technologické partnerstvá prostredníctvom vopred naplánovaných 20-minútových stretnutí 1 – 1. S cieľom umožniť účastníkom nájsť vhodných partnerov je každý účastník povinný vyplniť aspoň jednu položku v časti “Marketplace”. \nZameranie podujatia: \nLetecký priemysel – výroba motorových\, konštrukčných dielov\, tvárnenie plechov\, výroba nástrojov\, presné sústruženie\, káblové zväzky\, špeciálne procesy\, povrchová úprava\, montáž\, integrácia atď. \nŽelezničný priemysel – výroba lokomotív\, výroba vagónov a komponentov\, kabín\, podvozkov\, dieselových motorov\, výroba brzdových systémov\, signalizačných riešení\, energetických systémov a kabeláže\, presné odlievanie\, presné obrábanie\, montáž\, lakovanie\, nátery atď. \nAutomobilový dodávateľský priemysel – výroba nákladných vozidiel\, ľahkých úžitkových vozidiel\, pohonných jednotiek\, motorov a ich častí\, karosérií hriadeľov\, hasičských vozidiel\, záchranárskych vozidiel\, zdvihákov na zdvíhanie automobilov\, systémov na zamykanie dverí vozidiel\, prívesov\, kabín obsluhy\, podvozkov\, nápravových hriadeľov\, zadných prevodových hriadeľov a automobilových dielov atď. \nÚčasť na podujatí je bezplatná\, ale registrácia a aktivácia profilu sú povinné. \nPri vypĺňaní prihlášky si v časti „Settings“ v rámci položky „Support office“ vyberte TUKE ako Vašu podpornú inštitúciu. Následne Vašu prihlášku obratom radi potvrdíme v registračnom systéme podujatia. Ďakujeme. \nKontakt: Enterprise Europe Network pri UVP TECHNICOM\, email: een@uvptechnicom.sk
URL:https://uvptechnicom.sk/event/kooperacne-podujatie-speed-match-2023/
CATEGORIES:Kooperačné podujatia, veľtrhy, výstavy
ATTACH;FMTTYPE=image/jpeg:https://uvptechnicom.sk/wp-content/uploads/2023/04/Kooperacne-podujatie-Speed-Match-2023.jpg
END:VEVENT
BEGIN:VEVENT
DTSTART;VALUE=DATE:20230525
DTEND;VALUE=DATE:20230527
DTSTAMP:20260424T050952
CREATED:20230314T213054Z
LAST-MODIFIED:20230314T213511Z
UID:27078-1684972800-1685145599@uvptechnicom.sk
SUMMARY:Matchmakingové podujatie GREENTECH 2023
DESCRIPTION:Enterprise Europe Network vás pozýva na matchmakingové podujatie GreenTech 2023\, ktoré bude súčasťou 4. ročníka výstavy a konferencie Green Energy & Sustainability  v maďarskom Zalaegerszeg. Prihlášky do 25. mája 2023. \n\nDátum konania: 25.-26.5.2023Miesto konania: Zalaegerszeg\, Maďarsko/onlineRegistrácia otvorená do: 25.5.2023Prihláška: https://greentech-2023.b2match.io/signupWeb stránka podujatia: https://greentech-2023.b2match.io/ \n\nPočas konferencie na vás čakajú inšpiratívne plenárne zasadnutia\, pôsobiví vystavovatelia a cielené stretnutia. \n\nVyužite príležitosť rozšíriť svoje poznatky o skúsenosti domácich a zahraničných spoločností ako MOL\, E.ON\, METRANS\, Porsche a ďalšie na panelových diskusiách a plenárnych zasadnutiach! \n\nZameranie podujatia: \n\nEnergia / Energetika / Energetická stratégia\nElektromobilita\nAutomobilový priemysel\nDoprava / Verejná doprava / Ekologická doprava / Logistika\nMestská mobilita\nTechnológia dronov\nObehové hospodárstvo\nOdpadové hospodárstvo\nHydrogénová energia / Hydrogénová doprava\n\n\nRegistrovať na konferenciu\, Test track a návštevy firiem sa môžete na oficiálnej stránke konferencie! \n\nÚčasť na matchmakingu je bezplatná\, ale registrácia je povinná. \nPri vypĺňaní prihlášky si v časti „Settings“ v rámci položky „Support office“ vyberte TUKE ako Vašu podpornú inštitúciu. Následne Vašu prihlášku obratom radi potvrdíme v registračnom systéme podujatia. Ďakujeme. \nKontakt: Enterprise Europe Network pri UVP TECHNICOM\, e-mail: een@uvptechnicom.sk
URL:https://uvptechnicom.sk/event/matchmakingove-podujatie-greentech-2023/
CATEGORIES:EEN podujatia,Kooperačné podujatia, veľtrhy, výstavy
ATTACH;FMTTYPE=image/jpeg:https://uvptechnicom.sk/wp-content/uploads/2023/03/GREENTECH-2023.jpg
END:VEVENT
BEGIN:VEVENT
DTSTART;TZID=Europe/Bratislava:20230525T090000
DTEND;TZID=Europe/Bratislava:20230525T130000
DTSTAMP:20260424T050952
CREATED:20230521T185758Z
LAST-MODIFIED:20230521T190453Z
UID:28229-1685005200-1685019600@uvptechnicom.sk
SUMMARY:Upon personal invitation only
DESCRIPTION:Program: \n9.00-9.30 – Opening remarks  \n\nKatarína Miňová\, AmCham Slovakia\nMatúš Draganovský\, SUVko Coaching\n\n9.30-12.00 – Design Thinkging Process in Working Groups/Topical Tables \nThe discussion will be divided into six topical tables: \n\nHUMAN CAPITAL OF EASTERN SLOVAKIA (Eva Belková)\nATTRACTIVITY&VISIBILITY OF EASTERN SLOVAKIA (Pavol Mirossay)\nINFRASTRUCTURE OF EASTERN SLOVAKIA (Miriam Šebová)\nHEALTHCARE IN EASTERN SLOVAKIA (Roman Žitný)\nMANUFACTURING IN EASTERN SLOVAKIA (Juraj Sabol)\nINNOVATION ECOSYSTEM OF EASTERN SLOVAKIA (Peter Kolesár)\n\n12.00-13.00 – Final Phase \n\nTeam Summaries\nClosing Remarks – “Riadenie zmeny” by Jozef Ondáš\nCall to Action\nQ&A\n\n\nOur facilitated roundtable discussions will focus on the current state of Eastern Slovakia’s potential\, and we can’t wait to hear your thoughts and ideas. It will be a fantastic opportunity to connect with others who share your passion for the region\, and to explore new avenues of collaboration and growth. Since we consider you to be valuable part of creating this roadmap of Eastern Slovakia’s potential\, we would love to have you join us for this engaging and inspiring event adressing main challenges and uncovering hidden potential of Eastern Slovakia in different sectors.
URL:https://uvptechnicom.sk/event/upon-personal-invitation-only/
LOCATION:UVP TECHNICOM\, Boženy Němcovej 5\, Košice\, Slovakia (Slovak Republic)
CATEGORIES:UVP a TUKE
ATTACH;FMTTYPE=image/jpeg:https://uvptechnicom.sk/wp-content/uploads/2023/05/Obrazok1-1.jpg
END:VEVENT
END:VCALENDAR