BEGIN:VCALENDAR
VERSION:2.0
PRODID:-//UVP TECHNICOM - ECPv6.15.20//NONSGML v1.0//EN
CALSCALE:GREGORIAN
METHOD:PUBLISH
X-WR-CALNAME:UVP TECHNICOM
X-ORIGINAL-URL:https://uvptechnicom.sk
X-WR-CALDESC:Events for UVP TECHNICOM
REFRESH-INTERVAL;VALUE=DURATION:PT1H
X-Robots-Tag:noindex
X-PUBLISHED-TTL:PT1H
BEGIN:VTIMEZONE
TZID:Europe/Bratislava
BEGIN:DAYLIGHT
TZOFFSETFROM:+0100
TZOFFSETTO:+0200
TZNAME:CEST
DTSTART:20220327T010000
END:DAYLIGHT
BEGIN:STANDARD
TZOFFSETFROM:+0200
TZOFFSETTO:+0100
TZNAME:CET
DTSTART:20221030T010000
END:STANDARD
BEGIN:DAYLIGHT
TZOFFSETFROM:+0100
TZOFFSETTO:+0200
TZNAME:CEST
DTSTART:20230326T010000
END:DAYLIGHT
BEGIN:STANDARD
TZOFFSETFROM:+0200
TZOFFSETTO:+0100
TZNAME:CET
DTSTART:20231029T010000
END:STANDARD
BEGIN:DAYLIGHT
TZOFFSETFROM:+0100
TZOFFSETTO:+0200
TZNAME:CEST
DTSTART:20240331T010000
END:DAYLIGHT
BEGIN:STANDARD
TZOFFSETFROM:+0200
TZOFFSETTO:+0100
TZNAME:CET
DTSTART:20241027T010000
END:STANDARD
END:VTIMEZONE
BEGIN:VEVENT
DTSTART;VALUE=DATE:20230113
DTEND;VALUE=DATE:20230629
DTSTAMP:20260424T050844
CREATED:20230219T195642Z
LAST-MODIFIED:20230612T131302Z
UID:26864-1673568000-1687996799@uvptechnicom.sk
SUMMARY:Akceleračný program
DESCRIPTION:13.01.2023 – HODNOTENIE POBYTU STARTUPOV v Startup centre UVP TECHNICOM20.01.2023 – 16. kolo súťaže startupov08.02.2023 – Úvodné stretnutie startupov (16. akceleračný program)14.02.2023 – Pracovné stretnutie so startupmi16.02.2023 – Ako vybudovať zdravú a rozumnú firmu22.02.2023 – Validácia ideí22.02.2023 – Startup Connect01.03.2023 – Projektové riadenie08.03.2023 – Ochrana vynálezov a počítačových programov v podnikaní15.03.2023 – Motivačná prednáška úspešnej firmy22.03.2023 – Finančné zdroje pre startup a cash-flow28.03.2023 – Outfit\, infit a komunikácia29.03.2023 – Biznis fórum29.03.2023 – Startup Connect04.04.2023 – Finančný trh05.04.2023 – Biznis model Canvas – praktické riešenie12.04.2023 – Na čo nesmeme zabudnúť pri budovaní svojej značky18.04.2023 – Účtovníctvo19.04.2023 – Getting things done26.04.2023 – Biznis fórum09.05.2023 – Typológia osobnosti10.05.2023 – Digitálny marketing na soc.sieťach24.05.2023 – Elevator Pitch31.05.2023 – Biznis fórum31.05.2023 – Startup Connect07.06.2023 – Prezentačné zručnosti14.06.2023 – Príprava na finálnu prezentáciu21.06.2023 – Ako si založiť firmu26.06.2023 – Súťaž startupov 17.kolo „Máš nápad„28.06.2023 – Prehodnotenie startupov28.06.2023 – Startup Connect
URL:https://uvptechnicom.sk/event/akceleracny-program-2023/
LOCATION:UVP TECHNICOM a online\, Němcovej 5\, Košice\, Slovakia (Slovak Republic)
CATEGORIES:UVP a TUKE
ATTACH;FMTTYPE=image/jpeg:https://uvptechnicom.sk/wp-content/uploads/2023/02/dev-program-sk-06.jpg
END:VEVENT
BEGIN:VEVENT
DTSTART;VALUE=DATE:20230516
DTEND;VALUE=DATE:20230518
DTSTAMP:20260424T050844
CREATED:20230314T212820Z
LAST-MODIFIED:20230314T213353Z
UID:27076-1684195200-1684367999@uvptechnicom.sk
SUMMARY:Matchmakingové podujatie BIONNALE 2023
DESCRIPTION:Enterprise Europe Network vás pozýva na matchmakingové podujatie BIONNALE 2023\, ktoré je najväčším podujatím pre nadväzovanie kontaktov v oblasti prírodných vied a zdravotníctva. Prihlášky do 17. mája 2023. \n\nDátum konania: 16.-17.5.2023Miesto konania:  Berlín\, Nemecko/onlineRegistrácia otvorená do: 17.5.2023Prihláška: https://bionnale2023.b2match.io/registration/hybridWeb stránka podujatia: https://bionnale2023.b2match.io/home \n\nZástupcovia akademickej obce a priemyslu sa každoročne zúčastňujú na podujatí v oblasti vied o živej prírode v Berlíne s cieľom nadviazať kontakty a vytvárať strategické vzťahy. Sieťový charakter je jednou zo silných stránok podujatia BIONNALE\, na ktorom sa v roku 2022 zúčastnilo viac ako 1000 účastníkov z viac ako 50 krajín. \n\nBuďte súčasťou BIONNALE 2023 a využite informatívne prednášky a nové kontakty pre svoje podnikanie. Využite matchmakingové podujatie na to\, aby ste sa stretli so zástupcami spoločností v čase\, na ktorom sa vopred dohodnete. \n\nOrganizácia podujatia:  \n\n16.5.2023 – fyzické stretnutia v Berlíne\n17.5.2023 – online stretnutia\n\n\nPodujatia sa zúčastnia spoločnosti a výskumné inštitúcie z regiónu i mimo neho\, ktoré hľadajú možnosti spoločného vývoja alebo spoločného výskumu – Startupy s novými nápadmi a inovatívnymi prístupmi – Investori na strane podnikov\, inštitúcií a rizikového kapitálu a ďalšie zainteresované strany. \n\nÚčasť na matchmakingu je bezplatná\, ale registrácia je povinná. \nPri vypĺňaní prihlášky si v časti „Settings“ v rámci položky „Support office“ vyberte TUKE ako Vašu podpornú inštitúciu. Následne Vašu prihlášku obratom radi potvrdíme v registračnom systéme podujatia. Ďakujeme. \nKontakt: Enterprise Europe Network pri UVP TECHNICOM\, e-mail: een@uvptechnicom.sk
URL:https://uvptechnicom.sk/event/matchmakingove-podujatie-bionnale-2023/
CATEGORIES:EEN podujatia,Kooperačné podujatia, veľtrhy, výstavy
ATTACH;FMTTYPE=image/jpeg:https://uvptechnicom.sk/wp-content/uploads/2023/03/BIONNALE-2023.jpg
END:VEVENT
BEGIN:VEVENT
DTSTART;TZID=Europe/Bratislava:20230517T100000
DTEND;TZID=Europe/Bratislava:20230517T100000
DTSTAMP:20260424T050844
CREATED:20230425T131051Z
LAST-MODIFIED:20230514T115111Z
UID:27643-1684317600-1684317600@uvptechnicom.sk
SUMMARY:Webinár: Spolupráca s Ukrajinou - praktické rady a skúsenosti
DESCRIPTION:Pretrvávajúca vojnová situácia na území Ukrajiny negatívne ovplyvňuje ekonomiku nielen daného štátu\, ale celej svetovej ekonomiky. Napriek nepriaznivému stavu\, väčšina ukrajinských organizácií aktívne pokračuje vo svojich obchodných činnostiach s cieľom udržať a podporiť ekonomiku krajiny. \nMnohí však stratili svoje podnikanie a začínajú odznova. V snahe obnovy krajiny sa takto vynárajú nové obchodné možnosti nielen domácim podnikateľom. Stratili ste aj vy svojich dodávateľov či odberateľov v dôsledku vojny? Ukrajinci vyvíjajú vysoké úsilie\, aby napriek všetkému dokázali napredovať. Využite príležitosť pre svoje podnikanie pri obnove tejto krajiny aj vy! \nEnterprise Europe Network Vás pozýva na webinár Spolupráca s Ukrajinou – praktické rady a skúsenosti\, ktorý sa uskutoční dňa 17.5.2023 (streda) o 10.00hod. online. \nPodujatie je určené všetkým\, ktorí plánujú budúce podnikateľské aktivity na území Ukrajiny alebo s ukrajinskými organizáciami alebo ich zaujíma podnikateľské prostredie tejto krajiny. Vypočujte si skúsenosti a nechajte sa nimi inšpirovať. \nProgram: \n\n\n\n10:00\nPrezentácia služieb Enterprise Europe Network \n\n\n10:10\nVšeobecný prehľad o ekonomickej situácii a úrovni oživenia spoločností na Ukrajine  Informácie o Enterprise Europe Network Ukraine a iných partnerských organizáciách Online platformy pre podporu dodávateľského reťazca Olga Shubina – Kurulenko\, Ukrajinská obchodná a priemyselná komora (anglický jazyk) \n\n\n \nAktuálna situácia na Ukrajine a zmena podnikateľského prostredia v dôsledku relokácie podnikateľských subjektov z východu Ukrajiny na jej západnú časť.  Ing. Eduard Buraš – Poradca predsedu vlády SR pre cezhraničnú spoluprácu; Poradca ministra hospodárstva pre Ukrajinu\n\n\n \nAké sú možnosti financovania pre slovenské podniky na teritóriu Ukrajiny? Mgr. Diana Polónyi\, PhD. – Riaditeľka komunikácie a medzinárodných vzťahov\, EXIMBANKA SR\n\n\n \n\nDlhoročné skúsenosti slovenských podnikateľov so spoluprácou s Ukrajinou Simona Konkoľová – Obchodná riaditeľka spoločnosti HYDINA SLOVENSKO s.r.o. Ing. Matúš Murajda PhD. DBA. – Riaditeľ spoločnosti GEMOR Fashion s.r.o.  Eduard Popovič – CEO spoločnosti HRIIS s.r.o.  \n\n\n\n\nPrijmite naše pozvanie a prihláste sa elektronicky TU. \n  \nRegistrácia je otvorená do 17.5.2023\, 9:00hod. Predpokladaný čas trvania webinára max. 2 hod. Odkaz na pripojenie bude online účastníkom zaslaný krátko pred podujatím na email uvedený v registračnom formulári. Účasť na podujatí je pre malé a stredné podniky ZDARMA. \nKontakteen@uvptechnicom.sk\, Tel. číslo: +421 55 602 3661
URL:https://uvptechnicom.sk/event/webinar-spolupraca-s-ukrajinou-prakticke-rady-a-skusenosti/
LOCATION:Online
CATEGORIES:EEN podujatia,Semináre, workshopy, tréningy,UVP a TUKE
ATTACH;FMTTYPE=image/png:https://uvptechnicom.sk/wp-content/uploads/2023/04/POD-32023-kopia-kopia-kopia.png
END:VEVENT
END:VCALENDAR