BEGIN:VCALENDAR
VERSION:2.0
PRODID:-//UVP TECHNICOM - ECPv6.15.20//NONSGML v1.0//EN
CALSCALE:GREGORIAN
METHOD:PUBLISH
X-ORIGINAL-URL:https://uvptechnicom.sk
X-WR-CALDESC:Events for UVP TECHNICOM
REFRESH-INTERVAL;VALUE=DURATION:PT1H
X-Robots-Tag:noindex
X-PUBLISHED-TTL:PT1H
BEGIN:VTIMEZONE
TZID:Europe/Bratislava
BEGIN:DAYLIGHT
TZOFFSETFROM:+0100
TZOFFSETTO:+0200
TZNAME:CEST
DTSTART:20220327T010000
END:DAYLIGHT
BEGIN:STANDARD
TZOFFSETFROM:+0200
TZOFFSETTO:+0100
TZNAME:CET
DTSTART:20221030T010000
END:STANDARD
BEGIN:DAYLIGHT
TZOFFSETFROM:+0100
TZOFFSETTO:+0200
TZNAME:CEST
DTSTART:20230326T010000
END:DAYLIGHT
BEGIN:STANDARD
TZOFFSETFROM:+0200
TZOFFSETTO:+0100
TZNAME:CET
DTSTART:20231029T010000
END:STANDARD
BEGIN:DAYLIGHT
TZOFFSETFROM:+0100
TZOFFSETTO:+0200
TZNAME:CEST
DTSTART:20240331T010000
END:DAYLIGHT
BEGIN:STANDARD
TZOFFSETFROM:+0200
TZOFFSETTO:+0100
TZNAME:CET
DTSTART:20241027T010000
END:STANDARD
END:VTIMEZONE
BEGIN:VEVENT
DTSTART;VALUE=DATE:20230113
DTEND;VALUE=DATE:20230629
DTSTAMP:20260424T064635
CREATED:20230219T195642Z
LAST-MODIFIED:20230612T131302Z
UID:26864-1673568000-1687996799@uvptechnicom.sk
SUMMARY:Akceleračný program
DESCRIPTION:13.01.2023 – HODNOTENIE POBYTU STARTUPOV v Startup centre UVP TECHNICOM20.01.2023 – 16. kolo súťaže startupov08.02.2023 – Úvodné stretnutie startupov (16. akceleračný program)14.02.2023 – Pracovné stretnutie so startupmi16.02.2023 – Ako vybudovať zdravú a rozumnú firmu22.02.2023 – Validácia ideí22.02.2023 – Startup Connect01.03.2023 – Projektové riadenie08.03.2023 – Ochrana vynálezov a počítačových programov v podnikaní15.03.2023 – Motivačná prednáška úspešnej firmy22.03.2023 – Finančné zdroje pre startup a cash-flow28.03.2023 – Outfit\, infit a komunikácia29.03.2023 – Biznis fórum29.03.2023 – Startup Connect04.04.2023 – Finančný trh05.04.2023 – Biznis model Canvas – praktické riešenie12.04.2023 – Na čo nesmeme zabudnúť pri budovaní svojej značky18.04.2023 – Účtovníctvo19.04.2023 – Getting things done26.04.2023 – Biznis fórum09.05.2023 – Typológia osobnosti10.05.2023 – Digitálny marketing na soc.sieťach24.05.2023 – Elevator Pitch31.05.2023 – Biznis fórum31.05.2023 – Startup Connect07.06.2023 – Prezentačné zručnosti14.06.2023 – Príprava na finálnu prezentáciu21.06.2023 – Ako si založiť firmu26.06.2023 – Súťaž startupov 17.kolo „Máš nápad„28.06.2023 – Prehodnotenie startupov28.06.2023 – Startup Connect
URL:https://uvptechnicom.sk/event/akceleracny-program-2023/
LOCATION:UVP TECHNICOM a online\, Němcovej 5\, Košice\, Slovakia (Slovak Republic)
CATEGORIES:UVP a TUKE
ATTACH;FMTTYPE=image/jpeg:https://uvptechnicom.sk/wp-content/uploads/2023/02/dev-program-sk-06.jpg
END:VEVENT
BEGIN:VEVENT
DTSTART;VALUE=DATE:20230418
DTEND;VALUE=DATE:20230429
DTSTAMP:20260424T064635
CREATED:20230222T095427Z
LAST-MODIFIED:20230222T095814Z
UID:26909-1681776000-1682726399@uvptechnicom.sk
SUMMARY:Obchodné stretnutia so zameraním na IT v zdravotníctve
DESCRIPTION:DMEA Business Meetings 2023\n\n\nVyužite príležitosť stretnúť potenciálnych partnerov pre nové obchodné a výskumno-vývojové projekty počas kooperačného podujatia DMEA Business Meetings\, ktoré sa uskutoční 18.-28. apríla 2023 hybridnou formou. Prihlášky do 26. apríla 2023. \nDátum konania: 18.-28.4.2023Miesto konania: Berlín\, Nemecko/onlineRegistrácia otvorená do: 26.4.2023Prihláška: https://dmea2023.b2match.io/signupWeb stránka podujatia: https://dmea2023.b2match.io/page-1091 \nZástupcovia spoločností\, univerzít a výskumných ústavov\, ktorí ponúkajú alebo požadujú inovatívne riešenia\, hľadajú nové obchodné či projektové partnerstvá budú mať skvelú príležitosť prediskutovať svoje nápady tvárou v tvár s medzinárodnými odborníkmi na vopred dohodnutých 20 minútových stretnutiach. \nVyužite príležitosť zviditeľniť svoju organizáciu alebo podnik! Vytvorte profil svojej organizácie na tejto stránke a nájdite nových partnerov pre medzinárodnú spoluprácu v oblasti výskumu\, technológií a inovácií. Nadviažte cezhraničné kontakty a získajte najnovšie informácie o trendoch a inováciách. \nÚčasť na matchmakingu je bezplatná\, ale registrácia povinná. \nNa získanie bezplatnej jednodňovej vstupenky na obchodné stretnutia DMEA je potrebné absolvovať minimálne 2 potvrdené stretnutia. Elektronický kód dostanete niekoľko dní pred podujatím. \nZameranie podujatia: \n\nIT riešenia pre lekárske ordinácie\, laboratóriá a rádiografy\nSoftvér pre nemocnice\, rehabilitačné kliniky a opatrovateľské domy\nHardvér a IT infraštruktúra\nKomunikačné riešenia\nRiešenia pre telemedicínu\nZdravotnícka technika (zodpovedá IT)\n\nOrganizácia podujatia: \n\n1.3-26.4.2023 – registrácia\n26.4.2023 – onsite stretnutia\n18.-28.4.2023 – online stretnutia\n\nPri vypĺňaní prihlášky si v časti „Settings“ v rámci položky „Support office“ vyberte TUKE ako Vašu podpornú inštitúciu. Následne Vašu prihlášku obratom radi potvrdíme v registračnom systéme podujatia. Ďakujeme. \nKontakt: Enterprise Europe Network pri UVP TECHNICOM\, e-mail: een@uvptechnicom.sk
URL:https://uvptechnicom.sk/event/obchodne-stretnutia-so-zameranim-na-it-v-zdravotnictve/
LOCATION:Berlín\, Berlin\, Germany
CATEGORIES:EEN podujatia,Kooperačné podujatia, veľtrhy, výstavy
ATTACH;FMTTYPE=image/jpeg:https://uvptechnicom.sk/wp-content/uploads/2023/02/Obchodne-stretnutia-so-zameranim-na-IT-v-zdravotnictve.jpg
END:VEVENT
BEGIN:VEVENT
DTSTART;VALUE=DATE:20230425
DTEND;VALUE=DATE:20230505
DTSTAMP:20260424T064635
CREATED:20230314T213217Z
LAST-MODIFIED:20230314T213611Z
UID:27079-1682380800-1683244799@uvptechnicom.sk
SUMMARY:Matchmakingové podujatie JECworld 2023
DESCRIPTION:Enterprise Europe Network vás pozýva na matchmakingové podujatie JECworld 2023 so zameraním na oblasť kompozitov. Prihlášky do 4. mája 2023. \n\nDátum konania: 25.4.-4.5.2023Miesto konania: Paríž\, Francúzsko/onlineRegistrácia otvorená do: 4.5.2023Prihláška: https://een-matchmaking-jecworld-2023.b2match.io/registration/participationWeb stránka podujatia: https://een-matchmaking-jecworld-2023.b2match.io/home \n\nJECworld 2023 je najlepším miestom pre najnovšie inovácie a špičkové technológie v oblasti kompozitov. Matchmakingové podujatie spája spoločnosti (nákupcov aj dodávateľov)\, výskumníkov\, start-upy či klastre z rôznych európskych krajín. \n\nStretnutia sa budú konať buď priamo na mieste v Paríži na veľtrhu\, alebo v rámci online stretnutí po skončení veľtrhu. Existuje aj možnosť zúčastniť sa na oboch typoch stretnutí. Stretnutia sa budú konať vo vyhradenom priestore a budú dohodnuté vopred prostredníctvom tejto webovej stránky. \n\nOrganizácia podujatia: \n\n25. – 27. apríla 2023 – fyzické stretnutia v mieste konania výstavy JEC v Paríži\n3. – 4. mája 2023 – online stretnutia\n\n\nZameranie podujatia: \n\nVlákna\nKompozitné materiály\nPlasty\nPolyméry\nUhlík\nSklo\n\n\nÚčasť na matchmakingu je bezplatná\, ale registrácia\, vytvorenie profilu a marketplace sú povinné. \nPri vypĺňaní prihlášky si v časti „Settings“ v rámci položky „Support office“ vyberte TUKE ako Vašu podpornú inštitúciu. Následne Vašu prihlášku obratom radi potvrdíme v registračnom systéme podujatia. Ďakujeme. \nKontakt: Enterprise Europe Network pri UVP TECHNICOM\, e-mail: een@uvptechnicom.sk
URL:https://uvptechnicom.sk/event/matchmakingove-podujatie-jecworld-2023/
CATEGORIES:EEN podujatia,Kooperačné podujatia, veľtrhy, výstavy
ATTACH;FMTTYPE=image/png:https://uvptechnicom.sk/wp-content/uploads/2023/03/JECworld-2023.png
END:VEVENT
BEGIN:VEVENT
DTSTART;TZID=Europe/Bratislava:20230426T093000
DTEND;TZID=Europe/Bratislava:20230426T140000
DTSTAMP:20260424T064635
CREATED:20230317T133243Z
LAST-MODIFIED:20230319T195219Z
UID:27148-1682501400-1682517600@uvptechnicom.sk
SUMMARY:Partnerstvo v oblasti metrológie – inovatívne technológie pre výskum
DESCRIPTION:Košická regionálna komora SOPK a UVP Technicom ako partneri Enterprise Europe Network (www.een.sk) v spolupráci so Slovenským plastikárskym klastrom vás pozývajú na bezplatný odborný seminár Partnerstvo v oblasti metrológie – inovatívne technológie pre výskum a prax na európskej úrovni. \n\nMiesto konania:    Univerzitný vedecký park TECHNICOM\, TUKE\, Boženy Němcovej 5\, Košice\, Zasadacia miestnosť 001 + 002 (prízemie UVP TECHNICOM) \n\nTermín konania:    26.04.2023 (streda) \nOdborný garant:   odborní pracovníci z firmy Carl Zeiss Slovakia\, s.r.o. \n  \nEurópske partnerstvo v oblasti metrológie by malo plniť svoje poslanie a ciele jasným\, jednoduchým a pružným spôsobom s cieľom zvýšiť svoju atraktívnosť pre priemysel\, malé a stredné podniky a ostatné relevantné zainteresované strany. \nSeminár je určený technickým riaditeľom\, špecialistom z oblasti vývoja a výskumu\, technológom\, technikom kvality\, inžinierom kvality\, výrobným manažérom\, vedúcim údržby a iným špecialistom z automobilového priemyslu\, z firiem na výrobu výrobkov z plastov z nástrojární\, ale aj iných firiem z pridružených odvetví. \nFirma má v Trnave odborné Meracie a školiace centrum\, kde na ploche viac ako 300 m² ponúka širokú škálu technológii priemyselnej meracej techniky a jedinečné možnosti vzdelávania v oblasti metrológie. \n\n\n\n\nPROGRAM\n09:30Prezentácia projektu Enterprise Europe Network- podpora podnikania\, inovácií a technológií (SOPK + TUKE) \n09:40Partnerstvo v oblasti metrológie – kľúčový význam pre prax (SPK) \n09:50–14:00Odborné prednášky: \n\nMetrologický systém vzdelávania na európskej úrovni\nInovatívne technológie v oblasti automatizácie a inline merania\nVýskum a vývoj s priemyselnou mikroskopiou\nNová jedinečná technológia 3D skenovania\nMetodika vysokopresného a nedeštruktívneho CT merania\, analýzy porozity\, vlákien a defektoskopia\nPraktické ukážky meraní a technologické novinky\n\n\nPrijmite naše pozvanie a prihláste sa elektronicky TU. \nV prípade odborných otázok môžete kontaktovať: Kanceláriu Slovenského plastikárskeho klastra\, Tel.: 0903-909676\, E-mail: spklaster@spklaster.sk. \n\nKONTAKTY\nREGIONÁLNA KOMORA SOPK KOŠICE\, Bencúrova 13\, 040 01 KošiceUVP TECHNICOM\, B. Němcovej 5\, 042 00 KošiceSLOVENSKÝ PLASTIKÁRSKY KLASTER\, Novozámocká 117/222\, 949 05 Nitra-Dolné Krškany
URL:https://uvptechnicom.sk/event/partnerstvo-v-oblasti-metrologie-inovativne-technologie-pre-vyskum/
LOCATION:UVP TECHNICOM\, Boženy Němcovej 5\, Košice\, Slovakia (Slovak Republic)
CATEGORIES:EEN podujatia,Semináre, workshopy, tréningy,UVP a TUKE
ATTACH;FMTTYPE=image/jpeg:https://uvptechnicom.sk/wp-content/uploads/2023/03/hands-20333_1920-1.jpg
END:VEVENT
BEGIN:VEVENT
DTSTART;TZID=Europe/Bratislava:20230426T140000
DTEND;TZID=Europe/Bratislava:20230426T160000
DTSTAMP:20260424T064635
CREATED:20230316T132512Z
LAST-MODIFIED:20230322T102832Z
UID:27111-1682517600-1682524800@uvptechnicom.sk
SUMMARY:Biznis fórum
DESCRIPTION: 
URL:https://uvptechnicom.sk/event/biznis-forum-6/
LOCATION:UVP TECHNICOM a online\, Němcovej 5\, Košice\, Slovakia (Slovak Republic)
CATEGORIES:UVP a TUKE
ATTACH;FMTTYPE=image/jpeg:https://uvptechnicom.sk/wp-content/uploads/2023/03/Res_641318b365b40709445472.jpg
END:VEVENT
END:VCALENDAR